BEGIN:VCALENDAR
VERSION:2.0
PRODID:-//Obersteirische Rundschau - ECPv6.15.20//NONSGML v1.0//EN
CALSCALE:GREGORIAN
METHOD:PUBLISH
X-WR-CALNAME:Obersteirische Rundschau
X-ORIGINAL-URL:https://www.rundschau-medien.at
X-WR-CALDESC:Veranstaltungen für Obersteirische Rundschau
REFRESH-INTERVAL;VALUE=DURATION:PT1H
X-Robots-Tag:noindex
X-PUBLISHED-TTL:PT1H
BEGIN:VTIMEZONE
TZID:Europe/Vienna
BEGIN:DAYLIGHT
TZOFFSETFROM:+0100
TZOFFSETTO:+0200
TZNAME:CEST
DTSTART:20250330T010000
END:DAYLIGHT
BEGIN:STANDARD
TZOFFSETFROM:+0200
TZOFFSETTO:+0100
TZNAME:CET
DTSTART:20251026T010000
END:STANDARD
BEGIN:DAYLIGHT
TZOFFSETFROM:+0100
TZOFFSETTO:+0200
TZNAME:CEST
DTSTART:20260329T010000
END:DAYLIGHT
BEGIN:STANDARD
TZOFFSETFROM:+0200
TZOFFSETTO:+0100
TZNAME:CET
DTSTART:20261025T010000
END:STANDARD
BEGIN:DAYLIGHT
TZOFFSETFROM:+0100
TZOFFSETTO:+0200
TZNAME:CEST
DTSTART:20270328T010000
END:DAYLIGHT
BEGIN:STANDARD
TZOFFSETFROM:+0200
TZOFFSETTO:+0100
TZNAME:CET
DTSTART:20271031T010000
END:STANDARD
END:VTIMEZONE
BEGIN:VEVENT
DTSTART;TZID=Europe/Vienna:20260423T193000
DTEND;TZID=Europe/Vienna:20260423T193000
DTSTAMP:20260420T114712
CREATED:20260126T122055Z
LAST-MODIFIED:20260126T122055Z
UID:10000619-1776972600-1776972600@www.rundschau-medien.at
SUMMARY:"Rising Stars"
DESCRIPTION:Abokonzert mit jungen MusikerInnen des Meisterkurses „Gifted in Music“
URL:https://www.rundschau-medien.at/dil/rising-stars/
LOCATION:Spielraum Kapfenberg
CATEGORIES:Konzert
END:VEVENT
BEGIN:VEVENT
DTSTART;TZID=Europe/Vienna:20260425T190000
DTEND;TZID=Europe/Vienna:20260425T190000
DTSTAMP:20260420T114712
CREATED:20260409T133356Z
LAST-MODIFIED:20260409T133356Z
UID:10001906-1777143600-1777143600@www.rundschau-medien.at
SUMMARY:Frühlingskonzert
DESCRIPTION:mit der Stadtkapelle Kapfenberg
URL:https://www.rundschau-medien.at/dil/fruehlingskonzert-6/
LOCATION:Spielraum Kapfenberg
CATEGORIES:Konzert
END:VEVENT
BEGIN:VEVENT
DTSTART;TZID=Europe/Vienna:20260427T190000
DTEND;TZID=Europe/Vienna:20260427T190000
DTSTAMP:20260420T114712
CREATED:20260415T081421Z
LAST-MODIFIED:20260415T081421Z
UID:10001958-1777316400-1777316400@www.rundschau-medien.at
SUMMARY:"Kalender Girls"
DESCRIPTION:Theater mit der Schauspielklasse Corinna Harrer
URL:https://www.rundschau-medien.at/dil/kalender-girls/
LOCATION:Spielraum Kapfenberg
CATEGORIES:Theater
END:VEVENT
BEGIN:VEVENT
DTSTART;TZID=Europe/Vienna:20260508T190000
DTEND;TZID=Europe/Vienna:20260508T190000
DTSTAMP:20260420T114712
CREATED:20260331T155213Z
LAST-MODIFIED:20260331T155213Z
UID:10001717-1778266800-1778266800@www.rundschau-medien.at
SUMMARY:"Sonniges Plätzchen für zwei"
DESCRIPTION:Theater mit dem Teatro Santa Famiglia
URL:https://www.rundschau-medien.at/dil/sonniges-plaetzchen-fuer-zwei/2026-05-08/
LOCATION:Spielraum Kapfenberg
CATEGORIES:Theater
END:VEVENT
BEGIN:VEVENT
DTSTART;TZID=Europe/Vienna:20260509T190000
DTEND;TZID=Europe/Vienna:20260509T190000
DTSTAMP:20260420T114712
CREATED:20260331T155213Z
LAST-MODIFIED:20260331T155213Z
UID:10001718-1778353200-1778353200@www.rundschau-medien.at
SUMMARY:"Sonniges Plätzchen für zwei"
DESCRIPTION:Theater mit dem Teatro Santa Famiglia
URL:https://www.rundschau-medien.at/dil/sonniges-plaetzchen-fuer-zwei/2026-05-09/
LOCATION:Spielraum Kapfenberg
CATEGORIES:Theater
END:VEVENT
BEGIN:VEVENT
DTSTART;TZID=Europe/Vienna:20260510T160000
DTEND;TZID=Europe/Vienna:20260510T160000
DTSTAMP:20260420T114712
CREATED:20260331T155213Z
LAST-MODIFIED:20260331T155213Z
UID:10001719-1778428800-1778428800@www.rundschau-medien.at
SUMMARY:"Sonniges Plätzchen für zwei"
DESCRIPTION:Theater mit dem Teatro Santa Famiglia
URL:https://www.rundschau-medien.at/dil/sonniges-plaetzchen-fuer-zwei/2026-05-10/
LOCATION:Spielraum Kapfenberg
CATEGORIES:Theater
END:VEVENT
BEGIN:VEVENT
DTSTART;TZID=Europe/Vienna:20260521T193000
DTEND;TZID=Europe/Vienna:20260521T193000
DTSTAMP:20260420T114712
CREATED:20260126T144326Z
LAST-MODIFIED:20260126T144326Z
UID:10000644-1779391800-1779391800@www.rundschau-medien.at
SUMMARY:"Tropicana Nights"
DESCRIPTION:Abokonzert mit der Big Band Kapfenberg
URL:https://www.rundschau-medien.at/dil/tropicana-nights/
LOCATION:Spielraum Kapfenberg
CATEGORIES:Konzert
END:VEVENT
BEGIN:VEVENT
DTSTART;TZID=Europe/Vienna:20261001T193000
DTEND;TZID=Europe/Vienna:20261001T193000
DTSTAMP:20260420T114712
CREATED:20260128T112433Z
LAST-MODIFIED:20260128T112433Z
UID:10000751-1790883000-1790883000@www.rundschau-medien.at
SUMMARY:"Mosaik"
DESCRIPTION:Abokonzert mit LehrerInnen der Musikschule Kapfenberg
URL:https://www.rundschau-medien.at/dil/mosaik/
LOCATION:Spielraum Kapfenberg
CATEGORIES:Konzert
END:VEVENT
BEGIN:VEVENT
DTSTART;TZID=Europe/Vienna:20261203T193000
DTEND;TZID=Europe/Vienna:20261203T193000
DTSTAMP:20260420T114712
CREATED:20260128T120731Z
LAST-MODIFIED:20260128T120731Z
UID:10000777-1796326200-1796326200@www.rundschau-medien.at
SUMMARY:Konzert
DESCRIPTION:Abokonzert mit dem Oser-Steinrück-Quartett
URL:https://www.rundschau-medien.at/dil/konzert-15/
LOCATION:Spielraum Kapfenberg
CATEGORIES:Konzert
END:VEVENT
END:VCALENDAR