BEGIN:VCALENDAR
VERSION:2.0
PRODID:-//Obersteirische Rundschau - ECPv6.15.20//NONSGML v1.0//EN
CALSCALE:GREGORIAN
METHOD:PUBLISH
X-WR-CALNAME:Obersteirische Rundschau
X-ORIGINAL-URL:https://www.rundschau-medien.at
X-WR-CALDESC:Veranstaltungen für Obersteirische Rundschau
REFRESH-INTERVAL;VALUE=DURATION:PT1H
X-Robots-Tag:noindex
X-PUBLISHED-TTL:PT1H
BEGIN:VTIMEZONE
TZID:Europe/Vienna
BEGIN:DAYLIGHT
TZOFFSETFROM:+0100
TZOFFSETTO:+0200
TZNAME:CEST
DTSTART:20250330T010000
END:DAYLIGHT
BEGIN:STANDARD
TZOFFSETFROM:+0200
TZOFFSETTO:+0100
TZNAME:CET
DTSTART:20251026T010000
END:STANDARD
BEGIN:DAYLIGHT
TZOFFSETFROM:+0100
TZOFFSETTO:+0200
TZNAME:CEST
DTSTART:20260329T010000
END:DAYLIGHT
BEGIN:STANDARD
TZOFFSETFROM:+0200
TZOFFSETTO:+0100
TZNAME:CET
DTSTART:20261025T010000
END:STANDARD
BEGIN:DAYLIGHT
TZOFFSETFROM:+0100
TZOFFSETTO:+0200
TZNAME:CEST
DTSTART:20270328T010000
END:DAYLIGHT
BEGIN:STANDARD
TZOFFSETFROM:+0200
TZOFFSETTO:+0100
TZNAME:CET
DTSTART:20271031T010000
END:STANDARD
END:VTIMEZONE
BEGIN:VEVENT
DTSTART;TZID=Europe/Vienna:20260322T150000
DTEND;TZID=Europe/Vienna:20260322T150000
DTSTAMP:20260421T194609
CREATED:20260220T104708Z
LAST-MODIFIED:20260220T104708Z
UID:10001364-1774191600-1774191600@www.rundschau-medien.at
SUMMARY:"Wer ist im Bett mit dem Butler?"
DESCRIPTION:Boulevardkomödie mit der Pfarrtheatergruppe Allerheiligen-Mürzhofen
URL:https://www.rundschau-medien.at/dil/wer-ist-im-bett-mit-dem-butler-4/
LOCATION:Kulturhalle Allerheiligen\, Kindberg
CATEGORIES:Theater
END:VEVENT
BEGIN:VEVENT
DTSTART;TZID=Europe/Vienna:20260321T193000
DTEND;TZID=Europe/Vienna:20260321T193000
DTSTAMP:20260421T194609
CREATED:20260220T104604Z
LAST-MODIFIED:20260220T104604Z
UID:10001363-1774121400-1774121400@www.rundschau-medien.at
SUMMARY:"Wer ist im Bett mit dem Butler?"
DESCRIPTION:Boulevardkomödie mit der Pfarrtheatergruppe Allerheiligen-Mürzhofen
URL:https://www.rundschau-medien.at/dil/wer-ist-im-bett-mit-dem-butler-3/
LOCATION:Kulturhalle Allerheiligen\, Kindberg
CATEGORIES:Theater
END:VEVENT
BEGIN:VEVENT
DTSTART;TZID=Europe/Vienna:20260320T193000
DTEND;TZID=Europe/Vienna:20260320T193000
DTSTAMP:20260421T194609
CREATED:20260220T104453Z
LAST-MODIFIED:20260220T104453Z
UID:10001362-1774035000-1774035000@www.rundschau-medien.at
SUMMARY:"Wer ist im Bett mit dem Butler?"
DESCRIPTION:Boulevardkomödie mit der Pfarrtheatergruppe Allerheiligen-Mürzhofen
URL:https://www.rundschau-medien.at/dil/wer-ist-im-bett-mit-dem-butler-2/
LOCATION:Kulturhalle Allerheiligen\, Kindberg
CATEGORIES:Theater
END:VEVENT
END:VCALENDAR