BEGIN:VCALENDAR
VERSION:2.0
PRODID:-//Obersteirische Rundschau - ECPv6.15.20//NONSGML v1.0//EN
CALSCALE:GREGORIAN
METHOD:PUBLISH
X-ORIGINAL-URL:https://www.rundschau-medien.at
X-WR-CALDESC:Veranstaltungen für Obersteirische Rundschau
REFRESH-INTERVAL;VALUE=DURATION:PT1H
X-Robots-Tag:noindex
X-PUBLISHED-TTL:PT1H
BEGIN:VTIMEZONE
TZID:Europe/Vienna
BEGIN:DAYLIGHT
TZOFFSETFROM:+0100
TZOFFSETTO:+0200
TZNAME:CEST
DTSTART:20250330T010000
END:DAYLIGHT
BEGIN:STANDARD
TZOFFSETFROM:+0200
TZOFFSETTO:+0100
TZNAME:CET
DTSTART:20251026T010000
END:STANDARD
BEGIN:DAYLIGHT
TZOFFSETFROM:+0100
TZOFFSETTO:+0200
TZNAME:CEST
DTSTART:20260329T010000
END:DAYLIGHT
BEGIN:STANDARD
TZOFFSETFROM:+0200
TZOFFSETTO:+0100
TZNAME:CET
DTSTART:20261025T010000
END:STANDARD
BEGIN:DAYLIGHT
TZOFFSETFROM:+0100
TZOFFSETTO:+0200
TZNAME:CEST
DTSTART:20270328T010000
END:DAYLIGHT
BEGIN:STANDARD
TZOFFSETFROM:+0200
TZOFFSETTO:+0100
TZNAME:CET
DTSTART:20271031T010000
END:STANDARD
END:VTIMEZONE
BEGIN:VEVENT
DTSTART;TZID=Europe/Vienna:20260424T183000
DTEND;TZID=Europe/Vienna:20260424T183000
DTSTAMP:20260421T180922
CREATED:20260408T125311Z
LAST-MODIFIED:20260408T125311Z
UID:10001856-1777055400-1777055400@www.rundschau-medien.at
SUMMARY:Pubquiz
DESCRIPTION:
URL:https://www.rundschau-medien.at/dil/pubquiz-3/
LOCATION:Jugendzentrum Hot\, Mürzzuschlag
CATEGORIES:Hobby/Freizeit
END:VEVENT
BEGIN:VEVENT
DTSTART;TZID=Europe/Vienna:20260508T203000
DTEND;TZID=Europe/Vienna:20260508T203000
DTSTAMP:20260421T180922
CREATED:20260327T090213Z
LAST-MODIFIED:20260327T090213Z
UID:10001686-1778272200-1778272200@www.rundschau-medien.at
SUMMARY:Konzertabend "Mai Krawai"
DESCRIPTION:Am Freitag\, dem 8. Mai\, findet im Mürzer Jugendkulturzentrum HOT zum ersten Mal das „Mai Krawai“ statt. Auf der Bühne werden bei diesem Konzertabend die Gruppen „Bitterstoff“ und „The Beat Sepps“ stehen. Beginn ist um 20.30 Uhr. „Bitterstoff“ liefern Heavy Rock mit markanter Crossover- und Alternative-Note und „The Beat Sepps“ bringen mit ihrem Power Brass Rock eine Mischung aus Bläsern\, Groove und Bühnenpower auf die Bühne. Tickets sind per Mail an kontakt@bitterstoff.at\nerhältlich. \nDie Gruppe „Bitterstoff“ tritt am 8. Mai im Mürzer HOT auf. Foto: KK\n 
URL:https://www.rundschau-medien.at/dil/konzertabend-mai-krawai/
LOCATION:Jugendzentrum Hot\, Mürzzuschlag
CATEGORIES:Konzert
ATTACH;FMTTYPE=image/webp:https://www.rundschau-medien.at/wp-content/uploads/2026/03/Muerzzuschlag-The-Beat-Sepps-Presse-Bild.webp
END:VEVENT
BEGIN:VEVENT
DTSTART;TZID=Europe/Vienna:20260619T100000
DTEND;TZID=Europe/Vienna:20260619T100000
DTSTAMP:20260421T180922
CREATED:20260127T151949Z
LAST-MODIFIED:20260127T151949Z
UID:10000705-1781863200-1781863200@www.rundschau-medien.at
SUMMARY:Songwriterfestival
DESCRIPTION:
URL:https://www.rundschau-medien.at/dil/songwriterfestival/
LOCATION:Jugendzentrum Hot\, Mürzzuschlag
CATEGORIES:Konzert
END:VEVENT
BEGIN:VEVENT
DTSTART;TZID=Europe/Vienna:20260626T193000
DTEND;TZID=Europe/Vienna:20260626T193000
DTSTAMP:20260421T180922
CREATED:20260127T152640Z
LAST-MODIFIED:20260127T152640Z
UID:10000710-1782502200-1782502200@www.rundschau-medien.at
SUMMARY:"Don’t Stop the Music"
DESCRIPTION:Konzert mit den SängerInnen von Daniela Lenhart
URL:https://www.rundschau-medien.at/dil/dont-stop-the-music/
LOCATION:Jugendzentrum Hot\, Mürzzuschlag
CATEGORIES:Konzert
END:VEVENT
END:VCALENDAR