BEGIN:VCALENDAR
VERSION:2.0
PRODID:-//Obersteirische Rundschau - ECPv6.15.20//NONSGML v1.0//EN
CALSCALE:GREGORIAN
METHOD:PUBLISH
X-WR-CALNAME:Obersteirische Rundschau
X-ORIGINAL-URL:https://www.rundschau-medien.at
X-WR-CALDESC:Veranstaltungen für Obersteirische Rundschau
REFRESH-INTERVAL;VALUE=DURATION:PT1H
X-Robots-Tag:noindex
X-PUBLISHED-TTL:PT1H
BEGIN:VTIMEZONE
TZID:Europe/Vienna
BEGIN:DAYLIGHT
TZOFFSETFROM:+0100
TZOFFSETTO:+0200
TZNAME:CEST
DTSTART:20250330T010000
END:DAYLIGHT
BEGIN:STANDARD
TZOFFSETFROM:+0200
TZOFFSETTO:+0100
TZNAME:CET
DTSTART:20251026T010000
END:STANDARD
BEGIN:DAYLIGHT
TZOFFSETFROM:+0100
TZOFFSETTO:+0200
TZNAME:CEST
DTSTART:20260329T010000
END:DAYLIGHT
BEGIN:STANDARD
TZOFFSETFROM:+0200
TZOFFSETTO:+0100
TZNAME:CET
DTSTART:20261025T010000
END:STANDARD
BEGIN:DAYLIGHT
TZOFFSETFROM:+0100
TZOFFSETTO:+0200
TZNAME:CEST
DTSTART:20270328T010000
END:DAYLIGHT
BEGIN:STANDARD
TZOFFSETFROM:+0200
TZOFFSETTO:+0100
TZNAME:CET
DTSTART:20271031T010000
END:STANDARD
END:VTIMEZONE
BEGIN:VEVENT
DTSTART;TZID=Europe/Vienna:20260214T133000
DTEND;TZID=Europe/Vienna:20260214T133000
DTSTAMP:20260425T135621
CREATED:20260130T133723Z
LAST-MODIFIED:20260130T133723Z
UID:10000818-1771075800-1771075800@www.rundschau-medien.at
SUMMARY:Narrengipfel  und Faschingsparty
DESCRIPTION:Das Kulturreferat der Marktgemeinde Kammern lädt am Samstag\, dem 14. Februar\, zum 21. Liesingtaler Narrengipfel in die Hauptstraße und die Kirchgasse. Beginn der Veranstaltung ist um 13.30 Uhr. Anschließend steht im Heimatsaal eine Faschingsparty mit Livemusik von „Steirerpower“ auf dem Programm\, als Eintritt gilt eine freie Spende. \nFoto: Echtzeit
URL:https://www.rundschau-medien.at/dil/narrengipfel-und-faschingsparty/
LOCATION:Hauptstraße Kammern
CATEGORIES:Hobby/Freizeit
ATTACH;FMTTYPE=image/webp:https://www.rundschau-medien.at/wp-content/uploads/2026/01/Kammern-Narrengipfel-Echtzeit.webp
END:VEVENT
END:VCALENDAR