BEGIN:VCALENDAR
VERSION:2.0
PRODID:-//Obersteirische Rundschau - ECPv6.15.20//NONSGML v1.0//EN
CALSCALE:GREGORIAN
METHOD:PUBLISH
X-WR-CALNAME:Obersteirische Rundschau
X-ORIGINAL-URL:https://www.rundschau-medien.at
X-WR-CALDESC:Veranstaltungen für Obersteirische Rundschau
REFRESH-INTERVAL;VALUE=DURATION:PT1H
X-Robots-Tag:noindex
X-PUBLISHED-TTL:PT1H
BEGIN:VTIMEZONE
TZID:Europe/Vienna
BEGIN:DAYLIGHT
TZOFFSETFROM:+0100
TZOFFSETTO:+0200
TZNAME:CEST
DTSTART:20250330T010000
END:DAYLIGHT
BEGIN:STANDARD
TZOFFSETFROM:+0200
TZOFFSETTO:+0100
TZNAME:CET
DTSTART:20251026T010000
END:STANDARD
BEGIN:DAYLIGHT
TZOFFSETFROM:+0100
TZOFFSETTO:+0200
TZNAME:CEST
DTSTART:20260329T010000
END:DAYLIGHT
BEGIN:STANDARD
TZOFFSETFROM:+0200
TZOFFSETTO:+0100
TZNAME:CET
DTSTART:20261025T010000
END:STANDARD
BEGIN:DAYLIGHT
TZOFFSETFROM:+0100
TZOFFSETTO:+0200
TZNAME:CEST
DTSTART:20270328T010000
END:DAYLIGHT
BEGIN:STANDARD
TZOFFSETFROM:+0200
TZOFFSETTO:+0100
TZNAME:CET
DTSTART:20271031T010000
END:STANDARD
END:VTIMEZONE
BEGIN:VEVENT
DTSTART;TZID=Europe/Vienna:20260527T193000
DTEND;TZID=Europe/Vienna:20260527T193000
DTSTAMP:20260425T153736
CREATED:20260423T084740Z
LAST-MODIFIED:20260423T084740Z
UID:10002064-1779910200-1779910200@www.rundschau-medien.at
SUMMARY:"Das sündige Dorf"
DESCRIPTION:Theater mit dem Theaterverein Schrems
URL:https://www.rundschau-medien.at/dil/das-suendige-dorf/2026-05-27/
LOCATION:Frelluftbühne Landhaus Rois\, Frohnleiten
CATEGORIES:Theater
END:VEVENT
BEGIN:VEVENT
DTSTART;TZID=Europe/Vienna:20260529T193000
DTEND;TZID=Europe/Vienna:20260529T193000
DTSTAMP:20260425T153736
CREATED:20260423T084740Z
LAST-MODIFIED:20260423T084740Z
UID:10002065-1780083000-1780083000@www.rundschau-medien.at
SUMMARY:"Das sündige Dorf"
DESCRIPTION:Theater mit dem Theaterverein Schrems
URL:https://www.rundschau-medien.at/dil/das-suendige-dorf/2026-05-29/
LOCATION:Frelluftbühne Landhaus Rois\, Frohnleiten
CATEGORIES:Theater
END:VEVENT
BEGIN:VEVENT
DTSTART;TZID=Europe/Vienna:20260531T180000
DTEND;TZID=Europe/Vienna:20260531T180000
DTSTAMP:20260425T153736
CREATED:20260423T084740Z
LAST-MODIFIED:20260423T084740Z
UID:10002066-1780250400-1780250400@www.rundschau-medien.at
SUMMARY:"Das sündige Dorf"
DESCRIPTION:Theater mit dem Theaterverein Schrems
URL:https://www.rundschau-medien.at/dil/das-suendige-dorf/2026-05-31/
LOCATION:Frelluftbühne Landhaus Rois\, Frohnleiten
CATEGORIES:Theater
END:VEVENT
BEGIN:VEVENT
DTSTART;TZID=Europe/Vienna:20260603T193000
DTEND;TZID=Europe/Vienna:20260603T193000
DTSTAMP:20260425T153736
CREATED:20260423T084740Z
LAST-MODIFIED:20260423T084740Z
UID:10002067-1780515000-1780515000@www.rundschau-medien.at
SUMMARY:"Das sündige Dorf"
DESCRIPTION:Theater mit dem Theaterverein Schrems
URL:https://www.rundschau-medien.at/dil/das-suendige-dorf/2026-06-03/
LOCATION:Frelluftbühne Landhaus Rois\, Frohnleiten
CATEGORIES:Theater
END:VEVENT
BEGIN:VEVENT
DTSTART;TZID=Europe/Vienna:20260604T180000
DTEND;TZID=Europe/Vienna:20260604T180000
DTSTAMP:20260425T153736
CREATED:20260423T084740Z
LAST-MODIFIED:20260423T084740Z
UID:10002068-1780596000-1780596000@www.rundschau-medien.at
SUMMARY:"Das sündige Dorf"
DESCRIPTION:Theater mit dem Theaterverein Schrems
URL:https://www.rundschau-medien.at/dil/das-suendige-dorf/2026-06-04/
LOCATION:Frelluftbühne Landhaus Rois\, Frohnleiten
CATEGORIES:Theater
END:VEVENT
BEGIN:VEVENT
DTSTART;TZID=Europe/Vienna:20260605T193000
DTEND;TZID=Europe/Vienna:20260605T193000
DTSTAMP:20260425T153736
CREATED:20260423T084740Z
LAST-MODIFIED:20260423T084740Z
UID:10002069-1780687800-1780687800@www.rundschau-medien.at
SUMMARY:"Das sündige Dorf"
DESCRIPTION:Theater mit dem Theaterverein Schrems
URL:https://www.rundschau-medien.at/dil/das-suendige-dorf/2026-06-05/
LOCATION:Frelluftbühne Landhaus Rois\, Frohnleiten
CATEGORIES:Theater
END:VEVENT
BEGIN:VEVENT
DTSTART;TZID=Europe/Vienna:20260607T180000
DTEND;TZID=Europe/Vienna:20260607T180000
DTSTAMP:20260425T153736
CREATED:20260423T084740Z
LAST-MODIFIED:20260423T084740Z
UID:10002070-1780855200-1780855200@www.rundschau-medien.at
SUMMARY:"Das sündige Dorf"
DESCRIPTION:Theater mit dem Theaterverein Schrems
URL:https://www.rundschau-medien.at/dil/das-suendige-dorf/2026-06-07/
LOCATION:Frelluftbühne Landhaus Rois\, Frohnleiten
CATEGORIES:Theater
END:VEVENT
END:VCALENDAR