BEGIN:VCALENDAR
VERSION:2.0
PRODID:-//Obersteirische Rundschau - ECPv6.15.20//NONSGML v1.0//EN
CALSCALE:GREGORIAN
METHOD:PUBLISH
X-ORIGINAL-URL:https://www.rundschau-medien.at
X-WR-CALDESC:Veranstaltungen für Obersteirische Rundschau
REFRESH-INTERVAL;VALUE=DURATION:PT1H
X-Robots-Tag:noindex
X-PUBLISHED-TTL:PT1H
BEGIN:VTIMEZONE
TZID:Europe/Vienna
BEGIN:DAYLIGHT
TZOFFSETFROM:+0100
TZOFFSETTO:+0200
TZNAME:CEST
DTSTART:20250330T010000
END:DAYLIGHT
BEGIN:STANDARD
TZOFFSETFROM:+0200
TZOFFSETTO:+0100
TZNAME:CET
DTSTART:20251026T010000
END:STANDARD
BEGIN:DAYLIGHT
TZOFFSETFROM:+0100
TZOFFSETTO:+0200
TZNAME:CEST
DTSTART:20260329T010000
END:DAYLIGHT
BEGIN:STANDARD
TZOFFSETFROM:+0200
TZOFFSETTO:+0100
TZNAME:CET
DTSTART:20261025T010000
END:STANDARD
BEGIN:DAYLIGHT
TZOFFSETFROM:+0100
TZOFFSETTO:+0200
TZNAME:CEST
DTSTART:20270328T010000
END:DAYLIGHT
BEGIN:STANDARD
TZOFFSETFROM:+0200
TZOFFSETTO:+0100
TZNAME:CET
DTSTART:20271031T010000
END:STANDARD
END:VTIMEZONE
BEGIN:VEVENT
DTSTART;TZID=Europe/Vienna:20260418T190000
DTEND;TZID=Europe/Vienna:20260418T190000
DTSTAMP:20260425T185954
CREATED:20260401T111418Z
LAST-MODIFIED:20260401T111418Z
UID:10001733-1776538800-1776538800@www.rundschau-medien.at
SUMMARY:Aprilhüttengaude
DESCRIPTION:
URL:https://www.rundschau-medien.at/dil/aprilhuettengaude/
LOCATION:Bartelbauerhütte Mariazell
CATEGORIES:Gesellschaft
END:VEVENT
BEGIN:VEVENT
DTSTART;TZID=Europe/Vienna:20260411T200000
DTEND;TZID=Europe/Vienna:20260411T200000
DTSTAMP:20260425T185954
CREATED:20260318T120215Z
LAST-MODIFIED:20260318T120215Z
UID:10001600-1775937600-1775937600@www.rundschau-medien.at
SUMMARY:Retroparty
DESCRIPTION:
URL:https://www.rundschau-medien.at/dil/retroparty/
LOCATION:Bartelbauerhütte Mariazell
CATEGORIES:Gesellschaft
END:VEVENT
BEGIN:VEVENT
DTSTART;TZID=Europe/Vienna:20260406T140000
DTEND;TZID=Europe/Vienna:20260406T140000
DTSTAMP:20260425T185954
CREATED:20260401T110806Z
LAST-MODIFIED:20260401T110806Z
UID:10001731-1775484000-1775484000@www.rundschau-medien.at
SUMMARY:Ostermontagsgaude
DESCRIPTION:
URL:https://www.rundschau-medien.at/dil/ostermontagsgaude/
LOCATION:Bartelbauerhütte Mariazell
CATEGORIES:Gesellschaft
END:VEVENT
BEGIN:VEVENT
DTSTART;TZID=Europe/Vienna:20260404T190000
DTEND;TZID=Europe/Vienna:20260404T190000
DTSTAMP:20260425T185954
CREATED:20260326T133952Z
LAST-MODIFIED:20260326T133952Z
UID:10001680-1775329200-1775329200@www.rundschau-medien.at
SUMMARY:Osterhüttengaude
DESCRIPTION:
URL:https://www.rundschau-medien.at/dil/osterhuettengaude/
LOCATION:Bartelbauerhütte Mariazell
CATEGORIES:Gesellschaft
END:VEVENT
BEGIN:VEVENT
DTSTART;TZID=Europe/Vienna:20260217T150000
DTEND;TZID=Europe/Vienna:20260217T150000
DTSTAMP:20260425T185954
CREATED:20260211T123234Z
LAST-MODIFIED:20260211T123234Z
UID:10000934-1771340400-1771340400@www.rundschau-medien.at
SUMMARY:Faschings-Rambazamba
DESCRIPTION:mit Deejay M.D.A.
URL:https://www.rundschau-medien.at/dil/faschings-rambazamba/
LOCATION:Bartelbauerhütte Mariazell
CATEGORIES:Gesellschaft
END:VEVENT
BEGIN:VEVENT
DTSTART;TZID=Europe/Vienna:20260214T190000
DTEND;TZID=Europe/Vienna:20260214T190000
DTSTAMP:20260425T185954
CREATED:20260204T105433Z
LAST-MODIFIED:20260204T105433Z
UID:10000838-1771095600-1771095600@www.rundschau-medien.at
SUMMARY:Faschingsparty
DESCRIPTION:
URL:https://www.rundschau-medien.at/dil/faschingsparty-8/
LOCATION:Bartelbauerhütte Mariazell
CATEGORIES:Gesellschaft
END:VEVENT
END:VCALENDAR