BEGIN:VCALENDAR
VERSION:2.0
PRODID:-//Obersteirische Rundschau - ECPv6.15.20//NONSGML v1.0//EN
CALSCALE:GREGORIAN
METHOD:PUBLISH
X-WR-CALNAME:Obersteirische Rundschau
X-ORIGINAL-URL:https://www.rundschau-medien.at
X-WR-CALDESC:Veranstaltungen für Obersteirische Rundschau
REFRESH-INTERVAL;VALUE=DURATION:PT1H
X-Robots-Tag:noindex
X-PUBLISHED-TTL:PT1H
BEGIN:VTIMEZONE
TZID:Europe/Vienna
BEGIN:DAYLIGHT
TZOFFSETFROM:+0100
TZOFFSETTO:+0200
TZNAME:CEST
DTSTART:20250330T010000
END:DAYLIGHT
BEGIN:STANDARD
TZOFFSETFROM:+0200
TZOFFSETTO:+0100
TZNAME:CET
DTSTART:20251026T010000
END:STANDARD
BEGIN:DAYLIGHT
TZOFFSETFROM:+0100
TZOFFSETTO:+0200
TZNAME:CEST
DTSTART:20260329T010000
END:DAYLIGHT
BEGIN:STANDARD
TZOFFSETFROM:+0200
TZOFFSETTO:+0100
TZNAME:CET
DTSTART:20261025T010000
END:STANDARD
BEGIN:DAYLIGHT
TZOFFSETFROM:+0100
TZOFFSETTO:+0200
TZNAME:CEST
DTSTART:20270328T010000
END:DAYLIGHT
BEGIN:STANDARD
TZOFFSETFROM:+0200
TZOFFSETTO:+0100
TZNAME:CET
DTSTART:20271031T010000
END:STANDARD
END:VTIMEZONE
BEGIN:VEVENT
DTSTART;TZID=Europe/Vienna:20260421T070000
DTEND;TZID=Europe/Vienna:20260421T120000
DTSTAMP:20260421T124645
CREATED:20260211T101053Z
LAST-MODIFIED:20260211T101053Z
UID:10000910-1776754800-1776772800@www.rundschau-medien.at
SUMMARY:Bauernmarkt
DESCRIPTION:
URL:https://www.rundschau-medien.at/dil/bauernmarkt-35/
LOCATION:Kirchplatz Leoben
CATEGORIES:Markt
END:VEVENT
BEGIN:VEVENT
DTSTART;TZID=Europe/Vienna:20260421T183000
DTEND;TZID=Europe/Vienna:20260421T183000
DTSTAMP:20260421T124645
CREATED:20260227T100319Z
LAST-MODIFIED:20260227T100319Z
UID:10001453-1776796200-1776796200@www.rundschau-medien.at
SUMMARY:Volkstanzen und Schuhplatteln
DESCRIPTION:für Paare und Singles
URL:https://www.rundschau-medien.at/dil/volkstanzen-und-schuhplatteln-6/
LOCATION:Heimatverein Maderecker Bruck an der Mur\, Lichtensteinstraße 8
CATEGORIES:Hobby/Freizeit
END:VEVENT
BEGIN:VEVENT
DTSTART;TZID=Europe/Vienna:20260421T183000
DTEND;TZID=Europe/Vienna:20260421T183000
DTSTAMP:20260421T124645
CREATED:20260324T134829Z
LAST-MODIFIED:20260324T134829Z
UID:10001654-1776796200-1776796200@www.rundschau-medien.at
SUMMARY:"Hinter den Kulissen"
DESCRIPTION:Führung mit Einblick in das Depot des Museumscenters Leoben
URL:https://www.rundschau-medien.at/dil/hinter-den-kulissen/
LOCATION:Kulturquartier Leoben
CATEGORIES:Hobby/Freizeit
END:VEVENT
BEGIN:VEVENT
DTSTART;TZID=Europe/Vienna:20260421T190000
DTEND;TZID=Europe/Vienna:20260421T190000
DTSTAMP:20260421T124645
CREATED:20260304T142233Z
LAST-MODIFIED:20260304T142233Z
UID:10001507-1776798000-1776798000@www.rundschau-medien.at
SUMMARY:Filmabend
DESCRIPTION:Besprechung österreichischer Videos
URL:https://www.rundschau-medien.at/dil/filmabend-5/
LOCATION:Filmklublokal Volksschule Redfeld\, Kapfenberg
CATEGORIES:Hobby/Freizeit
END:VEVENT
BEGIN:VEVENT
DTSTART;TZID=Europe/Vienna:20260421T190000
DTEND;TZID=Europe/Vienna:20260421T190000
DTSTAMP:20260421T124645
CREATED:20260330T080015Z
LAST-MODIFIED:20260330T080015Z
UID:10001705-1776798000-1776798000@www.rundschau-medien.at
SUMMARY:"Künstliche Intelligenz im Alltag"
DESCRIPTION:Vortrag des katholischen Bildungswerks
URL:https://www.rundschau-medien.at/dil/kuenstliche-intelligenz-im-alltag/
LOCATION:Pfarrsaal Krieglach
CATEGORIES:Vortrag
END:VEVENT
END:VCALENDAR