BEGIN:VCALENDAR
VERSION:2.0
PRODID:-//Obersteirische Rundschau - ECPv6.15.20//NONSGML v1.0//EN
CALSCALE:GREGORIAN
METHOD:PUBLISH
X-ORIGINAL-URL:https://www.rundschau-medien.at
X-WR-CALDESC:Veranstaltungen für Obersteirische Rundschau
REFRESH-INTERVAL;VALUE=DURATION:PT1H
X-Robots-Tag:noindex
X-PUBLISHED-TTL:PT1H
BEGIN:VTIMEZONE
TZID:Europe/Vienna
BEGIN:DAYLIGHT
TZOFFSETFROM:+0100
TZOFFSETTO:+0200
TZNAME:CEST
DTSTART:20250330T010000
END:DAYLIGHT
BEGIN:STANDARD
TZOFFSETFROM:+0200
TZOFFSETTO:+0100
TZNAME:CET
DTSTART:20251026T010000
END:STANDARD
BEGIN:DAYLIGHT
TZOFFSETFROM:+0100
TZOFFSETTO:+0200
TZNAME:CEST
DTSTART:20260329T010000
END:DAYLIGHT
BEGIN:STANDARD
TZOFFSETFROM:+0200
TZOFFSETTO:+0100
TZNAME:CET
DTSTART:20261025T010000
END:STANDARD
BEGIN:DAYLIGHT
TZOFFSETFROM:+0100
TZOFFSETTO:+0200
TZNAME:CEST
DTSTART:20270328T010000
END:DAYLIGHT
BEGIN:STANDARD
TZOFFSETFROM:+0200
TZOFFSETTO:+0100
TZNAME:CET
DTSTART:20271031T010000
END:STANDARD
END:VTIMEZONE
BEGIN:VEVENT
DTSTART;TZID=Europe/Vienna:20260909T060000
DTEND;TZID=Europe/Vienna:20260909T120000
DTSTAMP:20260425T173402
CREATED:20260408T090419Z
LAST-MODIFIED:20260408T090419Z
UID:10001765-1788933600-1788955200@www.rundschau-medien.at
SUMMARY:Brucker Wochenmarkt
DESCRIPTION:
URL:https://www.rundschau-medien.at/dil/brucker-wochenmarkt-2/2026-09-09/
LOCATION:Hauptplatz Bruck an der Mur
CATEGORIES:Markt
END:VEVENT
BEGIN:VEVENT
DTSTART;TZID=Europe/Vienna:20260909T130000
DTEND;TZID=Europe/Vienna:20260909T180000
DTSTAMP:20260425T173402
CREATED:20260408T111704Z
LAST-MODIFIED:20260408T111704Z
UID:10001829-1788958800-1788976800@www.rundschau-medien.at
SUMMARY:Flohmarkt
DESCRIPTION:Die Behindertenhilfe Krieglach betreibt den größten ständigen Flohmarkt im Mürztal. Mit dem Erlös werden behinderte\, kranke und arme Menschen unterstützt.
URL:https://www.rundschau-medien.at/dil/flohmarkt-26/2026-09-09/
LOCATION:Behindertenhilfe Krieglach\, Grazer Straße 79\, Krieglach\, 8670
CATEGORIES:Markt
END:VEVENT
BEGIN:VEVENT
DTSTART;TZID=Europe/Vienna:20260909T150000
DTEND;TZID=Europe/Vienna:20260909T150000
DTSTAMP:20260425T173402
CREATED:20260408T110509Z
LAST-MODIFIED:20260408T110509Z
UID:10001782-1788966000-1788966000@www.rundschau-medien.at
SUMMARY:Handarbeitsrunde
DESCRIPTION:mit den VP-Frauen Langenwang
URL:https://www.rundschau-medien.at/dil/handarbeitsrunde/2026-09-09/
LOCATION:Pfadfinderheim Langenwang
CATEGORIES:Hobby/Freizeit
END:VEVENT
BEGIN:VEVENT
DTSTART;TZID=Europe/Vienna:20260910T180000
DTEND;TZID=Europe/Vienna:20260910T180000
DTSTAMP:20260425T173402
CREATED:20260408T112149Z
LAST-MODIFIED:20260408T112149Z
UID:10001849-1789063200-1789063200@www.rundschau-medien.at
SUMMARY:Nordic-Walking-Runde
DESCRIPTION:Info und Anmeldung unter 0681/10300608
URL:https://www.rundschau-medien.at/dil/nordic-walking-runde-2/2026-09-10/
LOCATION:Funcourt Spital am Semmering
CATEGORIES:Hobby/Freizeit
END:VEVENT
BEGIN:VEVENT
DTSTART;TZID=Europe/Vienna:20260911T130000
DTEND;TZID=Europe/Vienna:20260911T180000
DTSTAMP:20260425T173402
CREATED:20260408T111704Z
LAST-MODIFIED:20260408T111704Z
UID:10001830-1789131600-1789149600@www.rundschau-medien.at
SUMMARY:Flohmarkt
DESCRIPTION:Die Behindertenhilfe Krieglach betreibt den größten ständigen Flohmarkt im Mürztal. Mit dem Erlös werden behinderte\, kranke und arme Menschen unterstützt.
URL:https://www.rundschau-medien.at/dil/flohmarkt-26/2026-09-11/
LOCATION:Behindertenhilfe Krieglach\, Grazer Straße 79\, Krieglach\, 8670
CATEGORIES:Markt
END:VEVENT
BEGIN:VEVENT
DTSTART;TZID=Europe/Vienna:20260911T190000
DTEND;TZID=Europe/Vienna:20260911T190000
DTSTAMP:20260425T173402
CREATED:20260316T115505Z
LAST-MODIFIED:20260316T115505Z
UID:10001587-1789153200-1789153200@www.rundschau-medien.at
SUMMARY:"Die gewürzige Tour"
DESCRIPTION:Nachtwächterführung mit Helga Papst\, Info und Anmeldung unter 0664/73524688 oder helga.papst@gmx.at
URL:https://www.rundschau-medien.at/dil/die-gewuerzige-tour/2026-09-11/
LOCATION:Pestsäule Hauptplatz Bruck an der Mur
CATEGORIES:Kultur
END:VEVENT
BEGIN:VEVENT
DTSTART;TZID=Europe/Vienna:20260912T060000
DTEND;TZID=Europe/Vienna:20260912T120000
DTSTAMP:20260425T173402
CREATED:20260408T090419Z
LAST-MODIFIED:20260408T090419Z
UID:10001766-1789192800-1789214400@www.rundschau-medien.at
SUMMARY:Brucker Wochenmarkt
DESCRIPTION:
URL:https://www.rundschau-medien.at/dil/brucker-wochenmarkt-2/2026-09-12/
LOCATION:Hauptplatz Bruck an der Mur
CATEGORIES:Markt
END:VEVENT
BEGIN:VEVENT
DTSTART;TZID=Europe/Vienna:20260912T085000
DTEND;TZID=Europe/Vienna:20260912T085000
DTSTAMP:20260425T173402
CREATED:20260313T100641Z
LAST-MODIFIED:20260313T100641Z
UID:10001571-1789203000-1789203000@www.rundschau-medien.at
SUMMARY:Wanderung "Sieben Quellen und Knappensteig"
DESCRIPTION:Info und Anmeldung unter 0664/3977514
URL:https://www.rundschau-medien.at/dil/wanderung-sieben-quellen-und-knappensteig/2026-09-12/
LOCATION:Bushaltestelle Krampen
CATEGORIES:Hobby/Freizeit
END:VEVENT
BEGIN:VEVENT
DTSTART;TZID=Europe/Vienna:20260912T140000
DTEND;TZID=Europe/Vienna:20260912T140000
DTSTAMP:20260425T173402
CREATED:20260408T110946Z
LAST-MODIFIED:20260408T110946Z
UID:10001796-1789221600-1789221600@www.rundschau-medien.at
SUMMARY:Jugendstunden
DESCRIPTION:Heimstunden der Pfadfinder Langenwang
URL:https://www.rundschau-medien.at/dil/jugendstunden/2026-09-12/
LOCATION:Pfadfinderheim Langenwang
CATEGORIES:Kinder/Jugend
END:VEVENT
BEGIN:VEVENT
DTSTART;TZID=Europe/Vienna:20260913T060000
DTEND;TZID=Europe/Vienna:20260913T130000
DTSTAMP:20260425T173402
CREATED:20260227T112822Z
LAST-MODIFIED:20260227T112822Z
UID:10001468-1789279200-1789304400@www.rundschau-medien.at
SUMMARY:Flohmarkt
DESCRIPTION:
URL:https://www.rundschau-medien.at/dil/flohmarkt-16/
LOCATION:Interspar Kapfenberg
CATEGORIES:Markt
END:VEVENT
BEGIN:VEVENT
DTSTART;TZID=Europe/Vienna:20260913T100000
DTEND;TZID=Europe/Vienna:20260913T100000
DTSTAMP:20260425T173402
CREATED:20260128T111303Z
LAST-MODIFIED:20260128T111303Z
UID:10000743-1789293600-1789293600@www.rundschau-medien.at
SUMMARY:Erntedankfest
DESCRIPTION:
URL:https://www.rundschau-medien.at/dil/erntedankfest/
LOCATION:Gstottmoar-Kapelle\, Kammern
CATEGORIES:Gesellschaft
END:VEVENT
BEGIN:VEVENT
DTSTART;TZID=Europe/Vienna:20260913T140000
DTEND;TZID=Europe/Vienna:20260913T140000
DTSTAMP:20260425T173402
CREATED:20260421T122229Z
LAST-MODIFIED:20260421T122229Z
UID:10002040-1789308000-1789308000@www.rundschau-medien.at
SUMMARY:Konzert
DESCRIPTION:mit der Postmusik Graz und der Stadtmusikkapelle Eisenerz
URL:https://www.rundschau-medien.at/dil/konzert-62/
LOCATION:Hauptplatz Leoben
CATEGORIES:Konzert
END:VEVENT
BEGIN:VEVENT
DTSTART;TZID=Europe/Vienna:20260914T130000
DTEND;TZID=Europe/Vienna:20260914T180000
DTSTAMP:20260425T173402
CREATED:20260408T111704Z
LAST-MODIFIED:20260408T111704Z
UID:10001831-1789390800-1789408800@www.rundschau-medien.at
SUMMARY:Flohmarkt
DESCRIPTION:Die Behindertenhilfe Krieglach betreibt den größten ständigen Flohmarkt im Mürztal. Mit dem Erlös werden behinderte\, kranke und arme Menschen unterstützt.
URL:https://www.rundschau-medien.at/dil/flohmarkt-26/2026-09-14/
LOCATION:Behindertenhilfe Krieglach\, Grazer Straße 79\, Krieglach\, 8670
CATEGORIES:Markt
END:VEVENT
BEGIN:VEVENT
DTSTART;TZID=Europe/Vienna:20260916T060000
DTEND;TZID=Europe/Vienna:20260916T120000
DTSTAMP:20260425T173402
CREATED:20260408T090419Z
LAST-MODIFIED:20260408T090419Z
UID:10001767-1789538400-1789560000@www.rundschau-medien.at
SUMMARY:Brucker Wochenmarkt
DESCRIPTION:
URL:https://www.rundschau-medien.at/dil/brucker-wochenmarkt-2/2026-09-16/
LOCATION:Hauptplatz Bruck an der Mur
CATEGORIES:Markt
END:VEVENT
BEGIN:VEVENT
DTSTART;TZID=Europe/Vienna:20260916T090000
DTEND;TZID=Europe/Vienna:20260916T100000
DTSTAMP:20260425T173402
CREATED:20260128T111516Z
LAST-MODIFIED:20260128T111516Z
UID:10000745-1789549200-1789552800@www.rundschau-medien.at
SUMMARY:Zwergerltreff
DESCRIPTION:
URL:https://www.rundschau-medien.at/dil/zwergerltreff-6/
LOCATION:Pfarrbibliothek Krieglach
CATEGORIES:Kinder/Jugend
END:VEVENT
BEGIN:VEVENT
DTSTART;TZID=Europe/Vienna:20260916T130000
DTEND;TZID=Europe/Vienna:20260916T180000
DTSTAMP:20260425T173402
CREATED:20260408T111704Z
LAST-MODIFIED:20260408T111704Z
UID:10001832-1789563600-1789581600@www.rundschau-medien.at
SUMMARY:Flohmarkt
DESCRIPTION:Die Behindertenhilfe Krieglach betreibt den größten ständigen Flohmarkt im Mürztal. Mit dem Erlös werden behinderte\, kranke und arme Menschen unterstützt.
URL:https://www.rundschau-medien.at/dil/flohmarkt-26/2026-09-16/
LOCATION:Behindertenhilfe Krieglach\, Grazer Straße 79\, Krieglach\, 8670
CATEGORIES:Markt
END:VEVENT
BEGIN:VEVENT
DTSTART;TZID=Europe/Vienna:20260916T140000
DTEND;TZID=Europe/Vienna:20260916T140000
DTSTAMP:20260425T173402
CREATED:20260128T111411Z
LAST-MODIFIED:20260128T111411Z
UID:10000744-1789567200-1789567200@www.rundschau-medien.at
SUMMARY:Pensionistennachmittag
DESCRIPTION:mit dem Pensionistenverband
URL:https://www.rundschau-medien.at/dil/pensionistennachmittag-17/
LOCATION:Kinderfreundeheim Kammern
CATEGORIES:Gesellschaft
END:VEVENT
BEGIN:VEVENT
DTSTART;TZID=Europe/Vienna:20260916T150000
DTEND;TZID=Europe/Vienna:20260916T150000
DTSTAMP:20260425T173402
CREATED:20260408T110509Z
LAST-MODIFIED:20260408T110509Z
UID:10001783-1789570800-1789570800@www.rundschau-medien.at
SUMMARY:Handarbeitsrunde
DESCRIPTION:mit den VP-Frauen Langenwang
URL:https://www.rundschau-medien.at/dil/handarbeitsrunde/2026-09-16/
LOCATION:Pfadfinderheim Langenwang
CATEGORIES:Hobby/Freizeit
END:VEVENT
BEGIN:VEVENT
DTSTART;TZID=Europe/Vienna:20260917T180000
DTEND;TZID=Europe/Vienna:20260917T180000
DTSTAMP:20260425T173402
CREATED:20260408T112149Z
LAST-MODIFIED:20260408T112149Z
UID:10001850-1789668000-1789668000@www.rundschau-medien.at
SUMMARY:Nordic-Walking-Runde
DESCRIPTION:Info und Anmeldung unter 0681/10300608
URL:https://www.rundschau-medien.at/dil/nordic-walking-runde-2/2026-09-17/
LOCATION:Funcourt Spital am Semmering
CATEGORIES:Hobby/Freizeit
END:VEVENT
BEGIN:VEVENT
DTSTART;TZID=Europe/Vienna:20260918T130000
DTEND;TZID=Europe/Vienna:20260918T180000
DTSTAMP:20260425T173402
CREATED:20260408T111704Z
LAST-MODIFIED:20260408T111704Z
UID:10001833-1789736400-1789754400@www.rundschau-medien.at
SUMMARY:Flohmarkt
DESCRIPTION:Die Behindertenhilfe Krieglach betreibt den größten ständigen Flohmarkt im Mürztal. Mit dem Erlös werden behinderte\, kranke und arme Menschen unterstützt.
URL:https://www.rundschau-medien.at/dil/flohmarkt-26/2026-09-18/
LOCATION:Behindertenhilfe Krieglach\, Grazer Straße 79\, Krieglach\, 8670
CATEGORIES:Markt
END:VEVENT
BEGIN:VEVENT
DTSTART;TZID=Europe/Vienna:20260919T060000
DTEND;TZID=Europe/Vienna:20260919T120000
DTSTAMP:20260425T173402
CREATED:20260408T090419Z
LAST-MODIFIED:20260408T090419Z
UID:10001768-1789797600-1789819200@www.rundschau-medien.at
SUMMARY:Brucker Wochenmarkt
DESCRIPTION:
URL:https://www.rundschau-medien.at/dil/brucker-wochenmarkt-2/2026-09-19/
LOCATION:Hauptplatz Bruck an der Mur
CATEGORIES:Markt
END:VEVENT
BEGIN:VEVENT
DTSTART;TZID=Europe/Vienna:20260919T090000
DTEND;TZID=Europe/Vienna:20260919T090000
DTSTAMP:20260425T173402
CREATED:20260128T111703Z
LAST-MODIFIED:20260128T111703Z
UID:10000746-1789808400-1789808400@www.rundschau-medien.at
SUMMARY:Klettertour auf dem Klettersteig Südwandband
DESCRIPTION:Zweitagestour mit den Naturfreunden Mürzhofen\, Info und Anmeldung bis 4. September unter 0664/1778605
URL:https://www.rundschau-medien.at/dil/klettertour-auf-dem-klettersteig-suedwandband/
LOCATION:Dorfplatz Mürzhofen\, Kindberg
CATEGORIES:Hobby/Freizeit
END:VEVENT
BEGIN:VEVENT
DTSTART;TZID=Europe/Vienna:20260919T140000
DTEND;TZID=Europe/Vienna:20260919T140000
DTSTAMP:20260425T173402
CREATED:20260408T110946Z
LAST-MODIFIED:20260408T110946Z
UID:10001797-1789826400-1789826400@www.rundschau-medien.at
SUMMARY:Jugendstunden
DESCRIPTION:Heimstunden der Pfadfinder Langenwang
URL:https://www.rundschau-medien.at/dil/jugendstunden/2026-09-19/
LOCATION:Pfadfinderheim Langenwang
CATEGORIES:Kinder/Jugend
END:VEVENT
BEGIN:VEVENT
DTSTART;TZID=Europe/Vienna:20260920T060000
DTEND;TZID=Europe/Vienna:20260920T130000
DTSTAMP:20260425T173402
CREATED:20260227T114023Z
LAST-MODIFIED:20260227T114023Z
UID:10001469-1789884000-1789909200@www.rundschau-medien.at
SUMMARY:Flohmarkt
DESCRIPTION:
URL:https://www.rundschau-medien.at/dil/flohmarkt-17/
LOCATION:Interspar Kapfenberg
CATEGORIES:Markt
END:VEVENT
BEGIN:VEVENT
DTSTART;TZID=Europe/Vienna:20260921T130000
DTEND;TZID=Europe/Vienna:20260921T180000
DTSTAMP:20260425T173402
CREATED:20260408T111704Z
LAST-MODIFIED:20260408T111704Z
UID:10001834-1789995600-1790013600@www.rundschau-medien.at
SUMMARY:Flohmarkt
DESCRIPTION:Die Behindertenhilfe Krieglach betreibt den größten ständigen Flohmarkt im Mürztal. Mit dem Erlös werden behinderte\, kranke und arme Menschen unterstützt.
URL:https://www.rundschau-medien.at/dil/flohmarkt-26/2026-09-21/
LOCATION:Behindertenhilfe Krieglach\, Grazer Straße 79\, Krieglach\, 8670
CATEGORIES:Markt
END:VEVENT
BEGIN:VEVENT
DTSTART;TZID=Europe/Vienna:20260923T060000
DTEND;TZID=Europe/Vienna:20260923T120000
DTSTAMP:20260425T173402
CREATED:20260408T090419Z
LAST-MODIFIED:20260408T090419Z
UID:10001769-1790143200-1790164800@www.rundschau-medien.at
SUMMARY:Brucker Wochenmarkt
DESCRIPTION:
URL:https://www.rundschau-medien.at/dil/brucker-wochenmarkt-2/2026-09-23/
LOCATION:Hauptplatz Bruck an der Mur
CATEGORIES:Markt
END:VEVENT
BEGIN:VEVENT
DTSTART;TZID=Europe/Vienna:20260923T130000
DTEND;TZID=Europe/Vienna:20260923T180000
DTSTAMP:20260425T173402
CREATED:20260408T111704Z
LAST-MODIFIED:20260408T111704Z
UID:10001835-1790168400-1790186400@www.rundschau-medien.at
SUMMARY:Flohmarkt
DESCRIPTION:Die Behindertenhilfe Krieglach betreibt den größten ständigen Flohmarkt im Mürztal. Mit dem Erlös werden behinderte\, kranke und arme Menschen unterstützt.
URL:https://www.rundschau-medien.at/dil/flohmarkt-26/2026-09-23/
LOCATION:Behindertenhilfe Krieglach\, Grazer Straße 79\, Krieglach\, 8670
CATEGORIES:Markt
END:VEVENT
BEGIN:VEVENT
DTSTART;TZID=Europe/Vienna:20260923T150000
DTEND;TZID=Europe/Vienna:20260923T150000
DTSTAMP:20260425T173402
CREATED:20260408T110509Z
LAST-MODIFIED:20260408T110509Z
UID:10001784-1790175600-1790175600@www.rundschau-medien.at
SUMMARY:Handarbeitsrunde
DESCRIPTION:mit den VP-Frauen Langenwang
URL:https://www.rundschau-medien.at/dil/handarbeitsrunde/2026-09-23/
LOCATION:Pfadfinderheim Langenwang
CATEGORIES:Hobby/Freizeit
END:VEVENT
BEGIN:VEVENT
DTSTART;TZID=Europe/Vienna:20260924T180000
DTEND;TZID=Europe/Vienna:20260924T180000
DTSTAMP:20260425T173402
CREATED:20260408T112149Z
LAST-MODIFIED:20260408T112149Z
UID:10001851-1790272800-1790272800@www.rundschau-medien.at
SUMMARY:Nordic-Walking-Runde
DESCRIPTION:Info und Anmeldung unter 0681/10300608
URL:https://www.rundschau-medien.at/dil/nordic-walking-runde-2/2026-09-24/
LOCATION:Funcourt Spital am Semmering
CATEGORIES:Hobby/Freizeit
END:VEVENT
BEGIN:VEVENT
DTSTART;TZID=Europe/Vienna:20260924T193000
DTEND;TZID=Europe/Vienna:20260924T193000
DTSTAMP:20260425T173402
CREATED:20260128T111855Z
LAST-MODIFIED:20260128T111855Z
UID:10000747-1790278200-1790278200@www.rundschau-medien.at
SUMMARY:Vernissage
DESCRIPTION:Ausstellung von Christian Huber bis 16. Oktober
URL:https://www.rundschau-medien.at/dil/vernissage-3/
LOCATION:Galerie K Kindberg
CATEGORIES:Kultur
END:VEVENT
END:VCALENDAR