BEGIN:VCALENDAR
VERSION:2.0
PRODID:-//Obersteirische Rundschau - ECPv6.15.20//NONSGML v1.0//EN
CALSCALE:GREGORIAN
METHOD:PUBLISH
X-ORIGINAL-URL:https://www.rundschau-medien.at
X-WR-CALDESC:Veranstaltungen für Obersteirische Rundschau
REFRESH-INTERVAL;VALUE=DURATION:PT1H
X-Robots-Tag:noindex
X-PUBLISHED-TTL:PT1H
BEGIN:VTIMEZONE
TZID:Europe/Vienna
BEGIN:DAYLIGHT
TZOFFSETFROM:+0100
TZOFFSETTO:+0200
TZNAME:CEST
DTSTART:20250330T010000
END:DAYLIGHT
BEGIN:STANDARD
TZOFFSETFROM:+0200
TZOFFSETTO:+0100
TZNAME:CET
DTSTART:20251026T010000
END:STANDARD
BEGIN:DAYLIGHT
TZOFFSETFROM:+0100
TZOFFSETTO:+0200
TZNAME:CEST
DTSTART:20260329T010000
END:DAYLIGHT
BEGIN:STANDARD
TZOFFSETFROM:+0200
TZOFFSETTO:+0100
TZNAME:CET
DTSTART:20261025T010000
END:STANDARD
BEGIN:DAYLIGHT
TZOFFSETFROM:+0100
TZOFFSETTO:+0200
TZNAME:CEST
DTSTART:20270328T010000
END:DAYLIGHT
BEGIN:STANDARD
TZOFFSETFROM:+0200
TZOFFSETTO:+0100
TZNAME:CET
DTSTART:20271031T010000
END:STANDARD
END:VTIMEZONE
BEGIN:VEVENT
DTSTART;TZID=Europe/Vienna:20260827T180000
DTEND;TZID=Europe/Vienna:20260827T180000
DTSTAMP:20260425T173307
CREATED:20260408T112149Z
LAST-MODIFIED:20260408T112149Z
UID:10001847-1787853600-1787853600@www.rundschau-medien.at
SUMMARY:Nordic-Walking-Runde
DESCRIPTION:Info und Anmeldung unter 0681/10300608
URL:https://www.rundschau-medien.at/dil/nordic-walking-runde-2/2026-08-27/
LOCATION:Funcourt Spital am Semmering
CATEGORIES:Hobby/Freizeit
END:VEVENT
BEGIN:VEVENT
DTSTART;TZID=Europe/Vienna:20260827T183000
DTEND;TZID=Europe/Vienna:20260827T183000
DTSTAMP:20260425T173307
CREATED:20260421T121912Z
LAST-MODIFIED:20260421T121912Z
UID:10002037-1787855400-1787855400@www.rundschau-medien.at
SUMMARY:Silent Cinema Night
DESCRIPTION:
URL:https://www.rundschau-medien.at/dil/silent-cinema-night/
LOCATION:Hauptplatz Leoben
CATEGORIES:Hobby/Freizeit
END:VEVENT
BEGIN:VEVENT
DTSTART;TZID=Europe/Vienna:20260828T130000
DTEND;TZID=Europe/Vienna:20260828T180000
DTSTAMP:20260425T173307
CREATED:20260408T111704Z
LAST-MODIFIED:20260408T111704Z
UID:10001824-1787922000-1787940000@www.rundschau-medien.at
SUMMARY:Flohmarkt
DESCRIPTION:Die Behindertenhilfe Krieglach betreibt den größten ständigen Flohmarkt im Mürztal. Mit dem Erlös werden behinderte\, kranke und arme Menschen unterstützt.
URL:https://www.rundschau-medien.at/dil/flohmarkt-26/2026-08-28/
LOCATION:Behindertenhilfe Krieglach\, Grazer Straße 79\, Krieglach\, 8670
CATEGORIES:Markt
END:VEVENT
BEGIN:VEVENT
DTSTART;TZID=Europe/Vienna:20260828T190000
DTEND;TZID=Europe/Vienna:20260828T190000
DTSTAMP:20260425T173307
CREATED:20260414T104728Z
LAST-MODIFIED:20260414T104728Z
UID:10001949-1787943600-1787943600@www.rundschau-medien.at
SUMMARY:Konzert
DESCRIPTION:mit Maierhofer & Seitinger und der Gesangskapelle Hermann
URL:https://www.rundschau-medien.at/dil/konzert-52/
LOCATION:Schlossberg Bruck an der Mur
CATEGORIES:Konzert
END:VEVENT
BEGIN:VEVENT
DTSTART;TZID=Europe/Vienna:20260829T060000
DTEND;TZID=Europe/Vienna:20260829T120000
DTSTAMP:20260425T173307
CREATED:20260408T090419Z
LAST-MODIFIED:20260408T090419Z
UID:10001762-1787983200-1788004800@www.rundschau-medien.at
SUMMARY:Brucker Wochenmarkt
DESCRIPTION:
URL:https://www.rundschau-medien.at/dil/brucker-wochenmarkt-2/2026-08-29/
LOCATION:Hauptplatz Bruck an der Mur
CATEGORIES:Markt
END:VEVENT
BEGIN:VEVENT
DTSTART;TZID=Europe/Vienna:20260829T100000
DTEND;TZID=Europe/Vienna:20260829T100000
DTSTAMP:20260425T173307
CREATED:20260211T102952Z
LAST-MODIFIED:20260211T102952Z
UID:10000928-1787997600-1787997600@www.rundschau-medien.at
SUMMARY:Pferdefest
DESCRIPTION:
URL:https://www.rundschau-medien.at/dil/pferdefest/
LOCATION:Reiterhof Kern\, Traboch
CATEGORIES:Gesellschaft
END:VEVENT
BEGIN:VEVENT
DTSTART;TZID=Europe/Vienna:20260829T140000
DTEND;TZID=Europe/Vienna:20260829T140000
DTSTAMP:20260425T173307
CREATED:20260408T110946Z
LAST-MODIFIED:20260408T110946Z
UID:10001794-1788012000-1788012000@www.rundschau-medien.at
SUMMARY:Jugendstunden
DESCRIPTION:Heimstunden der Pfadfinder Langenwang
URL:https://www.rundschau-medien.at/dil/jugendstunden/2026-08-29/
LOCATION:Pfadfinderheim Langenwang
CATEGORIES:Kinder/Jugend
END:VEVENT
BEGIN:VEVENT
DTSTART;TZID=Europe/Vienna:20260829T140000
DTEND;TZID=Europe/Vienna:20260829T140000
DTSTAMP:20260425T173307
CREATED:20260421T122014Z
LAST-MODIFIED:20260421T122014Z
UID:10002038-1788012000-1788012000@www.rundschau-medien.at
SUMMARY:Weinfest
DESCRIPTION:
URL:https://www.rundschau-medien.at/dil/weinfest/
LOCATION:Hauptplatz Leoben
CATEGORIES:Gesellschaft,Kulinarik
END:VEVENT
BEGIN:VEVENT
DTSTART;TZID=Europe/Vienna:20260831T130000
DTEND;TZID=Europe/Vienna:20260831T180000
DTSTAMP:20260425T173307
CREATED:20260408T111704Z
LAST-MODIFIED:20260408T111704Z
UID:10001825-1788181200-1788199200@www.rundschau-medien.at
SUMMARY:Flohmarkt
DESCRIPTION:Die Behindertenhilfe Krieglach betreibt den größten ständigen Flohmarkt im Mürztal. Mit dem Erlös werden behinderte\, kranke und arme Menschen unterstützt.
URL:https://www.rundschau-medien.at/dil/flohmarkt-26/2026-08-31/
LOCATION:Behindertenhilfe Krieglach\, Grazer Straße 79\, Krieglach\, 8670
CATEGORIES:Markt
END:VEVENT
BEGIN:VEVENT
DTSTART;TZID=Europe/Vienna:20260902T060000
DTEND;TZID=Europe/Vienna:20260902T120000
DTSTAMP:20260425T173307
CREATED:20260408T090419Z
LAST-MODIFIED:20260408T090419Z
UID:10001763-1788328800-1788350400@www.rundschau-medien.at
SUMMARY:Brucker Wochenmarkt
DESCRIPTION:
URL:https://www.rundschau-medien.at/dil/brucker-wochenmarkt-2/2026-09-02/
LOCATION:Hauptplatz Bruck an der Mur
CATEGORIES:Markt
END:VEVENT
BEGIN:VEVENT
DTSTART;TZID=Europe/Vienna:20260902T130000
DTEND;TZID=Europe/Vienna:20260902T180000
DTSTAMP:20260425T173307
CREATED:20260408T111704Z
LAST-MODIFIED:20260408T111704Z
UID:10001826-1788354000-1788372000@www.rundschau-medien.at
SUMMARY:Flohmarkt
DESCRIPTION:Die Behindertenhilfe Krieglach betreibt den größten ständigen Flohmarkt im Mürztal. Mit dem Erlös werden behinderte\, kranke und arme Menschen unterstützt.
URL:https://www.rundschau-medien.at/dil/flohmarkt-26/2026-09-02/
LOCATION:Behindertenhilfe Krieglach\, Grazer Straße 79\, Krieglach\, 8670
CATEGORIES:Markt
END:VEVENT
BEGIN:VEVENT
DTSTART;TZID=Europe/Vienna:20260902T140000
DTEND;TZID=Europe/Vienna:20260902T140000
DTSTAMP:20260425T173307
CREATED:20260128T110758Z
LAST-MODIFIED:20260128T110758Z
UID:10000739-1788357600-1788357600@www.rundschau-medien.at
SUMMARY:Pensionistennachmittag
DESCRIPTION:mit dem Pensionistenverband
URL:https://www.rundschau-medien.at/dil/pensionistennachmittag-16/
LOCATION:Kinderfreundeheim Kammern
CATEGORIES:Gesellschaft
END:VEVENT
BEGIN:VEVENT
DTSTART;TZID=Europe/Vienna:20260902T143000
DTEND;TZID=Europe/Vienna:20260902T163000
DTSTAMP:20260425T173307
CREATED:20260206T091223Z
LAST-MODIFIED:20260206T091223Z
UID:10000851-1788359400-1788366600@www.rundschau-medien.at
SUMMARY:Treffen der Parkinson-Selbsthilfegruppe
DESCRIPTION:Anmeldung für ein kostenloses Erstgespräch unter 0680/1413047 oder E-Mail walter.ondrich@gmx.at
URL:https://www.rundschau-medien.at/dil/treffen-der-parkinson-selbsthilfegruppe-5/
LOCATION:Maßenbergstraße 9\, Leoben
CATEGORIES:Gesundheit,Service/Info
END:VEVENT
BEGIN:VEVENT
DTSTART;TZID=Europe/Vienna:20260902T150000
DTEND;TZID=Europe/Vienna:20260902T150000
DTSTAMP:20260425T173307
CREATED:20260408T110509Z
LAST-MODIFIED:20260408T110509Z
UID:10001781-1788361200-1788361200@www.rundschau-medien.at
SUMMARY:Handarbeitsrunde
DESCRIPTION:mit den VP-Frauen Langenwang
URL:https://www.rundschau-medien.at/dil/handarbeitsrunde/2026-09-02/
LOCATION:Pfadfinderheim Langenwang
CATEGORIES:Hobby/Freizeit
END:VEVENT
BEGIN:VEVENT
DTSTART;TZID=Europe/Vienna:20260903T070000
DTEND;TZID=Europe/Vienna:20260903T070000
DTSTAMP:20260425T173307
CREATED:20260128T110929Z
LAST-MODIFIED:20260128T110929Z
UID:10000740-1788418800-1788418800@www.rundschau-medien.at
SUMMARY:Bergtour auf die Leobner Mauer
DESCRIPTION:mit den Naturfreunden Mürzhofen\, Info unter 0677/61937748
URL:https://www.rundschau-medien.at/dil/bergtour-auf-die-leobner-mauer/
LOCATION:Dorfplatz Mürzhofen\, Kindberg
CATEGORIES:Hobby/Freizeit
END:VEVENT
BEGIN:VEVENT
DTSTART;TZID=Europe/Vienna:20260903T180000
DTEND;TZID=Europe/Vienna:20260903T180000
DTSTAMP:20260425T173307
CREATED:20260408T112149Z
LAST-MODIFIED:20260408T112149Z
UID:10001848-1788458400-1788458400@www.rundschau-medien.at
SUMMARY:Nordic-Walking-Runde
DESCRIPTION:Info und Anmeldung unter 0681/10300608
URL:https://www.rundschau-medien.at/dil/nordic-walking-runde-2/2026-09-03/
LOCATION:Funcourt Spital am Semmering
CATEGORIES:Hobby/Freizeit
END:VEVENT
BEGIN:VEVENT
DTSTART;TZID=Europe/Vienna:20260903T180000
DTEND;TZID=Europe/Vienna:20260903T180000
DTSTAMP:20260425T173307
CREATED:20260421T122114Z
LAST-MODIFIED:20260421T122114Z
UID:10002039-1788458400-1788458400@www.rundschau-medien.at
SUMMARY:Country Night
DESCRIPTION:
URL:https://www.rundschau-medien.at/dil/country-night/
LOCATION:Hauptplatz Leoben
CATEGORIES:Konzert
END:VEVENT
BEGIN:VEVENT
DTSTART;TZID=Europe/Vienna:20260904T130000
DTEND;TZID=Europe/Vienna:20260904T180000
DTSTAMP:20260425T173307
CREATED:20260408T111704Z
LAST-MODIFIED:20260408T111704Z
UID:10001827-1788526800-1788544800@www.rundschau-medien.at
SUMMARY:Flohmarkt
DESCRIPTION:Die Behindertenhilfe Krieglach betreibt den größten ständigen Flohmarkt im Mürztal. Mit dem Erlös werden behinderte\, kranke und arme Menschen unterstützt.
URL:https://www.rundschau-medien.at/dil/flohmarkt-26/2026-09-04/
LOCATION:Behindertenhilfe Krieglach\, Grazer Straße 79\, Krieglach\, 8670
CATEGORIES:Markt
END:VEVENT
BEGIN:VEVENT
DTSTART;TZID=Europe/Vienna:20260904T190000
DTEND;TZID=Europe/Vienna:20260904T190000
DTSTAMP:20260425T173307
CREATED:20260414T104828Z
LAST-MODIFIED:20260414T104828Z
UID:10001950-1788548400-1788548400@www.rundschau-medien.at
SUMMARY:Konzert
DESCRIPTION:mit „5/8erln in Ehren“
URL:https://www.rundschau-medien.at/dil/konzert-53/
LOCATION:Schlossberg Bruck an der Mur
CATEGORIES:Konzert
END:VEVENT
BEGIN:VEVENT
DTSTART;TZID=Europe/Vienna:20260905T060000
DTEND;TZID=Europe/Vienna:20260905T120000
DTSTAMP:20260425T173307
CREATED:20260408T090419Z
LAST-MODIFIED:20260408T090419Z
UID:10001764-1788588000-1788609600@www.rundschau-medien.at
SUMMARY:Brucker Wochenmarkt
DESCRIPTION:
URL:https://www.rundschau-medien.at/dil/brucker-wochenmarkt-2/2026-09-05/
LOCATION:Hauptplatz Bruck an der Mur
CATEGORIES:Markt
END:VEVENT
BEGIN:VEVENT
DTSTART;TZID=Europe/Vienna:20260905T080000
DTEND;TZID=Europe/Vienna:20260905T120000
DTSTAMP:20260425T173307
CREATED:20260128T111147Z
LAST-MODIFIED:20260128T111147Z
UID:10000742-1788595200-1788609600@www.rundschau-medien.at
SUMMARY:Bauernmarkt
DESCRIPTION:
URL:https://www.rundschau-medien.at/dil/bauernmarkt-17/
LOCATION:Hauptplatz Trofaiach
CATEGORIES:Markt
END:VEVENT
BEGIN:VEVENT
DTSTART;TZID=Europe/Vienna:20260905T133000
DTEND;TZID=Europe/Vienna:20260905T133000
DTSTAMP:20260425T173307
CREATED:20260128T111042Z
LAST-MODIFIED:20260128T111042Z
UID:10000741-1788615000-1788615000@www.rundschau-medien.at
SUMMARY:Familienspielfest
DESCRIPTION:mit Maibaumumschneiden
URL:https://www.rundschau-medien.at/dil/familienspielfest/
LOCATION:Kinderfreundeheim Kammern
CATEGORIES:Gesellschaft,Hobby/Freizeit
END:VEVENT
BEGIN:VEVENT
DTSTART;TZID=Europe/Vienna:20260905T140000
DTEND;TZID=Europe/Vienna:20260905T140000
DTSTAMP:20260425T173307
CREATED:20260408T110946Z
LAST-MODIFIED:20260408T110946Z
UID:10001795-1788616800-1788616800@www.rundschau-medien.at
SUMMARY:Jugendstunden
DESCRIPTION:Heimstunden der Pfadfinder Langenwang
URL:https://www.rundschau-medien.at/dil/jugendstunden/2026-09-05/
LOCATION:Pfadfinderheim Langenwang
CATEGORIES:Kinder/Jugend
END:VEVENT
BEGIN:VEVENT
DTSTART;TZID=Europe/Vienna:20260907T130000
DTEND;TZID=Europe/Vienna:20260907T180000
DTSTAMP:20260425T173307
CREATED:20260408T111704Z
LAST-MODIFIED:20260408T111704Z
UID:10001828-1788786000-1788804000@www.rundschau-medien.at
SUMMARY:Flohmarkt
DESCRIPTION:Die Behindertenhilfe Krieglach betreibt den größten ständigen Flohmarkt im Mürztal. Mit dem Erlös werden behinderte\, kranke und arme Menschen unterstützt.
URL:https://www.rundschau-medien.at/dil/flohmarkt-26/2026-09-07/
LOCATION:Behindertenhilfe Krieglach\, Grazer Straße 79\, Krieglach\, 8670
CATEGORIES:Markt
END:VEVENT
BEGIN:VEVENT
DTSTART;TZID=Europe/Vienna:20260909T060000
DTEND;TZID=Europe/Vienna:20260909T120000
DTSTAMP:20260425T173307
CREATED:20260408T090419Z
LAST-MODIFIED:20260408T090419Z
UID:10001765-1788933600-1788955200@www.rundschau-medien.at
SUMMARY:Brucker Wochenmarkt
DESCRIPTION:
URL:https://www.rundschau-medien.at/dil/brucker-wochenmarkt-2/2026-09-09/
LOCATION:Hauptplatz Bruck an der Mur
CATEGORIES:Markt
END:VEVENT
BEGIN:VEVENT
DTSTART;TZID=Europe/Vienna:20260909T130000
DTEND;TZID=Europe/Vienna:20260909T180000
DTSTAMP:20260425T173307
CREATED:20260408T111704Z
LAST-MODIFIED:20260408T111704Z
UID:10001829-1788958800-1788976800@www.rundschau-medien.at
SUMMARY:Flohmarkt
DESCRIPTION:Die Behindertenhilfe Krieglach betreibt den größten ständigen Flohmarkt im Mürztal. Mit dem Erlös werden behinderte\, kranke und arme Menschen unterstützt.
URL:https://www.rundschau-medien.at/dil/flohmarkt-26/2026-09-09/
LOCATION:Behindertenhilfe Krieglach\, Grazer Straße 79\, Krieglach\, 8670
CATEGORIES:Markt
END:VEVENT
BEGIN:VEVENT
DTSTART;TZID=Europe/Vienna:20260909T150000
DTEND;TZID=Europe/Vienna:20260909T150000
DTSTAMP:20260425T173307
CREATED:20260408T110509Z
LAST-MODIFIED:20260408T110509Z
UID:10001782-1788966000-1788966000@www.rundschau-medien.at
SUMMARY:Handarbeitsrunde
DESCRIPTION:mit den VP-Frauen Langenwang
URL:https://www.rundschau-medien.at/dil/handarbeitsrunde/2026-09-09/
LOCATION:Pfadfinderheim Langenwang
CATEGORIES:Hobby/Freizeit
END:VEVENT
BEGIN:VEVENT
DTSTART;TZID=Europe/Vienna:20260910T180000
DTEND;TZID=Europe/Vienna:20260910T180000
DTSTAMP:20260425T173307
CREATED:20260408T112149Z
LAST-MODIFIED:20260408T112149Z
UID:10001849-1789063200-1789063200@www.rundschau-medien.at
SUMMARY:Nordic-Walking-Runde
DESCRIPTION:Info und Anmeldung unter 0681/10300608
URL:https://www.rundschau-medien.at/dil/nordic-walking-runde-2/2026-09-10/
LOCATION:Funcourt Spital am Semmering
CATEGORIES:Hobby/Freizeit
END:VEVENT
BEGIN:VEVENT
DTSTART;TZID=Europe/Vienna:20260911T130000
DTEND;TZID=Europe/Vienna:20260911T180000
DTSTAMP:20260425T173307
CREATED:20260408T111704Z
LAST-MODIFIED:20260408T111704Z
UID:10001830-1789131600-1789149600@www.rundschau-medien.at
SUMMARY:Flohmarkt
DESCRIPTION:Die Behindertenhilfe Krieglach betreibt den größten ständigen Flohmarkt im Mürztal. Mit dem Erlös werden behinderte\, kranke und arme Menschen unterstützt.
URL:https://www.rundschau-medien.at/dil/flohmarkt-26/2026-09-11/
LOCATION:Behindertenhilfe Krieglach\, Grazer Straße 79\, Krieglach\, 8670
CATEGORIES:Markt
END:VEVENT
BEGIN:VEVENT
DTSTART;TZID=Europe/Vienna:20260911T190000
DTEND;TZID=Europe/Vienna:20260911T190000
DTSTAMP:20260425T173307
CREATED:20260316T115505Z
LAST-MODIFIED:20260316T115505Z
UID:10001587-1789153200-1789153200@www.rundschau-medien.at
SUMMARY:"Die gewürzige Tour"
DESCRIPTION:Nachtwächterführung mit Helga Papst\, Info und Anmeldung unter 0664/73524688 oder helga.papst@gmx.at
URL:https://www.rundschau-medien.at/dil/die-gewuerzige-tour/2026-09-11/
LOCATION:Pestsäule Hauptplatz Bruck an der Mur
CATEGORIES:Kultur
END:VEVENT
END:VCALENDAR