BEGIN:VCALENDAR
VERSION:2.0
PRODID:-//Obersteirische Rundschau - ECPv6.15.20//NONSGML v1.0//EN
CALSCALE:GREGORIAN
METHOD:PUBLISH
X-ORIGINAL-URL:https://www.rundschau-medien.at
X-WR-CALDESC:Veranstaltungen für Obersteirische Rundschau
REFRESH-INTERVAL;VALUE=DURATION:PT1H
X-Robots-Tag:noindex
X-PUBLISHED-TTL:PT1H
BEGIN:VTIMEZONE
TZID:Europe/Vienna
BEGIN:DAYLIGHT
TZOFFSETFROM:+0100
TZOFFSETTO:+0200
TZNAME:CEST
DTSTART:20250330T010000
END:DAYLIGHT
BEGIN:STANDARD
TZOFFSETFROM:+0200
TZOFFSETTO:+0100
TZNAME:CET
DTSTART:20251026T010000
END:STANDARD
BEGIN:DAYLIGHT
TZOFFSETFROM:+0100
TZOFFSETTO:+0200
TZNAME:CEST
DTSTART:20260329T010000
END:DAYLIGHT
BEGIN:STANDARD
TZOFFSETFROM:+0200
TZOFFSETTO:+0100
TZNAME:CET
DTSTART:20261025T010000
END:STANDARD
BEGIN:DAYLIGHT
TZOFFSETFROM:+0100
TZOFFSETTO:+0200
TZNAME:CEST
DTSTART:20270328T010000
END:DAYLIGHT
BEGIN:STANDARD
TZOFFSETFROM:+0200
TZOFFSETTO:+0100
TZNAME:CET
DTSTART:20271031T010000
END:STANDARD
END:VTIMEZONE
BEGIN:VEVENT
DTSTART;TZID=Europe/Vienna:20260801T060000
DTEND;TZID=Europe/Vienna:20260801T120000
DTSTAMP:20260419T234751
CREATED:20260408T090419Z
LAST-MODIFIED:20260408T090419Z
UID:10001754-1785564000-1785585600@www.rundschau-medien.at
SUMMARY:Brucker Wochenmarkt
DESCRIPTION:
URL:https://www.rundschau-medien.at/dil/brucker-wochenmarkt-2/2026-08-01/
LOCATION:Hauptplatz Bruck an der Mur
CATEGORIES:Markt
END:VEVENT
BEGIN:VEVENT
DTSTART;TZID=Europe/Vienna:20260801T070000
DTEND;TZID=Europe/Vienna:20260801T070000
DTSTAMP:20260419T234751
CREATED:20260128T105920Z
LAST-MODIFIED:20260128T105920Z
UID:10000731-1785567600-1785567600@www.rundschau-medien.at
SUMMARY:Bergtour durch die Frauenmauerhöhle auf den Frauenmauergipfel
DESCRIPTION:mit den Naturfreunden Mürzhofen\, Info und Anmeldung bis 24. Juli unter 0676/4348246
URL:https://www.rundschau-medien.at/dil/bergtour-durch-die-frauenmauerhoehle-auf-den-frauenmauergipfel/
LOCATION:Dorfplatz Mürzhofen\, Kindberg
CATEGORIES:Hobby/Freizeit
END:VEVENT
BEGIN:VEVENT
DTSTART;TZID=Europe/Vienna:20260801T080000
DTEND;TZID=Europe/Vienna:20260801T120000
DTSTAMP:20260419T234751
CREATED:20260128T110241Z
LAST-MODIFIED:20260128T110241Z
UID:10000734-1785571200-1785585600@www.rundschau-medien.at
SUMMARY:Bauernmarkt
DESCRIPTION:
URL:https://www.rundschau-medien.at/dil/bauernmarkt-16/
LOCATION:Hauptplatz Trofaiach
CATEGORIES:Markt
END:VEVENT
BEGIN:VEVENT
DTSTART;TZID=Europe/Vienna:20260801T130000
DTEND;TZID=Europe/Vienna:20260801T130000
DTSTAMP:20260419T234751
CREATED:20260128T110031Z
LAST-MODIFIED:20260128T110031Z
UID:10000732-1785589200-1785589200@www.rundschau-medien.at
SUMMARY:"Acoustic Campfire"
DESCRIPTION:
URL:https://www.rundschau-medien.at/dil/acoustic-campfire-2/
LOCATION:Freibadgelände Kindberg
CATEGORIES:Konzert
END:VEVENT
BEGIN:VEVENT
DTSTART;TZID=Europe/Vienna:20260801T140000
DTEND;TZID=Europe/Vienna:20260801T140000
DTSTAMP:20260419T234751
CREATED:20260408T110946Z
LAST-MODIFIED:20260408T110946Z
UID:10001790-1785592800-1785592800@www.rundschau-medien.at
SUMMARY:Jugendstunden
DESCRIPTION:Heimstunden der Pfadfinder Langenwang
URL:https://www.rundschau-medien.at/dil/jugendstunden/2026-08-01/
LOCATION:Pfadfinderheim Langenwang
CATEGORIES:Kinder/Jugend
END:VEVENT
BEGIN:VEVENT
DTSTART;TZID=Europe/Vienna:20260801T173000
DTEND;TZID=Europe/Vienna:20260801T173000
DTSTAMP:20260419T234751
CREATED:20260128T110145Z
LAST-MODIFIED:20260128T110145Z
UID:10000733-1785605400-1785605400@www.rundschau-medien.at
SUMMARY:Abschlusskonzert Suzukifestival
DESCRIPTION:
URL:https://www.rundschau-medien.at/dil/abschlusskonzert-suzukifestival/
LOCATION:Stadtsaal Mürzzuschlag
CATEGORIES:Konzert
END:VEVENT
BEGIN:VEVENT
DTSTART;TZID=Europe/Vienna:20260803T130000
DTEND;TZID=Europe/Vienna:20260803T180000
DTSTAMP:20260419T234751
CREATED:20260408T111704Z
LAST-MODIFIED:20260408T111704Z
UID:10001813-1785762000-1785780000@www.rundschau-medien.at
SUMMARY:Flohmarkt
DESCRIPTION:Die Behindertenhilfe Krieglach betreibt den größten ständigen Flohmarkt im Mürztal. Mit dem Erlös werden behinderte\, kranke und arme Menschen unterstützt.
URL:https://www.rundschau-medien.at/dil/flohmarkt-26/2026-08-03/
LOCATION:Behindertenhilfe Krieglach\, Grazer Straße 79\, Krieglach\, 8670
CATEGORIES:Markt
END:VEVENT
BEGIN:VEVENT
DTSTART;TZID=Europe/Vienna:20260805T060000
DTEND;TZID=Europe/Vienna:20260805T120000
DTSTAMP:20260419T234751
CREATED:20260408T090419Z
LAST-MODIFIED:20260408T090419Z
UID:10001755-1785909600-1785931200@www.rundschau-medien.at
SUMMARY:Brucker Wochenmarkt
DESCRIPTION:
URL:https://www.rundschau-medien.at/dil/brucker-wochenmarkt-2/2026-08-05/
LOCATION:Hauptplatz Bruck an der Mur
CATEGORIES:Markt
END:VEVENT
BEGIN:VEVENT
DTSTART;TZID=Europe/Vienna:20260805T130000
DTEND;TZID=Europe/Vienna:20260805T180000
DTSTAMP:20260419T234751
CREATED:20260408T111704Z
LAST-MODIFIED:20260408T111704Z
UID:10001814-1785934800-1785952800@www.rundschau-medien.at
SUMMARY:Flohmarkt
DESCRIPTION:Die Behindertenhilfe Krieglach betreibt den größten ständigen Flohmarkt im Mürztal. Mit dem Erlös werden behinderte\, kranke und arme Menschen unterstützt.
URL:https://www.rundschau-medien.at/dil/flohmarkt-26/2026-08-05/
LOCATION:Behindertenhilfe Krieglach\, Grazer Straße 79\, Krieglach\, 8670
CATEGORIES:Markt
END:VEVENT
BEGIN:VEVENT
DTSTART;TZID=Europe/Vienna:20260805T140000
DTEND;TZID=Europe/Vienna:20260805T140000
DTSTAMP:20260419T234751
CREATED:20260128T110342Z
LAST-MODIFIED:20260128T110342Z
UID:10000735-1785938400-1785938400@www.rundschau-medien.at
SUMMARY:Pensionistennachmittag
DESCRIPTION:mit dem Pensionistenverband
URL:https://www.rundschau-medien.at/dil/pensionistennachmittag-14/
LOCATION:Kinderfreundeheim Kammern
CATEGORIES:Gesellschaft
END:VEVENT
BEGIN:VEVENT
DTSTART;TZID=Europe/Vienna:20260805T150000
DTEND;TZID=Europe/Vienna:20260805T150000
DTSTAMP:20260419T234751
CREATED:20260408T110509Z
LAST-MODIFIED:20260408T110509Z
UID:10001777-1785942000-1785942000@www.rundschau-medien.at
SUMMARY:Handarbeitsrunde
DESCRIPTION:mit den VP-Frauen Langenwang
URL:https://www.rundschau-medien.at/dil/handarbeitsrunde/2026-08-05/
LOCATION:Pfadfinderheim Langenwang
CATEGORIES:Hobby/Freizeit
END:VEVENT
BEGIN:VEVENT
DTSTART;TZID=Europe/Vienna:20260806T180000
DTEND;TZID=Europe/Vienna:20260806T180000
DTSTAMP:20260419T234751
CREATED:20260408T112149Z
LAST-MODIFIED:20260408T112149Z
UID:10001844-1786039200-1786039200@www.rundschau-medien.at
SUMMARY:Nordic-Walking-Runde
DESCRIPTION:Info und Anmeldung unter 0681/10300608
URL:https://www.rundschau-medien.at/dil/nordic-walking-runde-2/2026-08-06/
LOCATION:Funcourt Spital am Semmering
CATEGORIES:Hobby/Freizeit
END:VEVENT
BEGIN:VEVENT
DTSTART;TZID=Europe/Vienna:20260807T130000
DTEND;TZID=Europe/Vienna:20260807T180000
DTSTAMP:20260419T234751
CREATED:20260408T111704Z
LAST-MODIFIED:20260408T111704Z
UID:10001815-1786107600-1786125600@www.rundschau-medien.at
SUMMARY:Flohmarkt
DESCRIPTION:Die Behindertenhilfe Krieglach betreibt den größten ständigen Flohmarkt im Mürztal. Mit dem Erlös werden behinderte\, kranke und arme Menschen unterstützt.
URL:https://www.rundschau-medien.at/dil/flohmarkt-26/2026-08-07/
LOCATION:Behindertenhilfe Krieglach\, Grazer Straße 79\, Krieglach\, 8670
CATEGORIES:Markt
END:VEVENT
BEGIN:VEVENT
DTSTART;TZID=Europe/Vienna:20260807T193000
DTEND;TZID=Europe/Vienna:20260807T193000
DTSTAMP:20260419T234751
CREATED:20260316T114909Z
LAST-MODIFIED:20260316T114909Z
UID:10001580-1786131000-1786131000@www.rundschau-medien.at
SUMMARY:Nachtwächterführung mit Kulinarik
DESCRIPTION:mit Helga Papst\, Info und Anmeldung unter 0664/73524688 oder helga.papst@gmx.at
URL:https://www.rundschau-medien.at/dil/nachtwaechterfuehrung-mit-kulinarik/2026-08-07/
LOCATION:Pestsäule Hauptplatz Bruck an der Mur
CATEGORIES:Kultur
END:VEVENT
BEGIN:VEVENT
DTSTART;TZID=Europe/Vienna:20260807T203000
DTEND;TZID=Europe/Vienna:20260807T203000
DTSTAMP:20260419T234751
CREATED:20260316T115115Z
LAST-MODIFIED:20260316T115115Z
UID:10001583-1786134600-1786134600@www.rundschau-medien.at
SUMMARY:Nachtwächterführung ohne Kulinarik
DESCRIPTION:mit Helga Papst\, Info und Anmeldung unter 0664/73524688 oder helga.papst@gmx.at
URL:https://www.rundschau-medien.at/dil/nachtwaechterfuehrung-ohne-kulinarik/2026-08-07/
LOCATION:Pestsäule Hauptplatz Bruck an der Mur
CATEGORIES:Kultur
END:VEVENT
BEGIN:VEVENT
DTSTART;TZID=Europe/Vienna:20260808T060000
DTEND;TZID=Europe/Vienna:20260808T120000
DTSTAMP:20260419T234751
CREATED:20260408T090419Z
LAST-MODIFIED:20260408T090419Z
UID:10001756-1786168800-1786190400@www.rundschau-medien.at
SUMMARY:Brucker Wochenmarkt
DESCRIPTION:
URL:https://www.rundschau-medien.at/dil/brucker-wochenmarkt-2/2026-08-08/
LOCATION:Hauptplatz Bruck an der Mur
CATEGORIES:Markt
END:VEVENT
BEGIN:VEVENT
DTSTART;TZID=Europe/Vienna:20260808T140000
DTEND;TZID=Europe/Vienna:20260808T140000
DTSTAMP:20260419T234751
CREATED:20260408T110946Z
LAST-MODIFIED:20260408T110946Z
UID:10001791-1786197600-1786197600@www.rundschau-medien.at
SUMMARY:Jugendstunden
DESCRIPTION:Heimstunden der Pfadfinder Langenwang
URL:https://www.rundschau-medien.at/dil/jugendstunden/2026-08-08/
LOCATION:Pfadfinderheim Langenwang
CATEGORIES:Kinder/Jugend
END:VEVENT
BEGIN:VEVENT
DTSTART;TZID=Europe/Vienna:20260808T150000
DTEND;TZID=Europe/Vienna:20260808T150000
DTSTAMP:20260419T234751
CREATED:20260414T104526Z
LAST-MODIFIED:20260414T104526Z
UID:10001947-1786201200-1786201200@www.rundschau-medien.at
SUMMARY:Winzerfest
DESCRIPTION:
URL:https://www.rundschau-medien.at/dil/winzerfest/
LOCATION:Schlossberg Bruck an der Mur
CATEGORIES:Gesellschaft,Kulinarik
END:VEVENT
BEGIN:VEVENT
DTSTART;TZID=Europe/Vienna:20260808T170000
DTEND;TZID=Europe/Vienna:20260808T170000
DTSTAMP:20260419T234751
CREATED:20260316T115623Z
LAST-MODIFIED:20260316T115623Z
UID:10001588-1786208400-1786208400@www.rundschau-medien.at
SUMMARY:"Auf den Spuren des Hugo von Montfort"
DESCRIPTION:Nachtwächterführung mit Helga Papst\, Info und Anmeldung unter 0664/73524688 oder helga.papst@gmx.at
URL:https://www.rundschau-medien.at/dil/auf-den-spuren-des-hugo-von-montfort/
LOCATION:Pestsäule Hauptplatz Bruck an der Mur
CATEGORIES:Kultur
END:VEVENT
BEGIN:VEVENT
DTSTART;TZID=Europe/Vienna:20260809T060000
DTEND;TZID=Europe/Vienna:20260809T130000
DTSTAMP:20260419T234751
CREATED:20260227T112632Z
LAST-MODIFIED:20260227T112632Z
UID:10001466-1786255200-1786280400@www.rundschau-medien.at
SUMMARY:Flohmarkt
DESCRIPTION:
URL:https://www.rundschau-medien.at/dil/flohmarkt-14/
LOCATION:Interspar Kapfenberg
CATEGORIES:Markt
END:VEVENT
BEGIN:VEVENT
DTSTART;TZID=Europe/Vienna:20260809T180000
DTEND;TZID=Europe/Vienna:20260809T180000
DTSTAMP:20260419T234751
CREATED:20260128T110446Z
LAST-MODIFIED:20260128T110446Z
UID:10000736-1786298400-1786298400@www.rundschau-medien.at
SUMMARY:Konzert
DESCRIPTION:mit den „Old School Basterds“
URL:https://www.rundschau-medien.at/dil/konzert-12/
LOCATION:Museumshof Kammern
CATEGORIES:Konzert
END:VEVENT
BEGIN:VEVENT
DTSTART;TZID=Europe/Vienna:20260810T130000
DTEND;TZID=Europe/Vienna:20260810T180000
DTSTAMP:20260419T234751
CREATED:20260408T111704Z
LAST-MODIFIED:20260408T111704Z
UID:10001816-1786366800-1786384800@www.rundschau-medien.at
SUMMARY:Flohmarkt
DESCRIPTION:Die Behindertenhilfe Krieglach betreibt den größten ständigen Flohmarkt im Mürztal. Mit dem Erlös werden behinderte\, kranke und arme Menschen unterstützt.
URL:https://www.rundschau-medien.at/dil/flohmarkt-26/2026-08-10/
LOCATION:Behindertenhilfe Krieglach\, Grazer Straße 79\, Krieglach\, 8670
CATEGORIES:Markt
END:VEVENT
BEGIN:VEVENT
DTSTART;TZID=Europe/Vienna:20260812T060000
DTEND;TZID=Europe/Vienna:20260812T120000
DTSTAMP:20260419T234751
CREATED:20260408T090419Z
LAST-MODIFIED:20260408T090419Z
UID:10001757-1786514400-1786536000@www.rundschau-medien.at
SUMMARY:Brucker Wochenmarkt
DESCRIPTION:
URL:https://www.rundschau-medien.at/dil/brucker-wochenmarkt-2/2026-08-12/
LOCATION:Hauptplatz Bruck an der Mur
CATEGORIES:Markt
END:VEVENT
BEGIN:VEVENT
DTSTART;TZID=Europe/Vienna:20260812T130000
DTEND;TZID=Europe/Vienna:20260812T180000
DTSTAMP:20260419T234751
CREATED:20260408T111704Z
LAST-MODIFIED:20260408T111704Z
UID:10001817-1786539600-1786557600@www.rundschau-medien.at
SUMMARY:Flohmarkt
DESCRIPTION:Die Behindertenhilfe Krieglach betreibt den größten ständigen Flohmarkt im Mürztal. Mit dem Erlös werden behinderte\, kranke und arme Menschen unterstützt.
URL:https://www.rundschau-medien.at/dil/flohmarkt-26/2026-08-12/
LOCATION:Behindertenhilfe Krieglach\, Grazer Straße 79\, Krieglach\, 8670
CATEGORIES:Markt
END:VEVENT
BEGIN:VEVENT
DTSTART;TZID=Europe/Vienna:20260812T150000
DTEND;TZID=Europe/Vienna:20260812T150000
DTSTAMP:20260419T234751
CREATED:20260408T110509Z
LAST-MODIFIED:20260408T110509Z
UID:10001778-1786546800-1786546800@www.rundschau-medien.at
SUMMARY:Handarbeitsrunde
DESCRIPTION:mit den VP-Frauen Langenwang
URL:https://www.rundschau-medien.at/dil/handarbeitsrunde/2026-08-12/
LOCATION:Pfadfinderheim Langenwang
CATEGORIES:Hobby/Freizeit
END:VEVENT
BEGIN:VEVENT
DTSTART;TZID=Europe/Vienna:20260813T180000
DTEND;TZID=Europe/Vienna:20260813T180000
DTSTAMP:20260419T234751
CREATED:20260408T112149Z
LAST-MODIFIED:20260408T112149Z
UID:10001845-1786644000-1786644000@www.rundschau-medien.at
SUMMARY:Nordic-Walking-Runde
DESCRIPTION:Info und Anmeldung unter 0681/10300608
URL:https://www.rundschau-medien.at/dil/nordic-walking-runde-2/2026-08-13/
LOCATION:Funcourt Spital am Semmering
CATEGORIES:Hobby/Freizeit
END:VEVENT
BEGIN:VEVENT
DTSTART;TZID=Europe/Vienna:20260814T130000
DTEND;TZID=Europe/Vienna:20260814T180000
DTSTAMP:20260419T234751
CREATED:20260408T111704Z
LAST-MODIFIED:20260408T111704Z
UID:10001818-1786712400-1786730400@www.rundschau-medien.at
SUMMARY:Flohmarkt
DESCRIPTION:Die Behindertenhilfe Krieglach betreibt den größten ständigen Flohmarkt im Mürztal. Mit dem Erlös werden behinderte\, kranke und arme Menschen unterstützt.
URL:https://www.rundschau-medien.at/dil/flohmarkt-26/2026-08-14/
LOCATION:Behindertenhilfe Krieglach\, Grazer Straße 79\, Krieglach\, 8670
CATEGORIES:Markt
END:VEVENT
BEGIN:VEVENT
DTSTART;TZID=Europe/Vienna:20260814T190000
DTEND;TZID=Europe/Vienna:20260814T190000
DTSTAMP:20260419T234751
CREATED:20260414T104622Z
LAST-MODIFIED:20260414T104622Z
UID:10001948-1786734000-1786734000@www.rundschau-medien.at
SUMMARY:Konzert
DESCRIPTION:mit Norbert Schneider & Band
URL:https://www.rundschau-medien.at/dil/konzert-51/
LOCATION:Schlossberg Bruck an der Mur
CATEGORIES:Konzert
END:VEVENT
BEGIN:VEVENT
DTSTART;TZID=Europe/Vienna:20260815T060000
DTEND;TZID=Europe/Vienna:20260815T120000
DTSTAMP:20260419T234751
CREATED:20260408T090419Z
LAST-MODIFIED:20260408T090419Z
UID:10001758-1786773600-1786795200@www.rundschau-medien.at
SUMMARY:Brucker Wochenmarkt
DESCRIPTION:
URL:https://www.rundschau-medien.at/dil/brucker-wochenmarkt-2/2026-08-15/
LOCATION:Hauptplatz Bruck an der Mur
CATEGORIES:Markt
END:VEVENT
BEGIN:VEVENT
DTSTART;TZID=Europe/Vienna:20260815T110000
DTEND;TZID=Europe/Vienna:20260815T110000
DTSTAMP:20260419T234751
CREATED:20260211T102746Z
LAST-MODIFIED:20260211T102746Z
UID:10000926-1786791600-1786791600@www.rundschau-medien.at
SUMMARY:Sommerfest
DESCRIPTION:
URL:https://www.rundschau-medien.at/dil/sommerfest-2/
LOCATION:Pensionistenheim Traboch
CATEGORIES:Gesellschaft
END:VEVENT
END:VCALENDAR