BEGIN:VCALENDAR
VERSION:2.0
PRODID:-//Obersteirische Rundschau - ECPv6.15.20//NONSGML v1.0//EN
CALSCALE:GREGORIAN
METHOD:PUBLISH
X-ORIGINAL-URL:https://www.rundschau-medien.at
X-WR-CALDESC:Veranstaltungen für Obersteirische Rundschau
REFRESH-INTERVAL;VALUE=DURATION:PT1H
X-Robots-Tag:noindex
X-PUBLISHED-TTL:PT1H
BEGIN:VTIMEZONE
TZID:Europe/Vienna
BEGIN:DAYLIGHT
TZOFFSETFROM:+0100
TZOFFSETTO:+0200
TZNAME:CEST
DTSTART:20250330T010000
END:DAYLIGHT
BEGIN:STANDARD
TZOFFSETFROM:+0200
TZOFFSETTO:+0100
TZNAME:CET
DTSTART:20251026T010000
END:STANDARD
BEGIN:DAYLIGHT
TZOFFSETFROM:+0100
TZOFFSETTO:+0200
TZNAME:CEST
DTSTART:20260329T010000
END:DAYLIGHT
BEGIN:STANDARD
TZOFFSETFROM:+0200
TZOFFSETTO:+0100
TZNAME:CET
DTSTART:20261025T010000
END:STANDARD
BEGIN:DAYLIGHT
TZOFFSETFROM:+0100
TZOFFSETTO:+0200
TZNAME:CEST
DTSTART:20270328T010000
END:DAYLIGHT
BEGIN:STANDARD
TZOFFSETFROM:+0200
TZOFFSETTO:+0100
TZNAME:CET
DTSTART:20271031T010000
END:STANDARD
END:VTIMEZONE
BEGIN:VEVENT
DTSTART;TZID=Europe/Vienna:20260720T130000
DTEND;TZID=Europe/Vienna:20260720T180000
DTSTAMP:20260426T025415
CREATED:20260408T111704Z
LAST-MODIFIED:20260408T111704Z
UID:10001807-1784552400-1784570400@www.rundschau-medien.at
SUMMARY:Flohmarkt
DESCRIPTION:Die Behindertenhilfe Krieglach betreibt den größten ständigen Flohmarkt im Mürztal. Mit dem Erlös werden behinderte\, kranke und arme Menschen unterstützt.
URL:https://www.rundschau-medien.at/dil/flohmarkt-26/2026-07-20/
LOCATION:Behindertenhilfe Krieglach\, Grazer Straße 79\, Krieglach\, 8670
CATEGORIES:Markt
END:VEVENT
BEGIN:VEVENT
DTSTART;TZID=Europe/Vienna:20260722T060000
DTEND;TZID=Europe/Vienna:20260722T120000
DTSTAMP:20260426T025415
CREATED:20260408T090419Z
LAST-MODIFIED:20260408T090419Z
UID:10001751-1784700000-1784721600@www.rundschau-medien.at
SUMMARY:Brucker Wochenmarkt
DESCRIPTION:
URL:https://www.rundschau-medien.at/dil/brucker-wochenmarkt-2/2026-07-22/
LOCATION:Hauptplatz Bruck an der Mur
CATEGORIES:Markt
END:VEVENT
BEGIN:VEVENT
DTSTART;TZID=Europe/Vienna:20260722T130000
DTEND;TZID=Europe/Vienna:20260722T180000
DTSTAMP:20260426T025415
CREATED:20260408T111704Z
LAST-MODIFIED:20260408T111704Z
UID:10001808-1784725200-1784743200@www.rundschau-medien.at
SUMMARY:Flohmarkt
DESCRIPTION:Die Behindertenhilfe Krieglach betreibt den größten ständigen Flohmarkt im Mürztal. Mit dem Erlös werden behinderte\, kranke und arme Menschen unterstützt.
URL:https://www.rundschau-medien.at/dil/flohmarkt-26/2026-07-22/
LOCATION:Behindertenhilfe Krieglach\, Grazer Straße 79\, Krieglach\, 8670
CATEGORIES:Markt
END:VEVENT
BEGIN:VEVENT
DTSTART;TZID=Europe/Vienna:20260722T140000
DTEND;TZID=Europe/Vienna:20260722T140000
DTSTAMP:20260426T025415
CREATED:20260128T105601Z
LAST-MODIFIED:20260128T105601Z
UID:10000729-1784728800-1784728800@www.rundschau-medien.at
SUMMARY:Pensionistennachmittag
DESCRIPTION:mit dem Pensionistenverband
URL:https://www.rundschau-medien.at/dil/pensionistennachmittag-13/
LOCATION:Kinderfreundeheim Kammern
CATEGORIES:Gesellschaft
END:VEVENT
BEGIN:VEVENT
DTSTART;TZID=Europe/Vienna:20260722T150000
DTEND;TZID=Europe/Vienna:20260722T150000
DTSTAMP:20260426T025415
CREATED:20260408T110509Z
LAST-MODIFIED:20260408T110509Z
UID:10001775-1784732400-1784732400@www.rundschau-medien.at
SUMMARY:Handarbeitsrunde
DESCRIPTION:mit den VP-Frauen Langenwang
URL:https://www.rundschau-medien.at/dil/handarbeitsrunde/2026-07-22/
LOCATION:Pfadfinderheim Langenwang
CATEGORIES:Hobby/Freizeit
END:VEVENT
BEGIN:VEVENT
DTSTART;TZID=Europe/Vienna:20260722T180000
DTEND;TZID=Europe/Vienna:20260722T180000
DTSTAMP:20260426T025415
CREATED:20260413T084935Z
LAST-MODIFIED:20260413T084935Z
UID:10001937-1784743200-1784743200@www.rundschau-medien.at
SUMMARY:Quiznight
DESCRIPTION:
URL:https://www.rundschau-medien.at/dil/quiznight-6/
LOCATION:FC Trofaiach
CATEGORIES:Hobby/Freizeit
END:VEVENT
BEGIN:VEVENT
DTSTART;TZID=Europe/Vienna:20260723T180000
DTEND;TZID=Europe/Vienna:20260723T180000
DTSTAMP:20260426T025415
CREATED:20260408T112149Z
LAST-MODIFIED:20260408T112149Z
UID:10001842-1784829600-1784829600@www.rundschau-medien.at
SUMMARY:Nordic-Walking-Runde
DESCRIPTION:Info und Anmeldung unter 0681/10300608
URL:https://www.rundschau-medien.at/dil/nordic-walking-runde-2/2026-07-23/
LOCATION:Funcourt Spital am Semmering
CATEGORIES:Hobby/Freizeit
END:VEVENT
BEGIN:VEVENT
DTSTART;TZID=Europe/Vienna:20260724T130000
DTEND;TZID=Europe/Vienna:20260724T180000
DTSTAMP:20260426T025415
CREATED:20260408T111704Z
LAST-MODIFIED:20260408T111704Z
UID:10001809-1784898000-1784916000@www.rundschau-medien.at
SUMMARY:Flohmarkt
DESCRIPTION:Die Behindertenhilfe Krieglach betreibt den größten ständigen Flohmarkt im Mürztal. Mit dem Erlös werden behinderte\, kranke und arme Menschen unterstützt.
URL:https://www.rundschau-medien.at/dil/flohmarkt-26/2026-07-24/
LOCATION:Behindertenhilfe Krieglach\, Grazer Straße 79\, Krieglach\, 8670
CATEGORIES:Markt
END:VEVENT
BEGIN:VEVENT
DTSTART;TZID=Europe/Vienna:20260724T190000
DTEND;TZID=Europe/Vienna:20260724T190000
DTSTAMP:20260426T025415
CREATED:20260414T104429Z
LAST-MODIFIED:20260414T104429Z
UID:10001946-1784919600-1784919600@www.rundschau-medien.at
SUMMARY:Konzert
DESCRIPTION:mit den „Old School Basterds“
URL:https://www.rundschau-medien.at/dil/konzert-50/
LOCATION:Schlossberg Bruck an der Mur
CATEGORIES:Konzert
END:VEVENT
BEGIN:VEVENT
DTSTART;TZID=Europe/Vienna:20260725T060000
DTEND;TZID=Europe/Vienna:20260725T120000
DTSTAMP:20260426T025415
CREATED:20260408T090419Z
LAST-MODIFIED:20260408T090419Z
UID:10001752-1784959200-1784980800@www.rundschau-medien.at
SUMMARY:Brucker Wochenmarkt
DESCRIPTION:
URL:https://www.rundschau-medien.at/dil/brucker-wochenmarkt-2/2026-07-25/
LOCATION:Hauptplatz Bruck an der Mur
CATEGORIES:Markt
END:VEVENT
BEGIN:VEVENT
DTSTART;TZID=Europe/Vienna:20260725T140000
DTEND;TZID=Europe/Vienna:20260725T140000
DTSTAMP:20260426T025415
CREATED:20260211T102639Z
LAST-MODIFIED:20260211T102639Z
UID:10000925-1784988000-1784988000@www.rundschau-medien.at
SUMMARY:Maibaumumschneiden
DESCRIPTION:
URL:https://www.rundschau-medien.at/dil/maibaumumschneiden/
LOCATION:Anwesen Hude\, Stadlhof\, Traboch
CATEGORIES:Gesellschaft
END:VEVENT
BEGIN:VEVENT
DTSTART;TZID=Europe/Vienna:20260725T140000
DTEND;TZID=Europe/Vienna:20260725T140000
DTSTAMP:20260426T025415
CREATED:20260408T110946Z
LAST-MODIFIED:20260408T110946Z
UID:10001789-1784988000-1784988000@www.rundschau-medien.at
SUMMARY:Jugendstunden
DESCRIPTION:Heimstunden der Pfadfinder Langenwang
URL:https://www.rundschau-medien.at/dil/jugendstunden/2026-07-25/
LOCATION:Pfadfinderheim Langenwang
CATEGORIES:Kinder/Jugend
END:VEVENT
BEGIN:VEVENT
DTSTART;TZID=Europe/Vienna:20260725T180000
DTEND;TZID=Europe/Vienna:20260725T180000
DTSTAMP:20260426T025415
CREATED:20260421T121245Z
LAST-MODIFIED:20260421T121245Z
UID:10002031-1785002400-1785002400@www.rundschau-medien.at
SUMMARY:Konzert
DESCRIPTION:mit Jan Delay & Disco Nr. 1
URL:https://www.rundschau-medien.at/dil/konzert-61/
LOCATION:Hauptplatz Leoben
CATEGORIES:Konzert
END:VEVENT
BEGIN:VEVENT
DTSTART;TZID=Europe/Vienna:20260726T170000
DTEND;TZID=Europe/Vienna:20260726T170000
DTSTAMP:20260426T025415
CREATED:20260421T121350Z
LAST-MODIFIED:20260421T121350Z
UID:10002032-1785085200-1785085200@www.rundschau-medien.at
SUMMARY:80er-Open-Air
DESCRIPTION:mit „Village People“\, „Boney M.“ und „Weather Girls“
URL:https://www.rundschau-medien.at/dil/80er-open-air/
LOCATION:Hauptplatz Leoben
CATEGORIES:Konzert
END:VEVENT
BEGIN:VEVENT
DTSTART;TZID=Europe/Vienna:20260727T130000
DTEND;TZID=Europe/Vienna:20260727T180000
DTSTAMP:20260426T025415
CREATED:20260408T111704Z
LAST-MODIFIED:20260408T111704Z
UID:10001810-1785157200-1785175200@www.rundschau-medien.at
SUMMARY:Flohmarkt
DESCRIPTION:Die Behindertenhilfe Krieglach betreibt den größten ständigen Flohmarkt im Mürztal. Mit dem Erlös werden behinderte\, kranke und arme Menschen unterstützt.
URL:https://www.rundschau-medien.at/dil/flohmarkt-26/2026-07-27/
LOCATION:Behindertenhilfe Krieglach\, Grazer Straße 79\, Krieglach\, 8670
CATEGORIES:Markt
END:VEVENT
BEGIN:VEVENT
DTSTART;TZID=Europe/Vienna:20260729T060000
DTEND;TZID=Europe/Vienna:20260729T120000
DTSTAMP:20260426T025415
CREATED:20260408T090419Z
LAST-MODIFIED:20260408T090419Z
UID:10001753-1785304800-1785326400@www.rundschau-medien.at
SUMMARY:Brucker Wochenmarkt
DESCRIPTION:
URL:https://www.rundschau-medien.at/dil/brucker-wochenmarkt-2/2026-07-29/
LOCATION:Hauptplatz Bruck an der Mur
CATEGORIES:Markt
END:VEVENT
BEGIN:VEVENT
DTSTART;TZID=Europe/Vienna:20260729T130000
DTEND;TZID=Europe/Vienna:20260729T180000
DTSTAMP:20260426T025415
CREATED:20260408T111704Z
LAST-MODIFIED:20260408T111704Z
UID:10001811-1785330000-1785348000@www.rundschau-medien.at
SUMMARY:Flohmarkt
DESCRIPTION:Die Behindertenhilfe Krieglach betreibt den größten ständigen Flohmarkt im Mürztal. Mit dem Erlös werden behinderte\, kranke und arme Menschen unterstützt.
URL:https://www.rundschau-medien.at/dil/flohmarkt-26/2026-07-29/
LOCATION:Behindertenhilfe Krieglach\, Grazer Straße 79\, Krieglach\, 8670
CATEGORIES:Markt
END:VEVENT
BEGIN:VEVENT
DTSTART;TZID=Europe/Vienna:20260729T150000
DTEND;TZID=Europe/Vienna:20260729T150000
DTSTAMP:20260426T025415
CREATED:20260408T110509Z
LAST-MODIFIED:20260408T110509Z
UID:10001776-1785337200-1785337200@www.rundschau-medien.at
SUMMARY:Handarbeitsrunde
DESCRIPTION:mit den VP-Frauen Langenwang
URL:https://www.rundschau-medien.at/dil/handarbeitsrunde/2026-07-29/
LOCATION:Pfadfinderheim Langenwang
CATEGORIES:Hobby/Freizeit
END:VEVENT
BEGIN:VEVENT
DTSTART;TZID=Europe/Vienna:20260730T180000
DTEND;TZID=Europe/Vienna:20260730T180000
DTSTAMP:20260426T025415
CREATED:20260408T112149Z
LAST-MODIFIED:20260408T112149Z
UID:10001843-1785434400-1785434400@www.rundschau-medien.at
SUMMARY:Nordic-Walking-Runde
DESCRIPTION:Info und Anmeldung unter 0681/10300608
URL:https://www.rundschau-medien.at/dil/nordic-walking-runde-2/2026-07-30/
LOCATION:Funcourt Spital am Semmering
CATEGORIES:Hobby/Freizeit
END:VEVENT
BEGIN:VEVENT
DTSTART;TZID=Europe/Vienna:20260730T183000
DTEND;TZID=Europe/Vienna:20260730T183000
DTSTAMP:20260426T025415
CREATED:20260421T121446Z
LAST-MODIFIED:20260421T121446Z
UID:10002033-1785436200-1785436200@www.rundschau-medien.at
SUMMARY:Schlager Night
DESCRIPTION:
URL:https://www.rundschau-medien.at/dil/schlager-night/
LOCATION:Hauptplatz Leoben
CATEGORIES:Konzert
END:VEVENT
BEGIN:VEVENT
DTSTART;TZID=Europe/Vienna:20260731T130000
DTEND;TZID=Europe/Vienna:20260731T130000
DTSTAMP:20260426T025415
CREATED:20260128T105717Z
LAST-MODIFIED:20260128T105717Z
UID:10000730-1785502800-1785502800@www.rundschau-medien.at
SUMMARY:"Acoustic Campfire"
DESCRIPTION:
URL:https://www.rundschau-medien.at/dil/acoustic-campfire/
LOCATION:Freibadgelände Kindberg
CATEGORIES:Konzert
END:VEVENT
BEGIN:VEVENT
DTSTART;TZID=Europe/Vienna:20260731T130000
DTEND;TZID=Europe/Vienna:20260731T180000
DTSTAMP:20260426T025415
CREATED:20260408T111704Z
LAST-MODIFIED:20260408T111704Z
UID:10001812-1785502800-1785520800@www.rundschau-medien.at
SUMMARY:Flohmarkt
DESCRIPTION:Die Behindertenhilfe Krieglach betreibt den größten ständigen Flohmarkt im Mürztal. Mit dem Erlös werden behinderte\, kranke und arme Menschen unterstützt.
URL:https://www.rundschau-medien.at/dil/flohmarkt-26/2026-07-31/
LOCATION:Behindertenhilfe Krieglach\, Grazer Straße 79\, Krieglach\, 8670
CATEGORIES:Markt
END:VEVENT
BEGIN:VEVENT
DTSTART;TZID=Europe/Vienna:20260801T060000
DTEND;TZID=Europe/Vienna:20260801T120000
DTSTAMP:20260426T025415
CREATED:20260408T090419Z
LAST-MODIFIED:20260408T090419Z
UID:10001754-1785564000-1785585600@www.rundschau-medien.at
SUMMARY:Brucker Wochenmarkt
DESCRIPTION:
URL:https://www.rundschau-medien.at/dil/brucker-wochenmarkt-2/2026-08-01/
LOCATION:Hauptplatz Bruck an der Mur
CATEGORIES:Markt
END:VEVENT
BEGIN:VEVENT
DTSTART;TZID=Europe/Vienna:20260801T070000
DTEND;TZID=Europe/Vienna:20260801T070000
DTSTAMP:20260426T025415
CREATED:20260128T105920Z
LAST-MODIFIED:20260128T105920Z
UID:10000731-1785567600-1785567600@www.rundschau-medien.at
SUMMARY:Bergtour durch die Frauenmauerhöhle auf den Frauenmauergipfel
DESCRIPTION:mit den Naturfreunden Mürzhofen\, Info und Anmeldung bis 24. Juli unter 0676/4348246
URL:https://www.rundschau-medien.at/dil/bergtour-durch-die-frauenmauerhoehle-auf-den-frauenmauergipfel/
LOCATION:Dorfplatz Mürzhofen\, Kindberg
CATEGORIES:Hobby/Freizeit
END:VEVENT
BEGIN:VEVENT
DTSTART;TZID=Europe/Vienna:20260801T080000
DTEND;TZID=Europe/Vienna:20260801T120000
DTSTAMP:20260426T025415
CREATED:20260128T110241Z
LAST-MODIFIED:20260128T110241Z
UID:10000734-1785571200-1785585600@www.rundschau-medien.at
SUMMARY:Bauernmarkt
DESCRIPTION:
URL:https://www.rundschau-medien.at/dil/bauernmarkt-16/
LOCATION:Hauptplatz Trofaiach
CATEGORIES:Markt
END:VEVENT
BEGIN:VEVENT
DTSTART;TZID=Europe/Vienna:20260801T130000
DTEND;TZID=Europe/Vienna:20260801T130000
DTSTAMP:20260426T025415
CREATED:20260128T110031Z
LAST-MODIFIED:20260128T110031Z
UID:10000732-1785589200-1785589200@www.rundschau-medien.at
SUMMARY:"Acoustic Campfire"
DESCRIPTION:
URL:https://www.rundschau-medien.at/dil/acoustic-campfire-2/
LOCATION:Freibadgelände Kindberg
CATEGORIES:Konzert
END:VEVENT
BEGIN:VEVENT
DTSTART;TZID=Europe/Vienna:20260801T140000
DTEND;TZID=Europe/Vienna:20260801T140000
DTSTAMP:20260426T025415
CREATED:20260408T110946Z
LAST-MODIFIED:20260408T110946Z
UID:10001790-1785592800-1785592800@www.rundschau-medien.at
SUMMARY:Jugendstunden
DESCRIPTION:Heimstunden der Pfadfinder Langenwang
URL:https://www.rundschau-medien.at/dil/jugendstunden/2026-08-01/
LOCATION:Pfadfinderheim Langenwang
CATEGORIES:Kinder/Jugend
END:VEVENT
BEGIN:VEVENT
DTSTART;TZID=Europe/Vienna:20260801T173000
DTEND;TZID=Europe/Vienna:20260801T173000
DTSTAMP:20260426T025415
CREATED:20260128T110145Z
LAST-MODIFIED:20260128T110145Z
UID:10000733-1785605400-1785605400@www.rundschau-medien.at
SUMMARY:Abschlusskonzert Suzukifestival
DESCRIPTION:
URL:https://www.rundschau-medien.at/dil/abschlusskonzert-suzukifestival/
LOCATION:Stadtsaal Mürzzuschlag
CATEGORIES:Konzert
END:VEVENT
BEGIN:VEVENT
DTSTART;TZID=Europe/Vienna:20260803T130000
DTEND;TZID=Europe/Vienna:20260803T180000
DTSTAMP:20260426T025415
CREATED:20260408T111704Z
LAST-MODIFIED:20260408T111704Z
UID:10001813-1785762000-1785780000@www.rundschau-medien.at
SUMMARY:Flohmarkt
DESCRIPTION:Die Behindertenhilfe Krieglach betreibt den größten ständigen Flohmarkt im Mürztal. Mit dem Erlös werden behinderte\, kranke und arme Menschen unterstützt.
URL:https://www.rundschau-medien.at/dil/flohmarkt-26/2026-08-03/
LOCATION:Behindertenhilfe Krieglach\, Grazer Straße 79\, Krieglach\, 8670
CATEGORIES:Markt
END:VEVENT
BEGIN:VEVENT
DTSTART;TZID=Europe/Vienna:20260805T060000
DTEND;TZID=Europe/Vienna:20260805T120000
DTSTAMP:20260426T025415
CREATED:20260408T090419Z
LAST-MODIFIED:20260408T090419Z
UID:10001755-1785909600-1785931200@www.rundschau-medien.at
SUMMARY:Brucker Wochenmarkt
DESCRIPTION:
URL:https://www.rundschau-medien.at/dil/brucker-wochenmarkt-2/2026-08-05/
LOCATION:Hauptplatz Bruck an der Mur
CATEGORIES:Markt
END:VEVENT
END:VCALENDAR