BEGIN:VCALENDAR
VERSION:2.0
PRODID:-//Obersteirische Rundschau - ECPv6.15.20//NONSGML v1.0//EN
CALSCALE:GREGORIAN
METHOD:PUBLISH
X-ORIGINAL-URL:https://www.rundschau-medien.at
X-WR-CALDESC:Veranstaltungen für Obersteirische Rundschau
REFRESH-INTERVAL;VALUE=DURATION:PT1H
X-Robots-Tag:noindex
X-PUBLISHED-TTL:PT1H
BEGIN:VTIMEZONE
TZID:Europe/Vienna
BEGIN:DAYLIGHT
TZOFFSETFROM:+0100
TZOFFSETTO:+0200
TZNAME:CEST
DTSTART:20250330T010000
END:DAYLIGHT
BEGIN:STANDARD
TZOFFSETFROM:+0200
TZOFFSETTO:+0100
TZNAME:CET
DTSTART:20251026T010000
END:STANDARD
BEGIN:DAYLIGHT
TZOFFSETFROM:+0100
TZOFFSETTO:+0200
TZNAME:CEST
DTSTART:20260329T010000
END:DAYLIGHT
BEGIN:STANDARD
TZOFFSETFROM:+0200
TZOFFSETTO:+0100
TZNAME:CET
DTSTART:20261025T010000
END:STANDARD
BEGIN:DAYLIGHT
TZOFFSETFROM:+0100
TZOFFSETTO:+0200
TZNAME:CEST
DTSTART:20270328T010000
END:DAYLIGHT
BEGIN:STANDARD
TZOFFSETFROM:+0200
TZOFFSETTO:+0100
TZNAME:CET
DTSTART:20271031T010000
END:STANDARD
END:VTIMEZONE
BEGIN:VEVENT
DTSTART;TZID=Europe/Vienna:20260618T080000
DTEND;TZID=Europe/Vienna:20260618T080000
DTSTAMP:20260426T012930
CREATED:20260127T151825Z
LAST-MODIFIED:20260127T151825Z
UID:10000704-1781769600-1781769600@www.rundschau-medien.at
SUMMARY:Wanderung auf die Sommeralm
DESCRIPTION:mit den Naturfreunden Mürzhofen\, Info unter 0680/3116577
URL:https://www.rundschau-medien.at/dil/wanderung-auf-die-sommeralm/
LOCATION:Dorfplatz Mürzhofen\, Kindberg
CATEGORIES:Hobby/Freizeit
END:VEVENT
BEGIN:VEVENT
DTSTART;TZID=Europe/Vienna:20260618T180000
DTEND;TZID=Europe/Vienna:20260618T180000
DTSTAMP:20260426T012930
CREATED:20260114T143354Z
LAST-MODIFIED:20260121T110931Z
UID:10000267-1781805600-1781805600@www.rundschau-medien.at
SUMMARY:Nordic-Walking-Runde
DESCRIPTION:Info und Anmeldung unter 0681/10300608.
URL:https://www.rundschau-medien.at/dil/nordic-walking-runde/2026-06-18/
LOCATION:Funcourt Spital am Semmering
CATEGORIES:Gesundheit,Hobby/Freizeit
END:VEVENT
BEGIN:VEVENT
DTSTART;TZID=Europe/Vienna:20260618T183000
DTEND;TZID=Europe/Vienna:20260618T183000
DTSTAMP:20260426T012930
CREATED:20260421T120400Z
LAST-MODIFIED:20260421T120400Z
UID:10002023-1781807400-1781807400@www.rundschau-medien.at
SUMMARY:Austrorock Night
DESCRIPTION:
URL:https://www.rundschau-medien.at/dil/austrorock-night/
LOCATION:Hauptplatz Leoben
CATEGORIES:Konzert
END:VEVENT
BEGIN:VEVENT
DTSTART;TZID=Europe/Vienna:20260619T100000
DTEND;TZID=Europe/Vienna:20260619T100000
DTSTAMP:20260426T012930
CREATED:20260127T151949Z
LAST-MODIFIED:20260127T151949Z
UID:10000705-1781863200-1781863200@www.rundschau-medien.at
SUMMARY:Songwriterfestival
DESCRIPTION:
URL:https://www.rundschau-medien.at/dil/songwriterfestival/
LOCATION:Jugendzentrum Hot\, Mürzzuschlag
CATEGORIES:Konzert
END:VEVENT
BEGIN:VEVENT
DTSTART;TZID=Europe/Vienna:20260619T130000
DTEND;TZID=Europe/Vienna:20260619T180000
DTSTAMP:20260426T012930
CREATED:20260114T142330Z
LAST-MODIFIED:20260121T110934Z
UID:10000242-1781874000-1781892000@www.rundschau-medien.at
SUMMARY:Flohmarkt
DESCRIPTION:Die Behindertenhilfe Krieglach betreibt den größten ständigen Flohmarkt im Mürztal. Mit dem Erlös werden behinderte\, kranke und arme Menschen unterstützt.
URL:https://www.rundschau-medien.at/dil/flohmarkt/2026-06-19/
LOCATION:Behindertenhilfe Krieglach\, Grazer Straße 79\, Krieglach\, 8670
CATEGORIES:Hobby/Freizeit,Markt
END:VEVENT
BEGIN:VEVENT
DTSTART;TZID=Europe/Vienna:20260619T193000
DTEND;TZID=Europe/Vienna:20260619T193000
DTSTAMP:20260426T012930
CREATED:20260316T114909Z
LAST-MODIFIED:20260316T114909Z
UID:10001579-1781897400-1781897400@www.rundschau-medien.at
SUMMARY:Nachtwächterführung mit Kulinarik
DESCRIPTION:mit Helga Papst\, Info und Anmeldung unter 0664/73524688 oder helga.papst@gmx.at
URL:https://www.rundschau-medien.at/dil/nachtwaechterfuehrung-mit-kulinarik/2026-06-19/
LOCATION:Pestsäule Hauptplatz Bruck an der Mur
CATEGORIES:Kultur
END:VEVENT
BEGIN:VEVENT
DTSTART;TZID=Europe/Vienna:20260619T203000
DTEND;TZID=Europe/Vienna:20260619T203000
DTSTAMP:20260426T012930
CREATED:20260316T115115Z
LAST-MODIFIED:20260316T115115Z
UID:10001582-1781901000-1781901000@www.rundschau-medien.at
SUMMARY:Nachtwächterführung ohne Kulinarik
DESCRIPTION:mit Helga Papst\, Info und Anmeldung unter 0664/73524688 oder helga.papst@gmx.at
URL:https://www.rundschau-medien.at/dil/nachtwaechterfuehrung-ohne-kulinarik/2026-06-19/
LOCATION:Pestsäule Hauptplatz Bruck an der Mur
CATEGORIES:Kultur
END:VEVENT
BEGIN:VEVENT
DTSTART;TZID=Europe/Vienna:20260620T060000
DTEND;TZID=Europe/Vienna:20260620T120000
DTSTAMP:20260426T012930
CREATED:20260114T143951Z
LAST-MODIFIED:20260121T110934Z
UID:10000310-1781935200-1781956800@www.rundschau-medien.at
SUMMARY:Brucker Wochenmarkt
DESCRIPTION:Vielfältige Produkte der regionalen BäuerInnen und ProduzentInnen.
URL:https://www.rundschau-medien.at/dil/brucker-wochenmarkt/2026-06-20/
LOCATION:Hauptplatz Bruck an der Mur
CATEGORIES:Kulinarik,Markt
END:VEVENT
BEGIN:VEVENT
DTSTART;TZID=Europe/Vienna:20260620T070000
DTEND;TZID=Europe/Vienna:20260620T070000
DTSTAMP:20260426T012930
CREATED:20260127T152242Z
LAST-MODIFIED:20260127T152242Z
UID:10000707-1781938800-1781938800@www.rundschau-medien.at
SUMMARY:Bergtour auf die Messnerin
DESCRIPTION:mit den Naturfreunden Mürzhofen\, Info unter 0660/1715649
URL:https://www.rundschau-medien.at/dil/bergtour-auf-die-messnerin/
LOCATION:Dorfplatz Mürzhofen\, Kindberg
CATEGORIES:Hobby/Freizeit
END:VEVENT
BEGIN:VEVENT
DTSTART;TZID=Europe/Vienna:20260620T100000
DTEND;TZID=Europe/Vienna:20260620T100000
DTSTAMP:20260426T012930
CREATED:20260205T091747Z
LAST-MODIFIED:20260205T091747Z
UID:10000843-1781949600-1781949600@www.rundschau-medien.at
SUMMARY:Spieleturnier
DESCRIPTION:„Waldland“ und „Rummikub“\, Info und Anmeldung unter 0676/3517590
URL:https://www.rundschau-medien.at/dil/spieleturnier/
LOCATION:Ludothek Stadtbücherei Bruck an der Mur
CATEGORIES:Hobby/Freizeit
END:VEVENT
BEGIN:VEVENT
DTSTART;TZID=Europe/Vienna:20260620T140000
DTEND;TZID=Europe/Vienna:20260620T140000
DTSTAMP:20260426T012930
CREATED:20251226T114457Z
LAST-MODIFIED:20260121T110921Z
UID:10000179-1781964000-1781964000@www.rundschau-medien.at
SUMMARY:Jugendstunden
DESCRIPTION:Heimstunden der Pfadfinder Langenwang.
URL:https://www.rundschau-medien.at/dil/jugendstunden-3/2026-06-20/
LOCATION:Pfadfinderheim Langenwang
CATEGORIES:Hobby/Freizeit,Kinder/Jugend
END:VEVENT
BEGIN:VEVENT
DTSTART;TZID=Europe/Vienna:20260620T170000
DTEND;TZID=Europe/Vienna:20260620T170000
DTSTAMP:20260426T012930
CREATED:20260127T152111Z
LAST-MODIFIED:20260127T152111Z
UID:10000706-1781974800-1781974800@www.rundschau-medien.at
SUMMARY:Spieleabend
DESCRIPTION:mit den Spielefreunden Österreich
URL:https://www.rundschau-medien.at/dil/spieleabend-11/
LOCATION:Ludothek Stadtbücherei Bruck an der Mur
CATEGORIES:Hobby/Freizeit
END:VEVENT
BEGIN:VEVENT
DTSTART;TZID=Europe/Vienna:20260621T060000
DTEND;TZID=Europe/Vienna:20260621T130000
DTSTAMP:20260426T012930
CREATED:20260227T112352Z
LAST-MODIFIED:20260227T112352Z
UID:10001463-1782021600-1782046800@www.rundschau-medien.at
SUMMARY:Flohmarkt
DESCRIPTION:
URL:https://www.rundschau-medien.at/dil/flohmarkt-11/
LOCATION:Interspar Kapfenberg
CATEGORIES:Markt
END:VEVENT
BEGIN:VEVENT
DTSTART;TZID=Europe/Vienna:20260621T100000
DTEND;TZID=Europe/Vienna:20260621T100000
DTSTAMP:20260426T012930
CREATED:20260415T080217Z
LAST-MODIFIED:20260415T080217Z
UID:10001957-1782036000-1782036000@www.rundschau-medien.at
SUMMARY:Pfarrfest
DESCRIPTION:
URL:https://www.rundschau-medien.at/dil/pfarrfest-2/
LOCATION:Pfarrgarten St. Michael
CATEGORIES:Gesellschaft
END:VEVENT
BEGIN:VEVENT
DTSTART;TZID=Europe/Vienna:20260621T100000
DTEND;TZID=Europe/Vienna:20260621T100000
DTSTAMP:20260426T012930
CREATED:20260423T130053Z
LAST-MODIFIED:20260423T130053Z
UID:10002084-1782036000-1782036000@www.rundschau-medien.at
SUMMARY:Jubiläumsfeier
DESCRIPTION:125 Jahre Obst- und Gartenbauverein Frohnleiten
URL:https://www.rundschau-medien.at/dil/jubilaeumsfeier/
LOCATION:Veranstaltungszentrum Rintpark\, Frohnleiten
CATEGORIES:Gesellschaft
END:VEVENT
BEGIN:VEVENT
DTSTART;TZID=Europe/Vienna:20260622T130000
DTEND;TZID=Europe/Vienna:20260622T180000
DTSTAMP:20260426T012930
CREATED:20260114T142330Z
LAST-MODIFIED:20260121T110934Z
UID:10000243-1782133200-1782151200@www.rundschau-medien.at
SUMMARY:Flohmarkt
DESCRIPTION:Die Behindertenhilfe Krieglach betreibt den größten ständigen Flohmarkt im Mürztal. Mit dem Erlös werden behinderte\, kranke und arme Menschen unterstützt.
URL:https://www.rundschau-medien.at/dil/flohmarkt/2026-06-22/
LOCATION:Behindertenhilfe Krieglach\, Grazer Straße 79\, Krieglach\, 8670
CATEGORIES:Hobby/Freizeit,Markt
END:VEVENT
BEGIN:VEVENT
DTSTART;TZID=Europe/Vienna:20260622T190000
DTEND;TZID=Europe/Vienna:20260622T190000
DTSTAMP:20260426T012930
CREATED:20260421T120509Z
LAST-MODIFIED:20260421T120509Z
UID:10002024-1782154800-1782154800@www.rundschau-medien.at
SUMMARY:Public Viewing
DESCRIPTION:Fußball WM Österreich-Argentinien
URL:https://www.rundschau-medien.at/dil/public-viewing-2/
LOCATION:Hauptplatz Leoben
CATEGORIES:Hobby/Freizeit,Sport
END:VEVENT
BEGIN:VEVENT
DTSTART;TZID=Europe/Vienna:20260624T050000
DTEND;TZID=Europe/Vienna:20260624T050000
DTSTAMP:20260426T012930
CREATED:20260127T152514Z
LAST-MODIFIED:20260127T152514Z
UID:10000709-1782277200-1782277200@www.rundschau-medien.at
SUMMARY:Bergtour auf den Hochschwab
DESCRIPTION:Dreitagestour mit den Naturfreunden Mürzhofen\, Info und Anmeldung bis Ende Mai unter 0676/5620202
URL:https://www.rundschau-medien.at/dil/bergtour-auf-den-hochschwab/
LOCATION:Dorfplatz Mürzhofen\, Kindberg
CATEGORIES:Hobby/Freizeit
END:VEVENT
BEGIN:VEVENT
DTSTART;TZID=Europe/Vienna:20260624T060000
DTEND;TZID=Europe/Vienna:20260624T120000
DTSTAMP:20260426T012930
CREATED:20260114T143951Z
LAST-MODIFIED:20260121T110934Z
UID:10000311-1782280800-1782302400@www.rundschau-medien.at
SUMMARY:Brucker Wochenmarkt
DESCRIPTION:Vielfältige Produkte der regionalen BäuerInnen und ProduzentInnen.
URL:https://www.rundschau-medien.at/dil/brucker-wochenmarkt/2026-06-24/
LOCATION:Hauptplatz Bruck an der Mur
CATEGORIES:Kulinarik,Markt
END:VEVENT
BEGIN:VEVENT
DTSTART;TZID=Europe/Vienna:20260624T130000
DTEND;TZID=Europe/Vienna:20260624T180000
DTSTAMP:20260426T012930
CREATED:20260114T142330Z
LAST-MODIFIED:20260121T110934Z
UID:10000244-1782306000-1782324000@www.rundschau-medien.at
SUMMARY:Flohmarkt
DESCRIPTION:Die Behindertenhilfe Krieglach betreibt den größten ständigen Flohmarkt im Mürztal. Mit dem Erlös werden behinderte\, kranke und arme Menschen unterstützt.
URL:https://www.rundschau-medien.at/dil/flohmarkt/2026-06-24/
LOCATION:Behindertenhilfe Krieglach\, Grazer Straße 79\, Krieglach\, 8670
CATEGORIES:Hobby/Freizeit,Markt
END:VEVENT
BEGIN:VEVENT
DTSTART;TZID=Europe/Vienna:20260624T140000
DTEND;TZID=Europe/Vienna:20260624T140000
DTSTAMP:20260426T012930
CREATED:20260127T152348Z
LAST-MODIFIED:20260127T152348Z
UID:10000708-1782309600-1782309600@www.rundschau-medien.at
SUMMARY:Pensionistennachmittag
DESCRIPTION:mit dem Pensionistenverband
URL:https://www.rundschau-medien.at/dil/pensionistennachmittag-11/
LOCATION:Kinderfreundeheim Kammern
CATEGORIES:Gesellschaft
END:VEVENT
BEGIN:VEVENT
DTSTART;TZID=Europe/Vienna:20260624T150000
DTEND;TZID=Europe/Vienna:20260624T150000
DTSTAMP:20260426T012930
CREATED:20260114T141405Z
LAST-MODIFIED:20260121T110933Z
UID:10000159-1782313200-1782313200@www.rundschau-medien.at
SUMMARY:Handarbeitsrunde
DESCRIPTION:Gemütliche Winternachmittage mit Stricken\, Sticken und Häkeln\, veranstaltet von den steirischen VP-Frauen.
URL:https://www.rundschau-medien.at/dil/handarbeitsrunde-3/2026-06-24/
LOCATION:Pfadfinderheim Langenwang
CATEGORIES:Hobby/Freizeit
END:VEVENT
BEGIN:VEVENT
DTSTART;TZID=Europe/Vienna:20260625T180000
DTEND;TZID=Europe/Vienna:20260625T180000
DTSTAMP:20260426T012930
CREATED:20260114T143354Z
LAST-MODIFIED:20260121T110931Z
UID:10000268-1782410400-1782410400@www.rundschau-medien.at
SUMMARY:Nordic-Walking-Runde
DESCRIPTION:Info und Anmeldung unter 0681/10300608.
URL:https://www.rundschau-medien.at/dil/nordic-walking-runde/2026-06-25/
LOCATION:Funcourt Spital am Semmering
CATEGORIES:Gesundheit,Hobby/Freizeit
END:VEVENT
BEGIN:VEVENT
DTSTART;TZID=Europe/Vienna:20260625T190000
DTEND;TZID=Europe/Vienna:20260625T190000
DTSTAMP:20260426T012930
CREATED:20260421T120631Z
LAST-MODIFIED:20260421T120631Z
UID:10002025-1782414000-1782414000@www.rundschau-medien.at
SUMMARY:"Boys al Dente" Night
DESCRIPTION:
URL:https://www.rundschau-medien.at/dil/boys-al-dente-night/
LOCATION:Hauptplatz Leoben
CATEGORIES:Konzert
END:VEVENT
BEGIN:VEVENT
DTSTART;TZID=Europe/Vienna:20260626T130000
DTEND;TZID=Europe/Vienna:20260626T180000
DTSTAMP:20260426T012930
CREATED:20260114T142330Z
LAST-MODIFIED:20260121T110934Z
UID:10000245-1782478800-1782496800@www.rundschau-medien.at
SUMMARY:Flohmarkt
DESCRIPTION:Die Behindertenhilfe Krieglach betreibt den größten ständigen Flohmarkt im Mürztal. Mit dem Erlös werden behinderte\, kranke und arme Menschen unterstützt.
URL:https://www.rundschau-medien.at/dil/flohmarkt/2026-06-26/
LOCATION:Behindertenhilfe Krieglach\, Grazer Straße 79\, Krieglach\, 8670
CATEGORIES:Hobby/Freizeit,Markt
END:VEVENT
BEGIN:VEVENT
DTSTART;TZID=Europe/Vienna:20260626T193000
DTEND;TZID=Europe/Vienna:20260626T193000
DTSTAMP:20260426T012930
CREATED:20260127T152640Z
LAST-MODIFIED:20260127T152640Z
UID:10000710-1782502200-1782502200@www.rundschau-medien.at
SUMMARY:"Don’t Stop the Music"
DESCRIPTION:Konzert mit den SängerInnen von Daniela Lenhart
URL:https://www.rundschau-medien.at/dil/dont-stop-the-music/
LOCATION:Jugendzentrum Hot\, Mürzzuschlag
CATEGORIES:Konzert
END:VEVENT
BEGIN:VEVENT
DTSTART;TZID=Europe/Vienna:20260627T060000
DTEND;TZID=Europe/Vienna:20260627T120000
DTSTAMP:20260426T012930
CREATED:20260114T143951Z
LAST-MODIFIED:20260121T110934Z
UID:10000312-1782540000-1782561600@www.rundschau-medien.at
SUMMARY:Brucker Wochenmarkt
DESCRIPTION:Vielfältige Produkte der regionalen BäuerInnen und ProduzentInnen.
URL:https://www.rundschau-medien.at/dil/brucker-wochenmarkt/2026-06-27/
LOCATION:Hauptplatz Bruck an der Mur
CATEGORIES:Kulinarik,Markt
END:VEVENT
BEGIN:VEVENT
DTSTART;TZID=Europe/Vienna:20260627T100000
DTEND;TZID=Europe/Vienna:20260627T100000
DTSTAMP:20260426T012930
CREATED:20260413T084457Z
LAST-MODIFIED:20260413T084457Z
UID:10001932-1782554400-1782554400@www.rundschau-medien.at
SUMMARY:Rotkreuzfest
DESCRIPTION:
URL:https://www.rundschau-medien.at/dil/rotkreuzfest/
LOCATION:Rossmarkt Trofaiach
CATEGORIES:Gesellschaft
END:VEVENT
BEGIN:VEVENT
DTSTART;TZID=Europe/Vienna:20260627T140000
DTEND;TZID=Europe/Vienna:20260627T140000
DTSTAMP:20260426T012930
CREATED:20251226T114457Z
LAST-MODIFIED:20260121T110921Z
UID:10000180-1782568800-1782568800@www.rundschau-medien.at
SUMMARY:Jugendstunden
DESCRIPTION:Heimstunden der Pfadfinder Langenwang.
URL:https://www.rundschau-medien.at/dil/jugendstunden-3/2026-06-27/
LOCATION:Pfadfinderheim Langenwang
CATEGORIES:Hobby/Freizeit,Kinder/Jugend
END:VEVENT
BEGIN:VEVENT
DTSTART;TZID=Europe/Vienna:20260628T100000
DTEND;TZID=Europe/Vienna:20260628T100000
DTSTAMP:20260426T012930
CREATED:20260211T102509Z
LAST-MODIFIED:20260211T102509Z
UID:10000924-1782640800-1782640800@www.rundschau-medien.at
SUMMARY:"Fest im Dorf"
DESCRIPTION:
URL:https://www.rundschau-medien.at/dil/fest-im-dorf/
LOCATION:Herrschaftsgarten Timmersdorf\, Traboch
CATEGORIES:Gesellschaft
END:VEVENT
END:VCALENDAR