BEGIN:VCALENDAR
VERSION:2.0
PRODID:-//Obersteirische Rundschau - ECPv6.15.20//NONSGML v1.0//EN
CALSCALE:GREGORIAN
METHOD:PUBLISH
X-ORIGINAL-URL:https://www.rundschau-medien.at
X-WR-CALDESC:Veranstaltungen für Obersteirische Rundschau
REFRESH-INTERVAL;VALUE=DURATION:PT1H
X-Robots-Tag:noindex
X-PUBLISHED-TTL:PT1H
BEGIN:VTIMEZONE
TZID:Europe/Vienna
BEGIN:DAYLIGHT
TZOFFSETFROM:+0100
TZOFFSETTO:+0200
TZNAME:CEST
DTSTART:20250330T010000
END:DAYLIGHT
BEGIN:STANDARD
TZOFFSETFROM:+0200
TZOFFSETTO:+0100
TZNAME:CET
DTSTART:20251026T010000
END:STANDARD
BEGIN:DAYLIGHT
TZOFFSETFROM:+0100
TZOFFSETTO:+0200
TZNAME:CEST
DTSTART:20260329T010000
END:DAYLIGHT
BEGIN:STANDARD
TZOFFSETFROM:+0200
TZOFFSETTO:+0100
TZNAME:CET
DTSTART:20261025T010000
END:STANDARD
BEGIN:DAYLIGHT
TZOFFSETFROM:+0100
TZOFFSETTO:+0200
TZNAME:CEST
DTSTART:20270328T010000
END:DAYLIGHT
BEGIN:STANDARD
TZOFFSETFROM:+0200
TZOFFSETTO:+0100
TZNAME:CET
DTSTART:20271031T010000
END:STANDARD
END:VTIMEZONE
BEGIN:VEVENT
DTSTART;TZID=Europe/Vienna:20260604T180000
DTEND;TZID=Europe/Vienna:20260604T180000
DTSTAMP:20260421T181454
CREATED:20260114T143354Z
LAST-MODIFIED:20260121T110931Z
UID:10000265-1780596000-1780596000@www.rundschau-medien.at
SUMMARY:Nordic-Walking-Runde
DESCRIPTION:Info und Anmeldung unter 0681/10300608.
URL:https://www.rundschau-medien.at/dil/nordic-walking-runde/2026-06-04/
LOCATION:Funcourt Spital am Semmering
CATEGORIES:Gesundheit,Hobby/Freizeit
END:VEVENT
BEGIN:VEVENT
DTSTART;TZID=Europe/Vienna:20260605T130000
DTEND;TZID=Europe/Vienna:20260605T180000
DTSTAMP:20260421T181454
CREATED:20260114T142330Z
LAST-MODIFIED:20260121T110934Z
UID:10000236-1780664400-1780682400@www.rundschau-medien.at
SUMMARY:Flohmarkt
DESCRIPTION:Die Behindertenhilfe Krieglach betreibt den größten ständigen Flohmarkt im Mürztal. Mit dem Erlös werden behinderte\, kranke und arme Menschen unterstützt.
URL:https://www.rundschau-medien.at/dil/flohmarkt/2026-06-05/
LOCATION:Behindertenhilfe Krieglach\, Grazer Straße 79\, Krieglach\, 8670
CATEGORIES:Hobby/Freizeit,Markt
END:VEVENT
BEGIN:VEVENT
DTSTART;TZID=Europe/Vienna:20260606T060000
DTEND;TZID=Europe/Vienna:20260606T120000
DTSTAMP:20260421T181454
CREATED:20260114T143951Z
LAST-MODIFIED:20260121T110934Z
UID:10000306-1780725600-1780747200@www.rundschau-medien.at
SUMMARY:Brucker Wochenmarkt
DESCRIPTION:Vielfältige Produkte der regionalen BäuerInnen und ProduzentInnen.
URL:https://www.rundschau-medien.at/dil/brucker-wochenmarkt/2026-06-06/
LOCATION:Hauptplatz Bruck an der Mur
CATEGORIES:Kulinarik,Markt
END:VEVENT
BEGIN:VEVENT
DTSTART;TZID=Europe/Vienna:20260606T080000
DTEND;TZID=Europe/Vienna:20260606T120000
DTSTAMP:20260421T181454
CREATED:20260127T151021Z
LAST-MODIFIED:20260127T151021Z
UID:10000698-1780732800-1780747200@www.rundschau-medien.at
SUMMARY:Bauernmarkt
DESCRIPTION:
URL:https://www.rundschau-medien.at/dil/bauernmarkt-14/
LOCATION:Hauptplatz Trofaiach
CATEGORIES:Markt
END:VEVENT
BEGIN:VEVENT
DTSTART;TZID=Europe/Vienna:20260606T140000
DTEND;TZID=Europe/Vienna:20260606T140000
DTSTAMP:20260421T181454
CREATED:20251226T114457Z
LAST-MODIFIED:20260121T110921Z
UID:10000177-1780754400-1780754400@www.rundschau-medien.at
SUMMARY:Jugendstunden
DESCRIPTION:Heimstunden der Pfadfinder Langenwang.
URL:https://www.rundschau-medien.at/dil/jugendstunden-3/2026-06-06/
LOCATION:Pfadfinderheim Langenwang
CATEGORIES:Hobby/Freizeit,Kinder/Jugend
END:VEVENT
BEGIN:VEVENT
DTSTART;TZID=Europe/Vienna:20260606T170000
DTEND;TZID=Europe/Vienna:20260606T170000
DTSTAMP:20260421T181454
CREATED:20260127T150911Z
LAST-MODIFIED:20260127T150911Z
UID:10000697-1780765200-1780765200@www.rundschau-medien.at
SUMMARY:Spieleabend
DESCRIPTION:mit den Spielefreunden Österreich
URL:https://www.rundschau-medien.at/dil/spieleabend-10/
LOCATION:Ludothek Stadtbücherei Bruck an der Mur
CATEGORIES:Hobby/Freizeit
END:VEVENT
BEGIN:VEVENT
DTSTART;TZID=Europe/Vienna:20260607T160000
DTEND;TZID=Europe/Vienna:20260607T160000
DTSTAMP:20260421T181454
CREATED:20260421T120104Z
LAST-MODIFIED:20260421T120104Z
UID:10002020-1780848000-1780848000@www.rundschau-medien.at
SUMMARY:Konzert
DESCRIPTION:mit dem Gösser Musikverein
URL:https://www.rundschau-medien.at/dil/konzert-58/
LOCATION:Hauptplatz Leoben
CATEGORIES:Konzert
END:VEVENT
BEGIN:VEVENT
DTSTART;TZID=Europe/Vienna:20260608T130000
DTEND;TZID=Europe/Vienna:20260608T180000
DTSTAMP:20260421T181454
CREATED:20260114T142330Z
LAST-MODIFIED:20260121T110934Z
UID:10000237-1780923600-1780941600@www.rundschau-medien.at
SUMMARY:Flohmarkt
DESCRIPTION:Die Behindertenhilfe Krieglach betreibt den größten ständigen Flohmarkt im Mürztal. Mit dem Erlös werden behinderte\, kranke und arme Menschen unterstützt.
URL:https://www.rundschau-medien.at/dil/flohmarkt/2026-06-08/
LOCATION:Behindertenhilfe Krieglach\, Grazer Straße 79\, Krieglach\, 8670
CATEGORIES:Hobby/Freizeit,Markt
END:VEVENT
BEGIN:VEVENT
DTSTART;TZID=Europe/Vienna:20260610T060000
DTEND;TZID=Europe/Vienna:20260610T120000
DTSTAMP:20260421T181454
CREATED:20260114T143951Z
LAST-MODIFIED:20260121T110934Z
UID:10000307-1781071200-1781092800@www.rundschau-medien.at
SUMMARY:Brucker Wochenmarkt
DESCRIPTION:Vielfältige Produkte der regionalen BäuerInnen und ProduzentInnen.
URL:https://www.rundschau-medien.at/dil/brucker-wochenmarkt/2026-06-10/
LOCATION:Hauptplatz Bruck an der Mur
CATEGORIES:Kulinarik,Markt
END:VEVENT
BEGIN:VEVENT
DTSTART;TZID=Europe/Vienna:20260610T130000
DTEND;TZID=Europe/Vienna:20260610T180000
DTSTAMP:20260421T181454
CREATED:20260114T142330Z
LAST-MODIFIED:20260121T110934Z
UID:10000238-1781096400-1781114400@www.rundschau-medien.at
SUMMARY:Flohmarkt
DESCRIPTION:Die Behindertenhilfe Krieglach betreibt den größten ständigen Flohmarkt im Mürztal. Mit dem Erlös werden behinderte\, kranke und arme Menschen unterstützt.
URL:https://www.rundschau-medien.at/dil/flohmarkt/2026-06-10/
LOCATION:Behindertenhilfe Krieglach\, Grazer Straße 79\, Krieglach\, 8670
CATEGORIES:Hobby/Freizeit,Markt
END:VEVENT
BEGIN:VEVENT
DTSTART;TZID=Europe/Vienna:20260610T140000
DTEND;TZID=Europe/Vienna:20260610T140000
DTSTAMP:20260421T181454
CREATED:20260127T151152Z
LAST-MODIFIED:20260127T151152Z
UID:10000699-1781100000-1781100000@www.rundschau-medien.at
SUMMARY:Pensionistennachmittag
DESCRIPTION:mit dem Pensionistenverband
URL:https://www.rundschau-medien.at/dil/pensionistennachmittag-10/
LOCATION:Kinderfreundeheim Kammern
CATEGORIES:Gesellschaft
END:VEVENT
BEGIN:VEVENT
DTSTART;TZID=Europe/Vienna:20260610T150000
DTEND;TZID=Europe/Vienna:20260610T150000
DTSTAMP:20260421T181454
CREATED:20260114T141405Z
LAST-MODIFIED:20260121T110933Z
UID:10000157-1781103600-1781103600@www.rundschau-medien.at
SUMMARY:Handarbeitsrunde
DESCRIPTION:Gemütliche Winternachmittage mit Stricken\, Sticken und Häkeln\, veranstaltet von den steirischen VP-Frauen.
URL:https://www.rundschau-medien.at/dil/handarbeitsrunde-3/2026-06-10/
LOCATION:Pfadfinderheim Langenwang
CATEGORIES:Hobby/Freizeit
END:VEVENT
BEGIN:VEVENT
DTSTART;TZID=Europe/Vienna:20260611T150000
DTEND;TZID=Europe/Vienna:20260611T150000
DTSTAMP:20260421T181454
CREATED:20260413T083819Z
LAST-MODIFIED:20260413T083819Z
UID:10001925-1781190000-1781190000@www.rundschau-medien.at
SUMMARY:Tag der offenen Tür
DESCRIPTION:
URL:https://www.rundschau-medien.at/dil/tag-der-offenen-tuer-4/
LOCATION:Musikschule Trofaiach
CATEGORIES:Service/Info
END:VEVENT
BEGIN:VEVENT
DTSTART;TZID=Europe/Vienna:20260611T180000
DTEND;TZID=Europe/Vienna:20260611T180000
DTSTAMP:20260421T181454
CREATED:20260114T143354Z
LAST-MODIFIED:20260121T110931Z
UID:10000266-1781200800-1781200800@www.rundschau-medien.at
SUMMARY:Nordic-Walking-Runde
DESCRIPTION:Info und Anmeldung unter 0681/10300608.
URL:https://www.rundschau-medien.at/dil/nordic-walking-runde/2026-06-11/
LOCATION:Funcourt Spital am Semmering
CATEGORIES:Gesundheit,Hobby/Freizeit
END:VEVENT
BEGIN:VEVENT
DTSTART;TZID=Europe/Vienna:20260611T200000
DTEND;TZID=Europe/Vienna:20260611T200000
DTSTAMP:20260421T181454
CREATED:20260413T083913Z
LAST-MODIFIED:20260413T083913Z
UID:10001926-1781208000-1781208000@www.rundschau-medien.at
SUMMARY:Konzert
DESCRIPTION:mit dem Oser-Steinrück-Quartett
URL:https://www.rundschau-medien.at/dil/konzert-48/
LOCATION:Museumsdepot Trofaiach
CATEGORIES:Konzert
END:VEVENT
BEGIN:VEVENT
DTSTART;TZID=Europe/Vienna:20260611T200000
DTEND;TZID=Europe/Vienna:20260611T200000
DTSTAMP:20260421T181454
CREATED:20260421T120209Z
LAST-MODIFIED:20260421T120209Z
UID:10002021-1781208000-1781208000@www.rundschau-medien.at
SUMMARY:Austropop Night
DESCRIPTION:
URL:https://www.rundschau-medien.at/dil/austropop-night/
LOCATION:Hauptplatz Leoben
CATEGORIES:Konzert
END:VEVENT
BEGIN:VEVENT
DTSTART;TZID=Europe/Vienna:20260612T130000
DTEND;TZID=Europe/Vienna:20260612T180000
DTSTAMP:20260421T181454
CREATED:20260114T142330Z
LAST-MODIFIED:20260121T110934Z
UID:10000239-1781269200-1781287200@www.rundschau-medien.at
SUMMARY:Flohmarkt
DESCRIPTION:Die Behindertenhilfe Krieglach betreibt den größten ständigen Flohmarkt im Mürztal. Mit dem Erlös werden behinderte\, kranke und arme Menschen unterstützt.
URL:https://www.rundschau-medien.at/dil/flohmarkt/2026-06-12/
LOCATION:Behindertenhilfe Krieglach\, Grazer Straße 79\, Krieglach\, 8670
CATEGORIES:Hobby/Freizeit,Markt
END:VEVENT
BEGIN:VEVENT
DTSTART;TZID=Europe/Vienna:20260612T193000
DTEND;TZID=Europe/Vienna:20260612T193000
DTSTAMP:20260421T181454
CREATED:20260127T151309Z
LAST-MODIFIED:20260127T151309Z
UID:10000700-1781292600-1781292600@www.rundschau-medien.at
SUMMARY:"Bach/Gade"
DESCRIPTION:Abokonzert mit dem Symphonischen Orchester Kapfenberg
URL:https://www.rundschau-medien.at/dil/bach-gade/
LOCATION:Hotel Böhlerstern\, Kapfenberg
CATEGORIES:Konzert
END:VEVENT
BEGIN:VEVENT
DTSTART;TZID=Europe/Vienna:20260612T193000
DTEND;TZID=Europe/Vienna:20260612T193000
DTSTAMP:20260421T181454
CREATED:20260413T084008Z
LAST-MODIFIED:20260413T084008Z
UID:10001927-1781292600-1781292600@www.rundschau-medien.at
SUMMARY:Konzert
DESCRIPTION:mit „Okemah“
URL:https://www.rundschau-medien.at/dil/konzert-49/
LOCATION:Simon-Mühle Trofaiach
CATEGORIES:Konzert
END:VEVENT
BEGIN:VEVENT
DTSTART;TZID=Europe/Vienna:20260613T060000
DTEND;TZID=Europe/Vienna:20260613T120000
DTSTAMP:20260421T181454
CREATED:20260114T143951Z
LAST-MODIFIED:20260121T110934Z
UID:10000308-1781330400-1781352000@www.rundschau-medien.at
SUMMARY:Brucker Wochenmarkt
DESCRIPTION:Vielfältige Produkte der regionalen BäuerInnen und ProduzentInnen.
URL:https://www.rundschau-medien.at/dil/brucker-wochenmarkt/2026-06-13/
LOCATION:Hauptplatz Bruck an der Mur
CATEGORIES:Kulinarik,Markt
END:VEVENT
BEGIN:VEVENT
DTSTART;TZID=Europe/Vienna:20260613T063000
DTEND;TZID=Europe/Vienna:20260613T063000
DTSTAMP:20260421T181454
CREATED:20260127T151605Z
LAST-MODIFIED:20260127T151605Z
UID:10000702-1781332200-1781332200@www.rundschau-medien.at
SUMMARY:Bergtour auf den Lugauer
DESCRIPTION:mit den Naturfreunden Mürzhofen\, Info unter 0676/4348246
URL:https://www.rundschau-medien.at/dil/bergtour-auf-den-lugauer/
LOCATION:Dorfplatz Mürzhofen\, Kindberg
CATEGORIES:Hobby/Freizeit
END:VEVENT
BEGIN:VEVENT
DTSTART;TZID=Europe/Vienna:20260613T113000
DTEND;TZID=Europe/Vienna:20260613T113000
DTSTAMP:20260421T181454
CREATED:20260127T151427Z
LAST-MODIFIED:20260127T151427Z
UID:10000701-1781350200-1781350200@www.rundschau-medien.at
SUMMARY:Grillfest
DESCRIPTION:
URL:https://www.rundschau-medien.at/dil/grillfest-2/
LOCATION:Familie Csatlinatz\, Kammern
CATEGORIES:Gesellschaft,Kulinarik
END:VEVENT
BEGIN:VEVENT
DTSTART;TZID=Europe/Vienna:20260613T140000
DTEND;TZID=Europe/Vienna:20260613T140000
DTSTAMP:20260421T181454
CREATED:20251226T114457Z
LAST-MODIFIED:20260121T110921Z
UID:10000178-1781359200-1781359200@www.rundschau-medien.at
SUMMARY:Jugendstunden
DESCRIPTION:Heimstunden der Pfadfinder Langenwang.
URL:https://www.rundschau-medien.at/dil/jugendstunden-3/2026-06-13/
LOCATION:Pfadfinderheim Langenwang
CATEGORIES:Hobby/Freizeit,Kinder/Jugend
END:VEVENT
BEGIN:VEVENT
DTSTART;TZID=Europe/Vienna:20260614T060000
DTEND;TZID=Europe/Vienna:20260614T130000
DTSTAMP:20260421T181454
CREATED:20260227T112258Z
LAST-MODIFIED:20260227T112258Z
UID:10001462-1781416800-1781442000@www.rundschau-medien.at
SUMMARY:Flohmarkt
DESCRIPTION:
URL:https://www.rundschau-medien.at/dil/flohmarkt-10/
LOCATION:Interspar Kapfenberg
CATEGORIES:Markt
END:VEVENT
BEGIN:VEVENT
DTSTART;TZID=Europe/Vienna:20260614T100000
DTEND;TZID=Europe/Vienna:20260614T100000
DTSTAMP:20260421T181454
CREATED:20260413T084114Z
LAST-MODIFIED:20260413T084114Z
UID:10001928-1781431200-1781431200@www.rundschau-medien.at
SUMMARY:Hafninger Gasslfest
DESCRIPTION:
URL:https://www.rundschau-medien.at/dil/hafninger-gasslfest/
LOCATION:Parkplatz Gasthaus Unterdechler\, Trofaiach
CATEGORIES:Gesellschaft
END:VEVENT
BEGIN:VEVENT
DTSTART;TZID=Europe/Vienna:20260614T150000
DTEND;TZID=Europe/Vienna:20260614T150000
DTSTAMP:20260421T181454
CREATED:20260421T120311Z
LAST-MODIFIED:20260421T120311Z
UID:10002022-1781449200-1781449200@www.rundschau-medien.at
SUMMARY:Vatertagskonzert
DESCRIPTION:mit dem Polizeimusikverein Leoben
URL:https://www.rundschau-medien.at/dil/vatertagskonzert/
LOCATION:Hauptplatz Leoben
CATEGORIES:Konzert
END:VEVENT
BEGIN:VEVENT
DTSTART;TZID=Europe/Vienna:20260615T130000
DTEND;TZID=Europe/Vienna:20260615T180000
DTSTAMP:20260421T181454
CREATED:20260114T142330Z
LAST-MODIFIED:20260121T110934Z
UID:10000240-1781528400-1781546400@www.rundschau-medien.at
SUMMARY:Flohmarkt
DESCRIPTION:Die Behindertenhilfe Krieglach betreibt den größten ständigen Flohmarkt im Mürztal. Mit dem Erlös werden behinderte\, kranke und arme Menschen unterstützt.
URL:https://www.rundschau-medien.at/dil/flohmarkt/2026-06-15/
LOCATION:Behindertenhilfe Krieglach\, Grazer Straße 79\, Krieglach\, 8670
CATEGORIES:Hobby/Freizeit,Markt
END:VEVENT
BEGIN:VEVENT
DTSTART;TZID=Europe/Vienna:20260615T150000
DTEND;TZID=Europe/Vienna:20260615T150000
DTSTAMP:20260421T181454
CREATED:20260413T084217Z
LAST-MODIFIED:20260413T084217Z
UID:10001929-1781535600-1781535600@www.rundschau-medien.at
SUMMARY:Musikschulkonzert
DESCRIPTION:
URL:https://www.rundschau-medien.at/dil/musikschulkonzert/
LOCATION:Cafe Gande\, Trofaiach
CATEGORIES:Konzert
END:VEVENT
BEGIN:VEVENT
DTSTART;TZID=Europe/Vienna:20260617T060000
DTEND;TZID=Europe/Vienna:20260617T120000
DTSTAMP:20260421T181454
CREATED:20260114T143951Z
LAST-MODIFIED:20260121T110934Z
UID:10000309-1781676000-1781697600@www.rundschau-medien.at
SUMMARY:Brucker Wochenmarkt
DESCRIPTION:Vielfältige Produkte der regionalen BäuerInnen und ProduzentInnen.
URL:https://www.rundschau-medien.at/dil/brucker-wochenmarkt/2026-06-17/
LOCATION:Hauptplatz Bruck an der Mur
CATEGORIES:Kulinarik,Markt
END:VEVENT
BEGIN:VEVENT
DTSTART;TZID=Europe/Vienna:20260617T090000
DTEND;TZID=Europe/Vienna:20260617T100000
DTSTAMP:20260421T181454
CREATED:20260127T151701Z
LAST-MODIFIED:20260127T151701Z
UID:10000703-1781686800-1781690400@www.rundschau-medien.at
SUMMARY:Zwergerltreff
DESCRIPTION:
URL:https://www.rundschau-medien.at/dil/zwergerltreff-5/
LOCATION:Pfarrbibliothek Krieglach
CATEGORIES:Kinder/Jugend
END:VEVENT
END:VCALENDAR