BEGIN:VCALENDAR
VERSION:2.0
PRODID:-//Obersteirische Rundschau - ECPv6.15.20//NONSGML v1.0//EN
CALSCALE:GREGORIAN
METHOD:PUBLISH
X-ORIGINAL-URL:https://www.rundschau-medien.at
X-WR-CALDESC:Veranstaltungen für Obersteirische Rundschau
REFRESH-INTERVAL;VALUE=DURATION:PT1H
X-Robots-Tag:noindex
X-PUBLISHED-TTL:PT1H
BEGIN:VTIMEZONE
TZID:Europe/Vienna
BEGIN:DAYLIGHT
TZOFFSETFROM:+0100
TZOFFSETTO:+0200
TZNAME:CEST
DTSTART:20250330T010000
END:DAYLIGHT
BEGIN:STANDARD
TZOFFSETFROM:+0200
TZOFFSETTO:+0100
TZNAME:CET
DTSTART:20251026T010000
END:STANDARD
BEGIN:DAYLIGHT
TZOFFSETFROM:+0100
TZOFFSETTO:+0200
TZNAME:CEST
DTSTART:20260329T010000
END:DAYLIGHT
BEGIN:STANDARD
TZOFFSETFROM:+0200
TZOFFSETTO:+0100
TZNAME:CET
DTSTART:20261025T010000
END:STANDARD
BEGIN:DAYLIGHT
TZOFFSETFROM:+0100
TZOFFSETTO:+0200
TZNAME:CEST
DTSTART:20270328T010000
END:DAYLIGHT
BEGIN:STANDARD
TZOFFSETFROM:+0200
TZOFFSETTO:+0100
TZNAME:CET
DTSTART:20271031T010000
END:STANDARD
END:VTIMEZONE
BEGIN:VEVENT
DTSTART;TZID=Europe/Vienna:20260530T060000
DTEND;TZID=Europe/Vienna:20260530T120000
DTSTAMP:20260421T164945
CREATED:20260114T143951Z
LAST-MODIFIED:20260121T110934Z
UID:10000304-1780120800-1780142400@www.rundschau-medien.at
SUMMARY:Brucker Wochenmarkt
DESCRIPTION:Vielfältige Produkte der regionalen BäuerInnen und ProduzentInnen.
URL:https://www.rundschau-medien.at/dil/brucker-wochenmarkt/2026-05-30/
LOCATION:Hauptplatz Bruck an der Mur
CATEGORIES:Kulinarik,Markt
END:VEVENT
BEGIN:VEVENT
DTSTART;TZID=Europe/Vienna:20260530T090000
DTEND;TZID=Europe/Vienna:20260530T090000
DTSTAMP:20260421T164945
CREATED:20260421T120005Z
LAST-MODIFIED:20260421T120005Z
UID:10002018-1780131600-1780131600@www.rundschau-medien.at
SUMMARY:Bergstadtfest
DESCRIPTION:
URL:https://www.rundschau-medien.at/dil/bergstadtfest/2026-05-30/
LOCATION:Hauptplatz Leoben
CATEGORIES:Gesellschaft
END:VEVENT
BEGIN:VEVENT
DTSTART;TZID=Europe/Vienna:20260530T103000
DTEND;TZID=Europe/Vienna:20260530T103000
DTSTAMP:20260421T164945
CREATED:20260126T145302Z
LAST-MODIFIED:20260126T145302Z
UID:10000651-1780137000-1780137000@www.rundschau-medien.at
SUMMARY:Grillfest
DESCRIPTION:
URL:https://www.rundschau-medien.at/dil/grillfest/
LOCATION:„Wir für unser Geschäft in Kammern“
CATEGORIES:Gesellschaft
END:VEVENT
BEGIN:VEVENT
DTSTART;TZID=Europe/Vienna:20260530T110000
DTEND;TZID=Europe/Vienna:20260530T110000
DTSTAMP:20260421T164945
CREATED:20260413T083437Z
LAST-MODIFIED:20260413T083437Z
UID:10001921-1780138800-1780138800@www.rundschau-medien.at
SUMMARY:Cityrun
DESCRIPTION:
URL:https://www.rundschau-medien.at/dil/cityrun/
LOCATION:Hauptplatz Trofaiach
CATEGORIES:Hobby/Freizeit
END:VEVENT
BEGIN:VEVENT
DTSTART;TZID=Europe/Vienna:20260530T140000
DTEND;TZID=Europe/Vienna:20260530T140000
DTSTAMP:20260421T164945
CREATED:20251226T114457Z
LAST-MODIFIED:20260121T110921Z
UID:10000176-1780149600-1780149600@www.rundschau-medien.at
SUMMARY:Jugendstunden
DESCRIPTION:Heimstunden der Pfadfinder Langenwang.
URL:https://www.rundschau-medien.at/dil/jugendstunden-3/2026-05-30/
LOCATION:Pfadfinderheim Langenwang
CATEGORIES:Hobby/Freizeit,Kinder/Jugend
END:VEVENT
BEGIN:VEVENT
DTSTART;TZID=Europe/Vienna:20260530T190000
DTEND;TZID=Europe/Vienna:20260530T190000
DTSTAMP:20260421T164945
CREATED:20260211T102401Z
LAST-MODIFIED:20260211T102401Z
UID:10000923-1780167600-1780167600@www.rundschau-medien.at
SUMMARY:Konzert
DESCRIPTION:mit der Singgemeinschaft Traboch
URL:https://www.rundschau-medien.at/dil/konzert-22/
LOCATION:Festsaal Traboch
CATEGORIES:Konzert
END:VEVENT
BEGIN:VEVENT
DTSTART;TZID=Europe/Vienna:20260530T190000
DTEND;TZID=Europe/Vienna:20260530T190000
DTSTAMP:20260421T164945
CREATED:20260413T083532Z
LAST-MODIFIED:20260413T083532Z
UID:10001922-1780167600-1780167600@www.rundschau-medien.at
SUMMARY:Konzert
DESCRIPTION:mit der Chorgemeinschaft Trofaiach
URL:https://www.rundschau-medien.at/dil/konzert-47/
LOCATION:Stadtkultursaal Trofaiach
CATEGORIES:Konzert
END:VEVENT
BEGIN:VEVENT
DTSTART;TZID=Europe/Vienna:20260531T070000
DTEND;TZID=Europe/Vienna:20260531T070000
DTSTAMP:20260421T164945
CREATED:20260127T150659Z
LAST-MODIFIED:20260127T150659Z
UID:10000695-1780210800-1780210800@www.rundschau-medien.at
SUMMARY:Bergtour durch die Wörschachklamm zum Spechtensee
DESCRIPTION:Mit den Naturfreunden Mürzhofen\, Info unter 0677/61937748
URL:https://www.rundschau-medien.at/dil/bergtour-durch-die-woerschachklamm-zum-spechtensee/
LOCATION:Dorfplatz Mürzhofen\, Kindberg
CATEGORIES:Hobby/Freizeit
END:VEVENT
BEGIN:VEVENT
DTSTART;TZID=Europe/Vienna:20260531T070000
DTEND;TZID=Europe/Vienna:20260531T070000
DTSTAMP:20260421T164945
CREATED:20260413T083638Z
LAST-MODIFIED:20260413T083638Z
UID:10001923-1780210800-1780210800@www.rundschau-medien.at
SUMMARY:Dreifaltigkeitskirtag
DESCRIPTION:
URL:https://www.rundschau-medien.at/dil/dreifaltigkeitskirtag/
LOCATION:Hauptstraße und Luchinettigasse\, Trofaiach
CATEGORIES:Markt
END:VEVENT
BEGIN:VEVENT
DTSTART;TZID=Europe/Vienna:20260531T090000
DTEND;TZID=Europe/Vienna:20260531T090000
DTSTAMP:20260421T164945
CREATED:20260413T083725Z
LAST-MODIFIED:20260413T083725Z
UID:10001924-1780218000-1780218000@www.rundschau-medien.at
SUMMARY:Pfarrfest
DESCRIPTION:
URL:https://www.rundschau-medien.at/dil/pfarrfest/
LOCATION:Stadtpfarrkirche Trofaiach
CATEGORIES:Gesellschaft
END:VEVENT
BEGIN:VEVENT
DTSTART;TZID=Europe/Vienna:20260531T100000
DTEND;TZID=Europe/Vienna:20260531T100000
DTSTAMP:20260421T164945
CREATED:20260421T120005Z
LAST-MODIFIED:20260421T120005Z
UID:10002019-1780221600-1780221600@www.rundschau-medien.at
SUMMARY:Bergstadtfest
DESCRIPTION:
URL:https://www.rundschau-medien.at/dil/bergstadtfest/2026-05-31/
LOCATION:Hauptplatz Leoben
CATEGORIES:Gesellschaft
END:VEVENT
BEGIN:VEVENT
DTSTART;TZID=Europe/Vienna:20260531T193000
DTEND;TZID=Europe/Vienna:20260531T193000
DTSTAMP:20260421T164945
CREATED:20260127T150810Z
LAST-MODIFIED:20260127T150810Z
UID:10000696-1780255800-1780255800@www.rundschau-medien.at
SUMMARY:Konzert
DESCRIPTION:mit dem Aron Quartett Wien
URL:https://www.rundschau-medien.at/dil/konzert-11/
LOCATION:Schloss Oberkindberg\, Kindberg
CATEGORIES:Konzert
END:VEVENT
BEGIN:VEVENT
DTSTART;TZID=Europe/Vienna:20260601T130000
DTEND;TZID=Europe/Vienna:20260601T180000
DTSTAMP:20260421T164945
CREATED:20260114T142330Z
LAST-MODIFIED:20260121T110934Z
UID:10000234-1780318800-1780336800@www.rundschau-medien.at
SUMMARY:Flohmarkt
DESCRIPTION:Die Behindertenhilfe Krieglach betreibt den größten ständigen Flohmarkt im Mürztal. Mit dem Erlös werden behinderte\, kranke und arme Menschen unterstützt.
URL:https://www.rundschau-medien.at/dil/flohmarkt/2026-06-01/
LOCATION:Behindertenhilfe Krieglach\, Grazer Straße 79\, Krieglach\, 8670
CATEGORIES:Hobby/Freizeit,Markt
END:VEVENT
BEGIN:VEVENT
DTSTART;TZID=Europe/Vienna:20260603T060000
DTEND;TZID=Europe/Vienna:20260603T120000
DTSTAMP:20260421T164945
CREATED:20260114T143951Z
LAST-MODIFIED:20260121T110934Z
UID:10000305-1780466400-1780488000@www.rundschau-medien.at
SUMMARY:Brucker Wochenmarkt
DESCRIPTION:Vielfältige Produkte der regionalen BäuerInnen und ProduzentInnen.
URL:https://www.rundschau-medien.at/dil/brucker-wochenmarkt/2026-06-03/
LOCATION:Hauptplatz Bruck an der Mur
CATEGORIES:Kulinarik,Markt
END:VEVENT
BEGIN:VEVENT
DTSTART;TZID=Europe/Vienna:20260603T130000
DTEND;TZID=Europe/Vienna:20260603T180000
DTSTAMP:20260421T164945
CREATED:20260114T142330Z
LAST-MODIFIED:20260121T110934Z
UID:10000235-1780491600-1780509600@www.rundschau-medien.at
SUMMARY:Flohmarkt
DESCRIPTION:Die Behindertenhilfe Krieglach betreibt den größten ständigen Flohmarkt im Mürztal. Mit dem Erlös werden behinderte\, kranke und arme Menschen unterstützt.
URL:https://www.rundschau-medien.at/dil/flohmarkt/2026-06-03/
LOCATION:Behindertenhilfe Krieglach\, Grazer Straße 79\, Krieglach\, 8670
CATEGORIES:Hobby/Freizeit,Markt
END:VEVENT
BEGIN:VEVENT
DTSTART;TZID=Europe/Vienna:20260603T143000
DTEND;TZID=Europe/Vienna:20260603T163000
DTSTAMP:20260421T164945
CREATED:20260206T091119Z
LAST-MODIFIED:20260206T091119Z
UID:10000850-1780497000-1780504200@www.rundschau-medien.at
SUMMARY:Treffen der Parkinson-Selbsthilfegruppe
DESCRIPTION:Anmeldung für ein kostenloses Erstgespräch unter 0680/1413047 oder E-Mail walter.ondrich@gmx.at
URL:https://www.rundschau-medien.at/dil/treffen-der-parkinson-selbsthilfegruppe-4/
LOCATION:Maßenbergstraße 9\, Leoben
CATEGORIES:Gesundheit,Service/Info
END:VEVENT
BEGIN:VEVENT
DTSTART;TZID=Europe/Vienna:20260603T150000
DTEND;TZID=Europe/Vienna:20260603T150000
DTSTAMP:20260421T164945
CREATED:20260114T141405Z
LAST-MODIFIED:20260121T110933Z
UID:10000156-1780498800-1780498800@www.rundschau-medien.at
SUMMARY:Handarbeitsrunde
DESCRIPTION:Gemütliche Winternachmittage mit Stricken\, Sticken und Häkeln\, veranstaltet von den steirischen VP-Frauen.
URL:https://www.rundschau-medien.at/dil/handarbeitsrunde-3/2026-06-03/
LOCATION:Pfadfinderheim Langenwang
CATEGORIES:Hobby/Freizeit
END:VEVENT
BEGIN:VEVENT
DTSTART;TZID=Europe/Vienna:20260604T180000
DTEND;TZID=Europe/Vienna:20260604T180000
DTSTAMP:20260421T164945
CREATED:20260114T143354Z
LAST-MODIFIED:20260121T110931Z
UID:10000265-1780596000-1780596000@www.rundschau-medien.at
SUMMARY:Nordic-Walking-Runde
DESCRIPTION:Info und Anmeldung unter 0681/10300608.
URL:https://www.rundschau-medien.at/dil/nordic-walking-runde/2026-06-04/
LOCATION:Funcourt Spital am Semmering
CATEGORIES:Gesundheit,Hobby/Freizeit
END:VEVENT
BEGIN:VEVENT
DTSTART;TZID=Europe/Vienna:20260605T130000
DTEND;TZID=Europe/Vienna:20260605T180000
DTSTAMP:20260421T164945
CREATED:20260114T142330Z
LAST-MODIFIED:20260121T110934Z
UID:10000236-1780664400-1780682400@www.rundschau-medien.at
SUMMARY:Flohmarkt
DESCRIPTION:Die Behindertenhilfe Krieglach betreibt den größten ständigen Flohmarkt im Mürztal. Mit dem Erlös werden behinderte\, kranke und arme Menschen unterstützt.
URL:https://www.rundschau-medien.at/dil/flohmarkt/2026-06-05/
LOCATION:Behindertenhilfe Krieglach\, Grazer Straße 79\, Krieglach\, 8670
CATEGORIES:Hobby/Freizeit,Markt
END:VEVENT
BEGIN:VEVENT
DTSTART;TZID=Europe/Vienna:20260606T060000
DTEND;TZID=Europe/Vienna:20260606T120000
DTSTAMP:20260421T164945
CREATED:20260114T143951Z
LAST-MODIFIED:20260121T110934Z
UID:10000306-1780725600-1780747200@www.rundschau-medien.at
SUMMARY:Brucker Wochenmarkt
DESCRIPTION:Vielfältige Produkte der regionalen BäuerInnen und ProduzentInnen.
URL:https://www.rundschau-medien.at/dil/brucker-wochenmarkt/2026-06-06/
LOCATION:Hauptplatz Bruck an der Mur
CATEGORIES:Kulinarik,Markt
END:VEVENT
BEGIN:VEVENT
DTSTART;TZID=Europe/Vienna:20260606T080000
DTEND;TZID=Europe/Vienna:20260606T120000
DTSTAMP:20260421T164945
CREATED:20260127T151021Z
LAST-MODIFIED:20260127T151021Z
UID:10000698-1780732800-1780747200@www.rundschau-medien.at
SUMMARY:Bauernmarkt
DESCRIPTION:
URL:https://www.rundschau-medien.at/dil/bauernmarkt-14/
LOCATION:Hauptplatz Trofaiach
CATEGORIES:Markt
END:VEVENT
BEGIN:VEVENT
DTSTART;TZID=Europe/Vienna:20260606T140000
DTEND;TZID=Europe/Vienna:20260606T140000
DTSTAMP:20260421T164945
CREATED:20251226T114457Z
LAST-MODIFIED:20260121T110921Z
UID:10000177-1780754400-1780754400@www.rundschau-medien.at
SUMMARY:Jugendstunden
DESCRIPTION:Heimstunden der Pfadfinder Langenwang.
URL:https://www.rundschau-medien.at/dil/jugendstunden-3/2026-06-06/
LOCATION:Pfadfinderheim Langenwang
CATEGORIES:Hobby/Freizeit,Kinder/Jugend
END:VEVENT
BEGIN:VEVENT
DTSTART;TZID=Europe/Vienna:20260606T170000
DTEND;TZID=Europe/Vienna:20260606T170000
DTSTAMP:20260421T164945
CREATED:20260127T150911Z
LAST-MODIFIED:20260127T150911Z
UID:10000697-1780765200-1780765200@www.rundschau-medien.at
SUMMARY:Spieleabend
DESCRIPTION:mit den Spielefreunden Österreich
URL:https://www.rundschau-medien.at/dil/spieleabend-10/
LOCATION:Ludothek Stadtbücherei Bruck an der Mur
CATEGORIES:Hobby/Freizeit
END:VEVENT
BEGIN:VEVENT
DTSTART;TZID=Europe/Vienna:20260607T160000
DTEND;TZID=Europe/Vienna:20260607T160000
DTSTAMP:20260421T164945
CREATED:20260421T120104Z
LAST-MODIFIED:20260421T120104Z
UID:10002020-1780848000-1780848000@www.rundschau-medien.at
SUMMARY:Konzert
DESCRIPTION:mit dem Gösser Musikverein
URL:https://www.rundschau-medien.at/dil/konzert-58/
LOCATION:Hauptplatz Leoben
CATEGORIES:Konzert
END:VEVENT
BEGIN:VEVENT
DTSTART;TZID=Europe/Vienna:20260608T130000
DTEND;TZID=Europe/Vienna:20260608T180000
DTSTAMP:20260421T164945
CREATED:20260114T142330Z
LAST-MODIFIED:20260121T110934Z
UID:10000237-1780923600-1780941600@www.rundschau-medien.at
SUMMARY:Flohmarkt
DESCRIPTION:Die Behindertenhilfe Krieglach betreibt den größten ständigen Flohmarkt im Mürztal. Mit dem Erlös werden behinderte\, kranke und arme Menschen unterstützt.
URL:https://www.rundschau-medien.at/dil/flohmarkt/2026-06-08/
LOCATION:Behindertenhilfe Krieglach\, Grazer Straße 79\, Krieglach\, 8670
CATEGORIES:Hobby/Freizeit,Markt
END:VEVENT
BEGIN:VEVENT
DTSTART;TZID=Europe/Vienna:20260610T060000
DTEND;TZID=Europe/Vienna:20260610T120000
DTSTAMP:20260421T164945
CREATED:20260114T143951Z
LAST-MODIFIED:20260121T110934Z
UID:10000307-1781071200-1781092800@www.rundschau-medien.at
SUMMARY:Brucker Wochenmarkt
DESCRIPTION:Vielfältige Produkte der regionalen BäuerInnen und ProduzentInnen.
URL:https://www.rundschau-medien.at/dil/brucker-wochenmarkt/2026-06-10/
LOCATION:Hauptplatz Bruck an der Mur
CATEGORIES:Kulinarik,Markt
END:VEVENT
BEGIN:VEVENT
DTSTART;TZID=Europe/Vienna:20260610T130000
DTEND;TZID=Europe/Vienna:20260610T180000
DTSTAMP:20260421T164945
CREATED:20260114T142330Z
LAST-MODIFIED:20260121T110934Z
UID:10000238-1781096400-1781114400@www.rundschau-medien.at
SUMMARY:Flohmarkt
DESCRIPTION:Die Behindertenhilfe Krieglach betreibt den größten ständigen Flohmarkt im Mürztal. Mit dem Erlös werden behinderte\, kranke und arme Menschen unterstützt.
URL:https://www.rundschau-medien.at/dil/flohmarkt/2026-06-10/
LOCATION:Behindertenhilfe Krieglach\, Grazer Straße 79\, Krieglach\, 8670
CATEGORIES:Hobby/Freizeit,Markt
END:VEVENT
BEGIN:VEVENT
DTSTART;TZID=Europe/Vienna:20260610T140000
DTEND;TZID=Europe/Vienna:20260610T140000
DTSTAMP:20260421T164945
CREATED:20260127T151152Z
LAST-MODIFIED:20260127T151152Z
UID:10000699-1781100000-1781100000@www.rundschau-medien.at
SUMMARY:Pensionistennachmittag
DESCRIPTION:mit dem Pensionistenverband
URL:https://www.rundschau-medien.at/dil/pensionistennachmittag-10/
LOCATION:Kinderfreundeheim Kammern
CATEGORIES:Gesellschaft
END:VEVENT
BEGIN:VEVENT
DTSTART;TZID=Europe/Vienna:20260610T150000
DTEND;TZID=Europe/Vienna:20260610T150000
DTSTAMP:20260421T164945
CREATED:20260114T141405Z
LAST-MODIFIED:20260121T110933Z
UID:10000157-1781103600-1781103600@www.rundschau-medien.at
SUMMARY:Handarbeitsrunde
DESCRIPTION:Gemütliche Winternachmittage mit Stricken\, Sticken und Häkeln\, veranstaltet von den steirischen VP-Frauen.
URL:https://www.rundschau-medien.at/dil/handarbeitsrunde-3/2026-06-10/
LOCATION:Pfadfinderheim Langenwang
CATEGORIES:Hobby/Freizeit
END:VEVENT
BEGIN:VEVENT
DTSTART;TZID=Europe/Vienna:20260611T150000
DTEND;TZID=Europe/Vienna:20260611T150000
DTSTAMP:20260421T164945
CREATED:20260413T083819Z
LAST-MODIFIED:20260413T083819Z
UID:10001925-1781190000-1781190000@www.rundschau-medien.at
SUMMARY:Tag der offenen Tür
DESCRIPTION:
URL:https://www.rundschau-medien.at/dil/tag-der-offenen-tuer-4/
LOCATION:Musikschule Trofaiach
CATEGORIES:Service/Info
END:VEVENT
END:VCALENDAR