BEGIN:VCALENDAR
VERSION:2.0
PRODID:-//Obersteirische Rundschau - ECPv6.15.20//NONSGML v1.0//EN
CALSCALE:GREGORIAN
METHOD:PUBLISH
X-ORIGINAL-URL:https://www.rundschau-medien.at
X-WR-CALDESC:Veranstaltungen für Obersteirische Rundschau
REFRESH-INTERVAL;VALUE=DURATION:PT1H
X-Robots-Tag:noindex
X-PUBLISHED-TTL:PT1H
BEGIN:VTIMEZONE
TZID:Europe/Vienna
BEGIN:DAYLIGHT
TZOFFSETFROM:+0100
TZOFFSETTO:+0200
TZNAME:CEST
DTSTART:20250330T010000
END:DAYLIGHT
BEGIN:STANDARD
TZOFFSETFROM:+0200
TZOFFSETTO:+0100
TZNAME:CET
DTSTART:20251026T010000
END:STANDARD
BEGIN:DAYLIGHT
TZOFFSETFROM:+0100
TZOFFSETTO:+0200
TZNAME:CEST
DTSTART:20260329T010000
END:DAYLIGHT
BEGIN:STANDARD
TZOFFSETFROM:+0200
TZOFFSETTO:+0100
TZNAME:CET
DTSTART:20261025T010000
END:STANDARD
BEGIN:DAYLIGHT
TZOFFSETFROM:+0100
TZOFFSETTO:+0200
TZNAME:CEST
DTSTART:20270328T010000
END:DAYLIGHT
BEGIN:STANDARD
TZOFFSETFROM:+0200
TZOFFSETTO:+0100
TZNAME:CET
DTSTART:20271031T010000
END:STANDARD
END:VTIMEZONE
BEGIN:VEVENT
DTSTART;TZID=Europe/Vienna:20260513T060000
DTEND;TZID=Europe/Vienna:20260513T120000
DTSTAMP:20260425T221915
CREATED:20260114T143951Z
LAST-MODIFIED:20260121T110934Z
UID:10000299-1778652000-1778673600@www.rundschau-medien.at
SUMMARY:Brucker Wochenmarkt
DESCRIPTION:Vielfältige Produkte der regionalen BäuerInnen und ProduzentInnen.
URL:https://www.rundschau-medien.at/dil/brucker-wochenmarkt/2026-05-13/
LOCATION:Hauptplatz Bruck an der Mur
CATEGORIES:Kulinarik,Markt
END:VEVENT
BEGIN:VEVENT
DTSTART;TZID=Europe/Vienna:20260513T083000
DTEND;TZID=Europe/Vienna:20260513T093000
DTSTAMP:20260425T221915
CREATED:20260120T121529Z
LAST-MODIFIED:20260121T110853Z
UID:10000427-1778661000-1778664600@www.rundschau-medien.at
SUMMARY:Aktiv und bewegt älter
DESCRIPTION:Info und Anmeldung unter 0699/14100114
URL:https://www.rundschau-medien.at/dil/aktiv-und-bewegt-aelter/2026-05-13/
LOCATION:Turnsaal Tragöß
CATEGORIES:Gesundheit,Hobby/Freizeit
END:VEVENT
BEGIN:VEVENT
DTSTART;TZID=Europe/Vienna:20260513T090000
DTEND;TZID=Europe/Vienna:20260513T090000
DTSTAMP:20260425T221915
CREATED:20260421T094456Z
LAST-MODIFIED:20260421T094456Z
UID:10001999-1778662800-1778662800@www.rundschau-medien.at
SUMMARY:Aktiv-Kneipp-Gesund-Wandern
DESCRIPTION:
URL:https://www.rundschau-medien.at/dil/aktiv-kneipp-gesund-wandern-7/2026-05-13/
LOCATION:Bräuer Teiche\, Mürzzuschlag
CATEGORIES:Hobby/Freizeit
END:VEVENT
BEGIN:VEVENT
DTSTART;TZID=Europe/Vienna:20260513T103000
DTEND;TZID=Europe/Vienna:20260513T113000
DTSTAMP:20260425T221915
CREATED:20260120T121717Z
LAST-MODIFIED:20260121T110852Z
UID:10000440-1778668200-1778671800@www.rundschau-medien.at
SUMMARY:Aktiv und bewegt älter
DESCRIPTION:Info und Anmeldung unter 0699/14100114
URL:https://www.rundschau-medien.at/dil/aktiv-und-bewegt-aelter-2/2026-05-13/
LOCATION:VAZ St. Katharein/Laming
CATEGORIES:Gesundheit,Hobby/Freizeit
END:VEVENT
BEGIN:VEVENT
DTSTART;TZID=Europe/Vienna:20260513T110000
DTEND;TZID=Europe/Vienna:20260513T110000
DTSTAMP:20260425T221915
CREATED:20260311T141202Z
LAST-MODIFIED:20260311T141202Z
UID:10001559-1778670000-1778670000@www.rundschau-medien.at
SUMMARY:Marktfest
DESCRIPTION:
URL:https://www.rundschau-medien.at/dil/marktfest-2/
LOCATION:Marktplatz St. Peter-Freienstein
CATEGORIES:Gesellschaft
END:VEVENT
BEGIN:VEVENT
DTSTART;TZID=Europe/Vienna:20260513T130000
DTEND;TZID=Europe/Vienna:20260513T180000
DTSTAMP:20260425T221915
CREATED:20260114T142330Z
LAST-MODIFIED:20260121T110934Z
UID:10000226-1778677200-1778695200@www.rundschau-medien.at
SUMMARY:Flohmarkt
DESCRIPTION:Die Behindertenhilfe Krieglach betreibt den größten ständigen Flohmarkt im Mürztal. Mit dem Erlös werden behinderte\, kranke und arme Menschen unterstützt.
URL:https://www.rundschau-medien.at/dil/flohmarkt/2026-05-13/
LOCATION:Behindertenhilfe Krieglach\, Grazer Straße 79\, Krieglach\, 8670
CATEGORIES:Hobby/Freizeit,Markt
END:VEVENT
BEGIN:VEVENT
DTSTART;TZID=Europe/Vienna:20260513T140000
DTEND;TZID=Europe/Vienna:20260513T140000
DTSTAMP:20260425T221915
CREATED:20260126T143818Z
LAST-MODIFIED:20260126T143818Z
UID:10000640-1778680800-1778680800@www.rundschau-medien.at
SUMMARY:Pensionistennachmittag
DESCRIPTION:
URL:https://www.rundschau-medien.at/dil/pensionistennachmittag-8/
LOCATION:Kinderfreundeheim Kammern
CATEGORIES:Gesellschaft
END:VEVENT
BEGIN:VEVENT
DTSTART;TZID=Europe/Vienna:20260513T150000
DTEND;TZID=Europe/Vienna:20260513T150000
DTSTAMP:20260425T221915
CREATED:20260114T141405Z
LAST-MODIFIED:20260121T110933Z
UID:10000153-1778684400-1778684400@www.rundschau-medien.at
SUMMARY:Handarbeitsrunde
DESCRIPTION:Gemütliche Winternachmittage mit Stricken\, Sticken und Häkeln\, veranstaltet von den steirischen VP-Frauen.
URL:https://www.rundschau-medien.at/dil/handarbeitsrunde-3/2026-05-13/
LOCATION:Pfadfinderheim Langenwang
CATEGORIES:Hobby/Freizeit
END:VEVENT
BEGIN:VEVENT
DTSTART;TZID=Europe/Vienna:20260513T150000
DTEND;TZID=Europe/Vienna:20260513T150000
DTSTAMP:20260425T221915
CREATED:20260422T104309Z
LAST-MODIFIED:20260422T104309Z
UID:10002047-1778684400-1778684400@www.rundschau-medien.at
SUMMARY:Muttertagsfeier
DESCRIPTION:
URL:https://www.rundschau-medien.at/dil/muttertagsfeier-5/
LOCATION:Aktivhotel Weißer Hirsch\, Mariazell
CATEGORIES:Gesellschaft
END:VEVENT
BEGIN:VEVENT
DTSTART;TZID=Europe/Vienna:20260514T170000
DTEND;TZID=Europe/Vienna:20260514T170000
DTSTAMP:20260425T221915
CREATED:20260422T104428Z
LAST-MODIFIED:20260422T104428Z
UID:10002048-1778778000-1778778000@www.rundschau-medien.at
SUMMARY:Vernissage "Bilder"
DESCRIPTION:Ausstellung von Margarethe Degischer bis 17. Mai
URL:https://www.rundschau-medien.at/dil/vernissage-bilder/
LOCATION:Jufa St. Sebastian\, Mariazell
CATEGORIES:Kultur
END:VEVENT
BEGIN:VEVENT
DTSTART;TZID=Europe/Vienna:20260514T180000
DTEND;TZID=Europe/Vienna:20260514T180000
DTSTAMP:20260425T221915
CREATED:20260114T143354Z
LAST-MODIFIED:20260121T110931Z
UID:10000262-1778781600-1778781600@www.rundschau-medien.at
SUMMARY:Nordic-Walking-Runde
DESCRIPTION:Info und Anmeldung unter 0681/10300608.
URL:https://www.rundschau-medien.at/dil/nordic-walking-runde/2026-05-14/
LOCATION:Funcourt Spital am Semmering
CATEGORIES:Gesundheit,Hobby/Freizeit
END:VEVENT
BEGIN:VEVENT
DTSTART;TZID=Europe/Vienna:20260515T070000
DTEND;TZID=Europe/Vienna:20260515T120000
DTSTAMP:20260425T221915
CREATED:20260211T101938Z
LAST-MODIFIED:20260211T101938Z
UID:10000918-1778828400-1778846400@www.rundschau-medien.at
SUMMARY:Bauernmarkt
DESCRIPTION:
URL:https://www.rundschau-medien.at/dil/bauernmarkt-41/
LOCATION:Kirchplatz Leoben
CATEGORIES:Markt
END:VEVENT
BEGIN:VEVENT
DTSTART;TZID=Europe/Vienna:20260515T080000
DTEND;TZID=Europe/Vienna:20260515T170000
DTSTAMP:20260425T221915
CREATED:20260316T115505Z
LAST-MODIFIED:20260316T115505Z
UID:10001584-1778832000-1778864400@www.rundschau-medien.at
SUMMARY:"Die gewürzige Tour"
DESCRIPTION:Nachtwächterführung mit Helga Papst\, Info und Anmeldung unter 0664/73524688 oder helga.papst@gmx.at
URL:https://www.rundschau-medien.at/dil/die-gewuerzige-tour/2026-05-15/1/
LOCATION:Pestsäule Hauptplatz Bruck an der Mur
CATEGORIES:Kultur
END:VEVENT
BEGIN:VEVENT
DTSTART;TZID=Europe/Vienna:20260515T130000
DTEND;TZID=Europe/Vienna:20260515T180000
DTSTAMP:20260425T221915
CREATED:20260114T142330Z
LAST-MODIFIED:20260121T110934Z
UID:10000227-1778850000-1778868000@www.rundschau-medien.at
SUMMARY:Flohmarkt
DESCRIPTION:Die Behindertenhilfe Krieglach betreibt den größten ständigen Flohmarkt im Mürztal. Mit dem Erlös werden behinderte\, kranke und arme Menschen unterstützt.
URL:https://www.rundschau-medien.at/dil/flohmarkt/2026-05-15/
LOCATION:Behindertenhilfe Krieglach\, Grazer Straße 79\, Krieglach\, 8670
CATEGORIES:Hobby/Freizeit,Markt
END:VEVENT
BEGIN:VEVENT
DTSTART;TZID=Europe/Vienna:20260515T140000
DTEND;TZID=Europe/Vienna:20260515T140000
DTSTAMP:20260425T221915
CREATED:20260421T092515Z
LAST-MODIFIED:20260421T092515Z
UID:10001985-1778853600-1778853600@www.rundschau-medien.at
SUMMARY:Nordic Walking ab der Lebensmitte
DESCRIPTION:
URL:https://www.rundschau-medien.at/dil/nordic-walking-ab-der-lebensmitte-16/2026-05-15/
LOCATION:Bräuer Teiche\, Mürzzuschlag
CATEGORIES:Hobby/Freizeit
END:VEVENT
BEGIN:VEVENT
DTSTART;TZID=Europe/Vienna:20260515T160000
DTEND;TZID=Europe/Vienna:20260515T190000
DTSTAMP:20260425T221915
CREATED:20260423T115117Z
LAST-MODIFIED:20260423T115629Z
UID:10002076-1778860800-1778871600@www.rundschau-medien.at
SUMMARY:Blutspenden
DESCRIPTION:
URL:https://www.rundschau-medien.at/dil/blutspenden-41/
LOCATION:Festsaal St. Lorenzen
CATEGORIES:Gesundheit
END:VEVENT
BEGIN:VEVENT
DTSTART;TZID=Europe/Vienna:20260515T163000
DTEND;TZID=Europe/Vienna:20260515T163000
DTSTAMP:20260425T221915
CREATED:20260423T082149Z
LAST-MODIFIED:20260423T082149Z
UID:10002056-1778862600-1778862600@www.rundschau-medien.at
SUMMARY:"Einfach realistisch zeichnen"
DESCRIPTION:Workshop für Kinder\, Info und Anmeldung unter info.creativeartpoint@gmail.com
URL:https://www.rundschau-medien.at/dil/einfach-realistisch-zeichnen-3/
LOCATION:Gute-Geschichte-Raum\, ECE Kapfenberg
CATEGORIES:Hobby/Freizeit,Kinder/Jugend
END:VEVENT
BEGIN:VEVENT
DTSTART;TZID=Europe/Vienna:20260515T170000
DTEND;TZID=Europe/Vienna:20260515T170000
DTSTAMP:20260425T221915
CREATED:20260413T140209Z
LAST-MODIFIED:20260413T140209Z
UID:10001942-1778864400-1778864400@www.rundschau-medien.at
SUMMARY:"Malen mit und in der Natur"
DESCRIPTION:Workshop\, Info und Anmeldung unter 0660/7613669
URL:https://www.rundschau-medien.at/dil/malen-mit-und-in-der-natur/
LOCATION:NaturErlebnisMuseum Stift Neuberg
CATEGORIES:Hobby/Freizeit
END:VEVENT
BEGIN:VEVENT
DTSTART;TZID=Europe/Vienna:20260515T183000
DTEND;TZID=Europe/Vienna:20260515T183000
DTSTAMP:20260425T221915
CREATED:20260423T082246Z
LAST-MODIFIED:20260423T082246Z
UID:10002057-1778869800-1778869800@www.rundschau-medien.at
SUMMARY:"Einfach realistisch zeichnen"
DESCRIPTION:Workshop für Erwachsene\, Info und Anmeldung unter info.creativeartpoint@gmail.com
URL:https://www.rundschau-medien.at/dil/einfach-realistisch-zeichnen-4/
LOCATION:Gute-Geschichte-Raum\, ECE Kapfenberg
CATEGORIES:Hobby/Freizeit
END:VEVENT
BEGIN:VEVENT
DTSTART;TZID=Europe/Vienna:20260515T190000
DTEND;TZID=Europe/Vienna:20260515T190000
DTSTAMP:20260425T221915
CREATED:20260316T115505Z
LAST-MODIFIED:20260316T115505Z
UID:10001585-1778871600-1778871600@www.rundschau-medien.at
SUMMARY:"Die gewürzige Tour"
DESCRIPTION:Nachtwächterführung mit Helga Papst\, Info und Anmeldung unter 0664/73524688 oder helga.papst@gmx.at
URL:https://www.rundschau-medien.at/dil/die-gewuerzige-tour/2026-05-15/2/
LOCATION:Pestsäule Hauptplatz Bruck an der Mur
CATEGORIES:Kultur
END:VEVENT
BEGIN:VEVENT
DTSTART;TZID=Europe/Vienna:20260515T190000
DTEND;TZID=Europe/Vienna:20260515T190000
DTSTAMP:20260425T221915
CREATED:20260422T104605Z
LAST-MODIFIED:20260422T104605Z
UID:10002049-1778871600-1778871600@www.rundschau-medien.at
SUMMARY:"Männergrippe"
DESCRIPTION:Theater mit der Landjugend Mariazellerland
URL:https://www.rundschau-medien.at/dil/maennergrippe/2026-05-15/
LOCATION:Volksheim St. Sebastian\, Mariazell
CATEGORIES:Theater
END:VEVENT
BEGIN:VEVENT
DTSTART;TZID=Europe/Vienna:20260515T193000
DTEND;TZID=Europe/Vienna:20260515T193000
DTSTAMP:20260425T221915
CREATED:20260421T094642Z
LAST-MODIFIED:20260421T094642Z
UID:10002001-1778873400-1778873400@www.rundschau-medien.at
SUMMARY:Vernissage "Seelenlandschaften"
DESCRIPTION:Ausstellung von Elfriede Benesch mit Buchpräsentation
URL:https://www.rundschau-medien.at/dil/vernissage-seelenlandschaften/
LOCATION:Galerie K Kindberg
CATEGORIES:Kultur,Lesung
END:VEVENT
BEGIN:VEVENT
DTSTART;TZID=Europe/Vienna:20260516T060000
DTEND;TZID=Europe/Vienna:20260516T120000
DTSTAMP:20260425T221915
CREATED:20260114T143951Z
LAST-MODIFIED:20260121T110934Z
UID:10000300-1778911200-1778932800@www.rundschau-medien.at
SUMMARY:Brucker Wochenmarkt
DESCRIPTION:Vielfältige Produkte der regionalen BäuerInnen und ProduzentInnen.
URL:https://www.rundschau-medien.at/dil/brucker-wochenmarkt/2026-05-16/
LOCATION:Hauptplatz Bruck an der Mur
CATEGORIES:Kulinarik,Markt
END:VEVENT
BEGIN:VEVENT
DTSTART;TZID=Europe/Vienna:20260516T070000
DTEND;TZID=Europe/Vienna:20260516T070000
DTSTAMP:20260425T221915
CREATED:20260126T143951Z
LAST-MODIFIED:20260126T143951Z
UID:10000641-1778914800-1778914800@www.rundschau-medien.at
SUMMARY:Bergtour auf Rosseck und Mugl
DESCRIPTION:Mit den Naturfreunden Mürzhofen\, Info unter 0660/1715649
URL:https://www.rundschau-medien.at/dil/bergtour-auf-rosseck-und-mugl/
LOCATION:Dorfplatz Mürzhofen\, Kindberg
CATEGORIES:Hobby/Freizeit
END:VEVENT
BEGIN:VEVENT
DTSTART;TZID=Europe/Vienna:20260516T070000
DTEND;TZID=Europe/Vienna:20260516T070000
DTSTAMP:20260425T221915
CREATED:20260421T114715Z
LAST-MODIFIED:20260421T114715Z
UID:10002007-1778914800-1778914800@www.rundschau-medien.at
SUMMARY:Flohmarkt
DESCRIPTION:
URL:https://www.rundschau-medien.at/dil/flohmarkt-28/
LOCATION:Stadtplatz Mürzzuschlag
CATEGORIES:Markt
END:VEVENT
BEGIN:VEVENT
DTSTART;TZID=Europe/Vienna:20260516T083000
DTEND;TZID=Europe/Vienna:20260516T083000
DTSTAMP:20260425T221915
CREATED:20260424T071057Z
LAST-MODIFIED:20260424T071057Z
UID:10002089-1778920200-1778920200@www.rundschau-medien.at
SUMMARY:Drachenhöhlenführung
DESCRIPTION:Info und Anmeldung unter 0676/6308474
URL:https://www.rundschau-medien.at/dil/drachenhoehlenfuehrung/2026-05-16/
LOCATION:Parkplatz Drachenhöhle Pernegg
CATEGORIES:Hobby/Freizeit
END:VEVENT
BEGIN:VEVENT
DTSTART;TZID=Europe/Vienna:20260516T090000
DTEND;TZID=Europe/Vienna:20260516T170000
DTSTAMP:20260425T221915
CREATED:20260421T094906Z
LAST-MODIFIED:20260421T094906Z
UID:10002003-1778922000-1778950800@www.rundschau-medien.at
SUMMARY:"Angart’ln"
DESCRIPTION:
URL:https://www.rundschau-medien.at/dil/angartln/2026-05-16/
LOCATION:Klostergarten Frohnleiten
CATEGORIES:Hobby/Freizeit
END:VEVENT
BEGIN:VEVENT
DTSTART;TZID=Europe/Vienna:20260516T100000
DTEND;TZID=Europe/Vienna:20260516T100000
DTSTAMP:20260425T221915
CREATED:20260421T094959Z
LAST-MODIFIED:20260421T094959Z
UID:10002005-1778925600-1778925600@www.rundschau-medien.at
SUMMARY:Sicherheitstag
DESCRIPTION:
URL:https://www.rundschau-medien.at/dil/sicherheitstag/
LOCATION:Hauptplatz Frohnleiten
CATEGORIES:Service/Info
END:VEVENT
BEGIN:VEVENT
DTSTART;TZID=Europe/Vienna:20260516T140000
DTEND;TZID=Europe/Vienna:20260516T140000
DTSTAMP:20260425T221915
CREATED:20251226T114457Z
LAST-MODIFIED:20260121T110921Z
UID:10000174-1778940000-1778940000@www.rundschau-medien.at
SUMMARY:Jugendstunden
DESCRIPTION:Heimstunden der Pfadfinder Langenwang.
URL:https://www.rundschau-medien.at/dil/jugendstunden-3/2026-05-16/
LOCATION:Pfadfinderheim Langenwang
CATEGORIES:Hobby/Freizeit,Kinder/Jugend
END:VEVENT
BEGIN:VEVENT
DTSTART;TZID=Europe/Vienna:20260516T140000
DTEND;TZID=Europe/Vienna:20260516T140000
DTSTAMP:20260425T221915
CREATED:20260413T140342Z
LAST-MODIFIED:20260413T140342Z
UID:10001943-1778940000-1778940000@www.rundschau-medien.at
SUMMARY:"Gemüse von der Wiese"
DESCRIPTION:Kräuterworkshop\, Info und Anmeldung unter 0664/2329284
URL:https://www.rundschau-medien.at/dil/gemuese-von-der-wiese/
LOCATION:Mittelschule Neuberg
CATEGORIES:Kulinarik,Service/Info
END:VEVENT
END:VCALENDAR