BEGIN:VCALENDAR
VERSION:2.0
PRODID:-//Obersteirische Rundschau - ECPv6.15.20//NONSGML v1.0//EN
CALSCALE:GREGORIAN
METHOD:PUBLISH
X-ORIGINAL-URL:https://www.rundschau-medien.at
X-WR-CALDESC:Veranstaltungen für Obersteirische Rundschau
REFRESH-INTERVAL;VALUE=DURATION:PT1H
X-Robots-Tag:noindex
X-PUBLISHED-TTL:PT1H
BEGIN:VTIMEZONE
TZID:Europe/Vienna
BEGIN:DAYLIGHT
TZOFFSETFROM:+0100
TZOFFSETTO:+0200
TZNAME:CEST
DTSTART:20250330T010000
END:DAYLIGHT
BEGIN:STANDARD
TZOFFSETFROM:+0200
TZOFFSETTO:+0100
TZNAME:CET
DTSTART:20251026T010000
END:STANDARD
BEGIN:DAYLIGHT
TZOFFSETFROM:+0100
TZOFFSETTO:+0200
TZNAME:CEST
DTSTART:20260329T010000
END:DAYLIGHT
BEGIN:STANDARD
TZOFFSETFROM:+0200
TZOFFSETTO:+0100
TZNAME:CET
DTSTART:20261025T010000
END:STANDARD
BEGIN:DAYLIGHT
TZOFFSETFROM:+0100
TZOFFSETTO:+0200
TZNAME:CEST
DTSTART:20270328T010000
END:DAYLIGHT
BEGIN:STANDARD
TZOFFSETFROM:+0200
TZOFFSETTO:+0100
TZNAME:CET
DTSTART:20271031T010000
END:STANDARD
END:VTIMEZONE
BEGIN:VEVENT
DTSTART;TZID=Europe/Vienna:20260510T060000
DTEND;TZID=Europe/Vienna:20260510T130000
DTSTAMP:20260425T174400
CREATED:20260227T112105Z
LAST-MODIFIED:20260227T112105Z
UID:10001460-1778392800-1778418000@www.rundschau-medien.at
SUMMARY:Flohmarkt
DESCRIPTION:
URL:https://www.rundschau-medien.at/dil/flohmarkt-8/
LOCATION:Interspar Kapfenberg
CATEGORIES:Markt
END:VEVENT
BEGIN:VEVENT
DTSTART;TZID=Europe/Vienna:20260510T080000
DTEND;TZID=Europe/Vienna:20260510T120000
DTSTAMP:20260425T174400
CREATED:20260423T114552Z
LAST-MODIFIED:20260423T115631Z
UID:10002072-1778400000-1778414400@www.rundschau-medien.at
SUMMARY:Blutspenden
DESCRIPTION:
URL:https://www.rundschau-medien.at/dil/blutspenden-37/
LOCATION:BORG Birkfeld
CATEGORIES:Gesundheit
END:VEVENT
BEGIN:VEVENT
DTSTART;TZID=Europe/Vienna:20260510T100000
DTEND;TZID=Europe/Vienna:20260510T100000
DTSTAMP:20260425T174400
CREATED:20260415T095450Z
LAST-MODIFIED:20260415T095450Z
UID:10001962-1778407200-1778407200@www.rundschau-medien.at
SUMMARY:Maisingen
DESCRIPTION:mit dem Musikverein Langenwang
URL:https://www.rundschau-medien.at/dil/maisingen-2/
LOCATION:Volkshaus Langenwang
CATEGORIES:Konzert
END:VEVENT
BEGIN:VEVENT
DTSTART;TZID=Europe/Vienna:20260510T143000
DTEND;TZID=Europe/Vienna:20260510T143000
DTSTAMP:20260425T174400
CREATED:20260423T083924Z
LAST-MODIFIED:20260423T083924Z
UID:10002063-1778423400-1778423400@www.rundschau-medien.at
SUMMARY:Muttertagskonzert auf dem neuen Dorfplatz
DESCRIPTION:Der Trachtenmusikverein Spital am Semmering lädt am Sonntag\, dem 10. Mai\, zum Muttertagskonzert auf den erst kürzlich neu gestalteten Dorfplatz. Als musikalische Gäste werden die Jonny Bra’ms Singers erwartet. Beginn der Veranstaltung ist um 14.30 Uhr\, als Eintritt gilt eine freie Spende. Bei Schlechtwetter wird das Konzert in den Turnsaal verlegt. \nFoto: KK
URL:https://www.rundschau-medien.at/dil/muttertagskonzert-auf-dem-neuen-dorfplatz/
LOCATION:Dorfplatz Spital am Semmering
CATEGORIES:Konzert
ATTACH;FMTTYPE=image/webp:https://www.rundschau-medien.at/wp-content/uploads/2026/04/Spital-Muttertagskonzert.webp
END:VEVENT
BEGIN:VEVENT
DTSTART;TZID=Europe/Vienna:20260510T150000
DTEND;TZID=Europe/Vienna:20260510T150000
DTSTAMP:20260425T174400
CREATED:20260421T093930Z
LAST-MODIFIED:20260421T093930Z
UID:10001994-1778425200-1778425200@www.rundschau-medien.at
SUMMARY:Muttertagskonzert
DESCRIPTION:mit der Bergkapelle Seegraben
URL:https://www.rundschau-medien.at/dil/muttertagskonzert/
LOCATION:Hauptplatz Leoben
CATEGORIES:Konzert
END:VEVENT
BEGIN:VEVENT
DTSTART;TZID=Europe/Vienna:20260510T160000
DTEND;TZID=Europe/Vienna:20260510T160000
DTSTAMP:20260425T174400
CREATED:20260331T155213Z
LAST-MODIFIED:20260331T155213Z
UID:10001719-1778428800-1778428800@www.rundschau-medien.at
SUMMARY:"Sonniges Plätzchen für zwei"
DESCRIPTION:Theater mit dem Teatro Santa Famiglia
URL:https://www.rundschau-medien.at/dil/sonniges-plaetzchen-fuer-zwei/2026-05-10/
LOCATION:Spielraum Kapfenberg
CATEGORIES:Theater
END:VEVENT
BEGIN:VEVENT
DTSTART;TZID=Europe/Vienna:20260510T160000
DTEND;TZID=Europe/Vienna:20260510T160000
DTSTAMP:20260425T174400
CREATED:20260421T093737Z
LAST-MODIFIED:20260421T093737Z
UID:10001992-1778428800-1778428800@www.rundschau-medien.at
SUMMARY:"Die Stadtmaus und die Landmaus"
DESCRIPTION:Kindertheater
URL:https://www.rundschau-medien.at/dil/die-stadtmaus-und-die-landmaus/
LOCATION:Dachbodentheater Bruck an der Mur
CATEGORIES:Kinder/Jugend,Theater
END:VEVENT
BEGIN:VEVENT
DTSTART;TZID=Europe/Vienna:20260510T170000
DTEND;TZID=Europe/Vienna:20260510T170000
DTSTAMP:20260425T174400
CREATED:20260119T160136Z
LAST-MODIFIED:20260121T110849Z
UID:10000335-1778432400-1778432400@www.rundschau-medien.at
SUMMARY:Paldauer-Konzert des TuS Krieglach
DESCRIPTION:Der Fußballverein TuS Krieglach feiert im heurigen Jahr sein 80-jähriges Bestehen und lädt daher am Sonntag\, dem 10. Mai\, zu einem Muttertagskonzert der Paldauer ins Krieglacher Veranstaltungszentrum. Beginn ist um 17 Uhr. Auf dem Programm der Schlagergruppe  stehen unter anderem auch ihre Hits “3000 Jahre“\, Tanz mit mir\, Corinna“ und „Düsseldorfer Girl“. Vorverkaufskarten für das Konzert sind über Ö-Ticket sowie  in der Trafik Leitner und bei der Raiffeisenbank in Krieglach erhältlich. \nFoto: BePo
URL:https://www.rundschau-medien.at/dil/paldauer-konzert-des-tus-krieglach/
LOCATION:Veranstaltungszentrum Krieglach
CATEGORIES:Konzert
ATTACH;FMTTYPE=image/webp:https://www.rundschau-medien.at/wp-content/uploads/2026/01/Krieglach-Paldauer-Foto-BePo.webp
END:VEVENT
BEGIN:VEVENT
DTSTART;TZID=Europe/Vienna:20260510T183000
DTEND;TZID=Europe/Vienna:20260510T183000
DTSTAMP:20260425T174400
CREATED:20260421T093836Z
LAST-MODIFIED:20260421T093836Z
UID:10001993-1778437800-1778437800@www.rundschau-medien.at
SUMMARY:Unplugged-Konzert
DESCRIPTION:mit Chris Magerl
URL:https://www.rundschau-medien.at/dil/unplugged-konzert/
LOCATION:Druckwerkstatt Frohnleiten
CATEGORIES:Konzert
END:VEVENT
BEGIN:VEVENT
DTSTART;TZID=Europe/Vienna:20260510T200000
DTEND;TZID=Europe/Vienna:20260510T200000
DTSTAMP:20260425T174400
CREATED:20260421T094024Z
LAST-MODIFIED:20260421T094024Z
UID:10001995-1778443200-1778443200@www.rundschau-medien.at
SUMMARY:Konzert
DESCRIPTION:mit „La Banda Italiana“
URL:https://www.rundschau-medien.at/dil/konzert-56/
LOCATION:Stadtsaal Mürzzuschlag
CATEGORIES:Konzert
END:VEVENT
BEGIN:VEVENT
DTSTART;TZID=Europe/Vienna:20260511T090000
DTEND;TZID=Europe/Vienna:20260511T090000
DTSTAMP:20260425T174400
CREATED:20260421T092515Z
LAST-MODIFIED:20260421T092515Z
UID:10001984-1778490000-1778490000@www.rundschau-medien.at
SUMMARY:Nordic Walking ab der Lebensmitte
DESCRIPTION:
URL:https://www.rundschau-medien.at/dil/nordic-walking-ab-der-lebensmitte-16/2026-05-11/
LOCATION:Bräuer Teiche\, Mürzzuschlag
CATEGORIES:Hobby/Freizeit
END:VEVENT
BEGIN:VEVENT
DTSTART;TZID=Europe/Vienna:20260511T130000
DTEND;TZID=Europe/Vienna:20260511T180000
DTSTAMP:20260425T174400
CREATED:20260114T142330Z
LAST-MODIFIED:20260121T110934Z
UID:10000225-1778504400-1778522400@www.rundschau-medien.at
SUMMARY:Flohmarkt
DESCRIPTION:Die Behindertenhilfe Krieglach betreibt den größten ständigen Flohmarkt im Mürztal. Mit dem Erlös werden behinderte\, kranke und arme Menschen unterstützt.
URL:https://www.rundschau-medien.at/dil/flohmarkt/2026-05-11/
LOCATION:Behindertenhilfe Krieglach\, Grazer Straße 79\, Krieglach\, 8670
CATEGORIES:Hobby/Freizeit,Markt
END:VEVENT
BEGIN:VEVENT
DTSTART;TZID=Europe/Vienna:20260511T160000
DTEND;TZID=Europe/Vienna:20260511T190000
DTSTAMP:20260425T174401
CREATED:20260423T114709Z
LAST-MODIFIED:20260423T115631Z
UID:10002073-1778515200-1778526000@www.rundschau-medien.at
SUMMARY:Blutspenden
DESCRIPTION:
URL:https://www.rundschau-medien.at/dil/blutspenden-38/
LOCATION:Gemeindesaal St. Stefan ob Leoben
CATEGORIES:Gesundheit
END:VEVENT
BEGIN:VEVENT
DTSTART;TZID=Europe/Vienna:20260511T180000
DTEND;TZID=Europe/Vienna:20260511T193000
DTSTAMP:20260425T174401
CREATED:20260120T115558Z
LAST-MODIFIED:20260121T110857Z
UID:10000350-1778522400-1778527800@www.rundschau-medien.at
SUMMARY:Seniorentanz
DESCRIPTION:„Tanz einfach mit“\, Info und Anmeldung unter 0699/14100114
URL:https://www.rundschau-medien.at/dil/seniorentanz/2026-05-11/
LOCATION:Aidora-Eventcenter Oberaich\, Bruck an der Mur
CATEGORIES:Hobby/Freizeit
END:VEVENT
BEGIN:VEVENT
DTSTART;TZID=Europe/Vienna:20260512T070000
DTEND;TZID=Europe/Vienna:20260512T120000
DTSTAMP:20260425T174401
CREATED:20260211T101844Z
LAST-MODIFIED:20260211T101844Z
UID:10000917-1778569200-1778587200@www.rundschau-medien.at
SUMMARY:Bauernmarkt
DESCRIPTION:
URL:https://www.rundschau-medien.at/dil/bauernmarkt-40/
LOCATION:Kirchplatz Leoben
CATEGORIES:Markt
END:VEVENT
BEGIN:VEVENT
DTSTART;TZID=Europe/Vienna:20260512T083000
DTEND;TZID=Europe/Vienna:20260512T083000
DTSTAMP:20260425T174401
CREATED:20260421T094117Z
LAST-MODIFIED:20260421T094117Z
UID:10001996-1778574600-1778574600@www.rundschau-medien.at
SUMMARY:Kindersicherheitsolympiade
DESCRIPTION:
URL:https://www.rundschau-medien.at/dil/kindersicherheitsolympiade/
LOCATION:Hauptplatz Leoben
CATEGORIES:Kinder/Jugend
END:VEVENT
BEGIN:VEVENT
DTSTART;TZID=Europe/Vienna:20260512T110000
DTEND;TZID=Europe/Vienna:20260512T130000
DTSTAMP:20260425T174401
CREATED:20260423T114903Z
LAST-MODIFIED:20260423T115630Z
UID:10002074-1778583600-1778590800@www.rundschau-medien.at
SUMMARY:Blutspenden
DESCRIPTION:
URL:https://www.rundschau-medien.at/dil/blutspenden-39/
LOCATION:Rotkreuz-Dienststelle Kapfenberg
CATEGORIES:Gesundheit
END:VEVENT
BEGIN:VEVENT
DTSTART;TZID=Europe/Vienna:20260512T150000
DTEND;TZID=Europe/Vienna:20260512T190000
DTSTAMP:20260425T174401
CREATED:20260423T115025Z
LAST-MODIFIED:20260423T115629Z
UID:10002075-1778598000-1778612400@www.rundschau-medien.at
SUMMARY:Blutspenden
DESCRIPTION:
URL:https://www.rundschau-medien.at/dil/blutspenden-40/
LOCATION:Bezirkshauptmannschaft Bruck an der Mur
CATEGORIES:Gesundheit
END:VEVENT
BEGIN:VEVENT
DTSTART;TZID=Europe/Vienna:20260512T180000
DTEND;TZID=Europe/Vienna:20260512T180000
DTSTAMP:20260425T174401
CREATED:20260421T094221Z
LAST-MODIFIED:20260421T094221Z
UID:10001997-1778608800-1778608800@www.rundschau-medien.at
SUMMARY:"Der Zauber des Porzellans"
DESCRIPTION:Workshop\, Info unter 03842/4062-408
URL:https://www.rundschau-medien.at/dil/der-zauber-des-porzellans/
LOCATION:Kulturquartier Leoben
CATEGORIES:Hobby/Freizeit
END:VEVENT
BEGIN:VEVENT
DTSTART;TZID=Europe/Vienna:20260512T193000
DTEND;TZID=Europe/Vienna:20260512T193000
DTSTAMP:20260425T174401
CREATED:20260421T094322Z
LAST-MODIFIED:20260421T094322Z
UID:10001998-1778614200-1778614200@www.rundschau-medien.at
SUMMARY:"Sehnsucht"
DESCRIPTION:Konzert des Sinfonischen Orchesters Leoben
URL:https://www.rundschau-medien.at/dil/sehnsucht/
LOCATION:Live Congress Leoben
CATEGORIES:Konzert
END:VEVENT
BEGIN:VEVENT
DTSTART;TZID=Europe/Vienna:20260513T060000
DTEND;TZID=Europe/Vienna:20260513T120000
DTSTAMP:20260425T174401
CREATED:20260114T143951Z
LAST-MODIFIED:20260121T110934Z
UID:10000299-1778652000-1778673600@www.rundschau-medien.at
SUMMARY:Brucker Wochenmarkt
DESCRIPTION:Vielfältige Produkte der regionalen BäuerInnen und ProduzentInnen.
URL:https://www.rundschau-medien.at/dil/brucker-wochenmarkt/2026-05-13/
LOCATION:Hauptplatz Bruck an der Mur
CATEGORIES:Kulinarik,Markt
END:VEVENT
BEGIN:VEVENT
DTSTART;TZID=Europe/Vienna:20260513T083000
DTEND;TZID=Europe/Vienna:20260513T093000
DTSTAMP:20260425T174401
CREATED:20260120T121529Z
LAST-MODIFIED:20260121T110853Z
UID:10000427-1778661000-1778664600@www.rundschau-medien.at
SUMMARY:Aktiv und bewegt älter
DESCRIPTION:Info und Anmeldung unter 0699/14100114
URL:https://www.rundschau-medien.at/dil/aktiv-und-bewegt-aelter/2026-05-13/
LOCATION:Turnsaal Tragöß
CATEGORIES:Gesundheit,Hobby/Freizeit
END:VEVENT
BEGIN:VEVENT
DTSTART;TZID=Europe/Vienna:20260513T090000
DTEND;TZID=Europe/Vienna:20260513T090000
DTSTAMP:20260425T174401
CREATED:20260421T094456Z
LAST-MODIFIED:20260421T094456Z
UID:10001999-1778662800-1778662800@www.rundschau-medien.at
SUMMARY:Aktiv-Kneipp-Gesund-Wandern
DESCRIPTION:
URL:https://www.rundschau-medien.at/dil/aktiv-kneipp-gesund-wandern-7/2026-05-13/
LOCATION:Bräuer Teiche\, Mürzzuschlag
CATEGORIES:Hobby/Freizeit
END:VEVENT
BEGIN:VEVENT
DTSTART;TZID=Europe/Vienna:20260513T103000
DTEND;TZID=Europe/Vienna:20260513T113000
DTSTAMP:20260425T174401
CREATED:20260120T121717Z
LAST-MODIFIED:20260121T110852Z
UID:10000440-1778668200-1778671800@www.rundschau-medien.at
SUMMARY:Aktiv und bewegt älter
DESCRIPTION:Info und Anmeldung unter 0699/14100114
URL:https://www.rundschau-medien.at/dil/aktiv-und-bewegt-aelter-2/2026-05-13/
LOCATION:VAZ St. Katharein/Laming
CATEGORIES:Gesundheit,Hobby/Freizeit
END:VEVENT
BEGIN:VEVENT
DTSTART;TZID=Europe/Vienna:20260513T110000
DTEND;TZID=Europe/Vienna:20260513T110000
DTSTAMP:20260425T174401
CREATED:20260311T141202Z
LAST-MODIFIED:20260311T141202Z
UID:10001559-1778670000-1778670000@www.rundschau-medien.at
SUMMARY:Marktfest
DESCRIPTION:
URL:https://www.rundschau-medien.at/dil/marktfest-2/
LOCATION:Marktplatz St. Peter-Freienstein
CATEGORIES:Gesellschaft
END:VEVENT
BEGIN:VEVENT
DTSTART;TZID=Europe/Vienna:20260513T130000
DTEND;TZID=Europe/Vienna:20260513T180000
DTSTAMP:20260425T174401
CREATED:20260114T142330Z
LAST-MODIFIED:20260121T110934Z
UID:10000226-1778677200-1778695200@www.rundschau-medien.at
SUMMARY:Flohmarkt
DESCRIPTION:Die Behindertenhilfe Krieglach betreibt den größten ständigen Flohmarkt im Mürztal. Mit dem Erlös werden behinderte\, kranke und arme Menschen unterstützt.
URL:https://www.rundschau-medien.at/dil/flohmarkt/2026-05-13/
LOCATION:Behindertenhilfe Krieglach\, Grazer Straße 79\, Krieglach\, 8670
CATEGORIES:Hobby/Freizeit,Markt
END:VEVENT
BEGIN:VEVENT
DTSTART;TZID=Europe/Vienna:20260513T140000
DTEND;TZID=Europe/Vienna:20260513T140000
DTSTAMP:20260425T174401
CREATED:20260126T143818Z
LAST-MODIFIED:20260126T143818Z
UID:10000640-1778680800-1778680800@www.rundschau-medien.at
SUMMARY:Pensionistennachmittag
DESCRIPTION:
URL:https://www.rundschau-medien.at/dil/pensionistennachmittag-8/
LOCATION:Kinderfreundeheim Kammern
CATEGORIES:Gesellschaft
END:VEVENT
BEGIN:VEVENT
DTSTART;TZID=Europe/Vienna:20260513T150000
DTEND;TZID=Europe/Vienna:20260513T150000
DTSTAMP:20260425T174401
CREATED:20260114T141405Z
LAST-MODIFIED:20260121T110933Z
UID:10000153-1778684400-1778684400@www.rundschau-medien.at
SUMMARY:Handarbeitsrunde
DESCRIPTION:Gemütliche Winternachmittage mit Stricken\, Sticken und Häkeln\, veranstaltet von den steirischen VP-Frauen.
URL:https://www.rundschau-medien.at/dil/handarbeitsrunde-3/2026-05-13/
LOCATION:Pfadfinderheim Langenwang
CATEGORIES:Hobby/Freizeit
END:VEVENT
BEGIN:VEVENT
DTSTART;TZID=Europe/Vienna:20260513T150000
DTEND;TZID=Europe/Vienna:20260513T150000
DTSTAMP:20260425T174401
CREATED:20260422T104309Z
LAST-MODIFIED:20260422T104309Z
UID:10002047-1778684400-1778684400@www.rundschau-medien.at
SUMMARY:Muttertagsfeier
DESCRIPTION:
URL:https://www.rundschau-medien.at/dil/muttertagsfeier-5/
LOCATION:Aktivhotel Weißer Hirsch\, Mariazell
CATEGORIES:Gesellschaft
END:VEVENT
BEGIN:VEVENT
DTSTART;TZID=Europe/Vienna:20260514T170000
DTEND;TZID=Europe/Vienna:20260514T170000
DTSTAMP:20260425T174401
CREATED:20260422T104428Z
LAST-MODIFIED:20260422T104428Z
UID:10002048-1778778000-1778778000@www.rundschau-medien.at
SUMMARY:Vernissage "Bilder"
DESCRIPTION:Ausstellung von Margarethe Degischer bis 17. Mai
URL:https://www.rundschau-medien.at/dil/vernissage-bilder/
LOCATION:Jufa St. Sebastian\, Mariazell
CATEGORIES:Kultur
END:VEVENT
END:VCALENDAR