BEGIN:VCALENDAR
VERSION:2.0
PRODID:-//Obersteirische Rundschau - ECPv6.15.20//NONSGML v1.0//EN
CALSCALE:GREGORIAN
METHOD:PUBLISH
X-ORIGINAL-URL:https://www.rundschau-medien.at
X-WR-CALDESC:Veranstaltungen für Obersteirische Rundschau
REFRESH-INTERVAL;VALUE=DURATION:PT1H
X-Robots-Tag:noindex
X-PUBLISHED-TTL:PT1H
BEGIN:VTIMEZONE
TZID:Europe/Vienna
BEGIN:DAYLIGHT
TZOFFSETFROM:+0100
TZOFFSETTO:+0200
TZNAME:CEST
DTSTART:20250330T010000
END:DAYLIGHT
BEGIN:STANDARD
TZOFFSETFROM:+0200
TZOFFSETTO:+0100
TZNAME:CET
DTSTART:20251026T010000
END:STANDARD
BEGIN:DAYLIGHT
TZOFFSETFROM:+0100
TZOFFSETTO:+0200
TZNAME:CEST
DTSTART:20260329T010000
END:DAYLIGHT
BEGIN:STANDARD
TZOFFSETFROM:+0200
TZOFFSETTO:+0100
TZNAME:CET
DTSTART:20261025T010000
END:STANDARD
BEGIN:DAYLIGHT
TZOFFSETFROM:+0100
TZOFFSETTO:+0200
TZNAME:CEST
DTSTART:20270328T010000
END:DAYLIGHT
BEGIN:STANDARD
TZOFFSETFROM:+0200
TZOFFSETTO:+0100
TZNAME:CET
DTSTART:20271031T010000
END:STANDARD
END:VTIMEZONE
BEGIN:VEVENT
DTSTART;TZID=Europe/Vienna:20260509T060000
DTEND;TZID=Europe/Vienna:20260509T060000
DTSTAMP:20260425T154932
CREATED:20260415T103401Z
LAST-MODIFIED:20260415T103401Z
UID:10001969-1778306400-1778306400@www.rundschau-medien.at
SUMMARY:Wanderung auf den großen Geiger
DESCRIPTION:mit dem Alpenverein Mariazell\, Info unter 0664/1760373
URL:https://www.rundschau-medien.at/dil/wanderung-auf-den-grossen-geiger/
LOCATION:Liftparkplatz neben Sparmarkt Mariazell
CATEGORIES:Hobby/Freizeit
END:VEVENT
BEGIN:VEVENT
DTSTART;TZID=Europe/Vienna:20260509T060000
DTEND;TZID=Europe/Vienna:20260509T120000
DTSTAMP:20260425T154932
CREATED:20260114T143951Z
LAST-MODIFIED:20260121T110934Z
UID:10000298-1778306400-1778328000@www.rundschau-medien.at
SUMMARY:Brucker Wochenmarkt
DESCRIPTION:Vielfältige Produkte der regionalen BäuerInnen und ProduzentInnen.
URL:https://www.rundschau-medien.at/dil/brucker-wochenmarkt/2026-05-09/
LOCATION:Hauptplatz Bruck an der Mur
CATEGORIES:Kulinarik,Markt
END:VEVENT
BEGIN:VEVENT
DTSTART;TZID=Europe/Vienna:20260509T073000
DTEND;TZID=Europe/Vienna:20260509T113000
DTSTAMP:20260425T154932
CREATED:20260424T070805Z
LAST-MODIFIED:20260424T070805Z
UID:10002087-1778311800-1778326200@www.rundschau-medien.at
SUMMARY:Bauernmarkt
DESCRIPTION:
URL:https://www.rundschau-medien.at/dil/bauernmarkt-46/
LOCATION:Spar-Parkplatz Pernegg
CATEGORIES:Markt
END:VEVENT
BEGIN:VEVENT
DTSTART;TZID=Europe/Vienna:20260509T090000
DTEND;TZID=Europe/Vienna:20260509T090000
DTSTAMP:20260425T154932
CREATED:20260126T130322Z
LAST-MODIFIED:20260126T130322Z
UID:10000639-1778317200-1778317200@www.rundschau-medien.at
SUMMARY:Wanderung rund um den Sölsnitzberg
DESCRIPTION:Mit den Naturfreunden Mürzhofen\, Info unter 0680/3116577
URL:https://www.rundschau-medien.at/dil/wanderung-rund-um-den-soelsnitzberg/
LOCATION:Dorfplatz Mürzhofen\, Kindberg
CATEGORIES:Hobby/Freizeit
END:VEVENT
BEGIN:VEVENT
DTSTART;TZID=Europe/Vienna:20260509T090000
DTEND;TZID=Europe/Vienna:20260509T090000
DTSTAMP:20260425T154932
CREATED:20260421T092232Z
LAST-MODIFIED:20260421T092232Z
UID:10001982-1778317200-1778317200@www.rundschau-medien.at
SUMMARY:Automesse
DESCRIPTION:
URL:https://www.rundschau-medien.at/dil/automesse/2026-05-09/
LOCATION:Hauptplatz Leoben
CATEGORIES:Service/Info
END:VEVENT
BEGIN:VEVENT
DTSTART;TZID=Europe/Vienna:20260509T090000
DTEND;TZID=Europe/Vienna:20260509T090000
DTSTAMP:20260425T154932
CREATED:20260423T081900Z
LAST-MODIFIED:20260423T081900Z
UID:10002054-1778317200-1778317200@www.rundschau-medien.at
SUMMARY:Musical Showdance
DESCRIPTION:Workshop für Kinder ab 8 Jahre\, Info und Anmeldung unter office@bodyartandexpression.com
URL:https://www.rundschau-medien.at/dil/musical-showdance/
LOCATION:Gute-Geschichte-Raum\, ECE Kapfenberg
CATEGORIES:Kinder/Jugend
END:VEVENT
BEGIN:VEVENT
DTSTART;TZID=Europe/Vienna:20260509T100000
DTEND;TZID=Europe/Vienna:20260509T100000
DTSTAMP:20260425T154932
CREATED:20260205T091509Z
LAST-MODIFIED:20260205T091509Z
UID:10000842-1778320800-1778320800@www.rundschau-medien.at
SUMMARY:"Saboteur"-Staatsmeisterschaft
DESCRIPTION:Info und Anmeldung unter 0676/3517590
URL:https://www.rundschau-medien.at/dil/saboteur-staatsmeisterschaft/
LOCATION:Ludothek Stadtbücherei Bruck an der Mur
CATEGORIES:Hobby/Freizeit
END:VEVENT
BEGIN:VEVENT
DTSTART;TZID=Europe/Vienna:20260509T100000
DTEND;TZID=Europe/Vienna:20260509T100000
DTSTAMP:20260425T154932
CREATED:20260421T092942Z
LAST-MODIFIED:20260421T092942Z
UID:10001990-1778320800-1778320800@www.rundschau-medien.at
SUMMARY:Eröffnungsfeier
DESCRIPTION:neues Veranstaltungszentrum
URL:https://www.rundschau-medien.at/dil/eroeffnungsfeier-2/
LOCATION:Rintpark Frohnleiten
CATEGORIES:Gesellschaft
END:VEVENT
BEGIN:VEVENT
DTSTART;TZID=Europe/Vienna:20260509T100000
DTEND;TZID=Europe/Vienna:20260509T160000
DTSTAMP:20260425T154932
CREATED:20260227T112013Z
LAST-MODIFIED:20260227T112013Z
UID:10001459-1778320800-1778342400@www.rundschau-medien.at
SUMMARY:Bio-Jungpflanzenmarkt
DESCRIPTION:
URL:https://www.rundschau-medien.at/dil/bio-jungpflanzenmarkt/
LOCATION:Gemüsemacherei Kammern
CATEGORIES:Markt
END:VEVENT
BEGIN:VEVENT
DTSTART;TZID=Europe/Vienna:20260509T103000
DTEND;TZID=Europe/Vienna:20260509T103000
DTSTAMP:20260425T154932
CREATED:20260423T082024Z
LAST-MODIFIED:20260423T082024Z
UID:10002055-1778322600-1778322600@www.rundschau-medien.at
SUMMARY:Musical Showdance
DESCRIPTION:Workshop für Jugendliche ab 12 Jahren\, Info und Anmeldung unter office@bodyartandexpression.com
URL:https://www.rundschau-medien.at/dil/musical-showdance-2/
LOCATION:Gute-Geschichte-Raum\, ECE Kapfenberg
CATEGORIES:Kinder/Jugend
END:VEVENT
BEGIN:VEVENT
DTSTART;TZID=Europe/Vienna:20260509T110000
DTEND;TZID=Europe/Vienna:20260509T110000
DTSTAMP:20260425T154932
CREATED:20260413T135223Z
LAST-MODIFIED:20260413T135223Z
UID:10001941-1778324400-1778324400@www.rundschau-medien.at
SUMMARY:Fotobasiskurs für Einsteiger
DESCRIPTION:Info und Anmeldung unter 0650/2141686
URL:https://www.rundschau-medien.at/dil/fotobasiskurs-fuer-einsteiger/
LOCATION:Fotoatelier Nicole Seiser\, Neuberg
CATEGORIES:Hobby/Freizeit
END:VEVENT
BEGIN:VEVENT
DTSTART;TZID=Europe/Vienna:20260509T120000
DTEND;TZID=Europe/Vienna:20260509T120000
DTSTAMP:20260425T154932
CREATED:20260409T110704Z
LAST-MODIFIED:20260409T110704Z
UID:10001903-1778328000-1778328000@www.rundschau-medien.at
SUMMARY:Saugrillen
DESCRIPTION:
URL:https://www.rundschau-medien.at/dil/saugrillen/
LOCATION:Rüsthaus Feuerwehr Kindberg-Stadt
CATEGORIES:Gesellschaft,Kulinarik
END:VEVENT
BEGIN:VEVENT
DTSTART;TZID=Europe/Vienna:20260509T130000
DTEND;TZID=Europe/Vienna:20260509T130000
DTSTAMP:20260425T154932
CREATED:20260421T092739Z
LAST-MODIFIED:20260421T092739Z
UID:10001988-1778331600-1778331600@www.rundschau-medien.at
SUMMARY:Eröffnungsfeier
DESCRIPTION:
URL:https://www.rundschau-medien.at/dil/eroeffnungsfeier/
LOCATION:Neues Musikheim der Trachtenkapelle Oberaich\, Bruck an der Mur
CATEGORIES:Gesellschaft
END:VEVENT
BEGIN:VEVENT
DTSTART;TZID=Europe/Vienna:20260509T140000
DTEND;TZID=Europe/Vienna:20260509T140000
DTSTAMP:20260425T154932
CREATED:20251226T114457Z
LAST-MODIFIED:20260121T110921Z
UID:10000173-1778335200-1778335200@www.rundschau-medien.at
SUMMARY:Jugendstunden
DESCRIPTION:Heimstunden der Pfadfinder Langenwang.
URL:https://www.rundschau-medien.at/dil/jugendstunden-3/2026-05-09/
LOCATION:Pfadfinderheim Langenwang
CATEGORIES:Hobby/Freizeit,Kinder/Jugend
END:VEVENT
BEGIN:VEVENT
DTSTART;TZID=Europe/Vienna:20260509T140000
DTEND;TZID=Europe/Vienna:20260509T180000
DTSTAMP:20260425T154932
CREATED:20260424T070900Z
LAST-MODIFIED:20260424T070900Z
UID:10002088-1778335200-1778349600@www.rundschau-medien.at
SUMMARY:Generationenfest
DESCRIPTION:
URL:https://www.rundschau-medien.at/dil/generationenfest/
LOCATION:Naturwelten Mixnitz\, Pernegg
CATEGORIES:Gesellschaft
END:VEVENT
BEGIN:VEVENT
DTSTART;TZID=Europe/Vienna:20260509T150000
DTEND;TZID=Europe/Vienna:20260509T150000
DTSTAMP:20260425T154932
CREATED:20260413T083043Z
LAST-MODIFIED:20260413T083043Z
UID:10001917-1778338800-1778338800@www.rundschau-medien.at
SUMMARY:Muttertagsfeier
DESCRIPTION:
URL:https://www.rundschau-medien.at/dil/muttertagsfeier-4/
LOCATION:Stadtkultursaal Trofaiach
CATEGORIES:Gesellschaft
END:VEVENT
BEGIN:VEVENT
DTSTART;TZID=Europe/Vienna:20260509T170000
DTEND;TZID=Europe/Vienna:20260509T170000
DTSTAMP:20260425T154932
CREATED:20260126T130032Z
LAST-MODIFIED:20260126T130032Z
UID:10000637-1778346000-1778346000@www.rundschau-medien.at
SUMMARY:Spieleabend
DESCRIPTION:Mit den Spielefreunden Österreich
URL:https://www.rundschau-medien.at/dil/spieleabend-8/
LOCATION:Ludothek Stadtbücherei Bruck an der Mur
CATEGORIES:Hobby/Freizeit
END:VEVENT
BEGIN:VEVENT
DTSTART;TZID=Europe/Vienna:20260509T183000
DTEND;TZID=Europe/Vienna:20260509T183000
DTSTAMP:20260425T154932
CREATED:20260211T101755Z
LAST-MODIFIED:20260211T101755Z
UID:10000916-1778351400-1778351400@www.rundschau-medien.at
SUMMARY:Konzert
DESCRIPTION:mit dem Musikverein Traboch
URL:https://www.rundschau-medien.at/dil/konzert-21/
LOCATION:Festsaal Traboch
CATEGORIES:Konzert
END:VEVENT
BEGIN:VEVENT
DTSTART;TZID=Europe/Vienna:20260509T190000
DTEND;TZID=Europe/Vienna:20260509T190000
DTSTAMP:20260425T154932
CREATED:20260331T155213Z
LAST-MODIFIED:20260331T155213Z
UID:10001718-1778353200-1778353200@www.rundschau-medien.at
SUMMARY:"Sonniges Plätzchen für zwei"
DESCRIPTION:Theater mit dem Teatro Santa Famiglia
URL:https://www.rundschau-medien.at/dil/sonniges-plaetzchen-fuer-zwei/2026-05-09/
LOCATION:Spielraum Kapfenberg
CATEGORIES:Theater
END:VEVENT
BEGIN:VEVENT
DTSTART;TZID=Europe/Vienna:20260509T190000
DTEND;TZID=Europe/Vienna:20260509T190000
DTSTAMP:20260425T154932
CREATED:20260422T093839Z
LAST-MODIFIED:20260422T093839Z
UID:10002043-1778353200-1778353200@www.rundschau-medien.at
SUMMARY:"Listen to the Story"
DESCRIPTION:Jubiläumskonzert 30 Jahre Vocalensemble Mittendrin
URL:https://www.rundschau-medien.at/dil/listen-to-the-story/
LOCATION:Gemeindesaal Mautern
CATEGORIES:Konzert
END:VEVENT
BEGIN:VEVENT
DTSTART;TZID=Europe/Vienna:20260509T190000
DTEND;TZID=Europe/Vienna:20260509T190000
DTSTAMP:20260425T154932
CREATED:20260422T095033Z
LAST-MODIFIED:20260422T095033Z
UID:10002045-1778353200-1778353200@www.rundschau-medien.at
SUMMARY:Ein Abend voller Chormusik
DESCRIPTION:Das Vokalensemble Choriginal lädt am Samstag\, dem 9. Mai unter dem Titel „ChorXang“ zu einem Konzertabend in die Peter-Rosegger-Halle in Birkfeld. Mit dabei sind außerdem die Chorgemeinschaft Birkfeld\, der Landjugendchor Bezirk Weiz\, die Sonnberg Musi sowie die Gastmusiker Benedikt Froihofer\, Daniel Reithofer und Dan Kopp. Die BesucherInnen dürfen sich auf ein abwechslungsreiches\, erstmals vorwiegend deutschsprachig gestaltetes Programm freuen. Beginn der Veranstaltung ist um 19 Uhr\, als Eintritt gilt eine freiwillige Spende. \nFoto: Choriginal
URL:https://www.rundschau-medien.at/dil/ein-abend-voller-chormusik/
LOCATION:Peter-Rosegger-Halle Birkfeld
CATEGORIES:Konzert
ATTACH;FMTTYPE=image/webp:https://www.rundschau-medien.at/wp-content/uploads/2026/04/Birkfeld-Konzert-Choriginal.webp
END:VEVENT
BEGIN:VEVENT
DTSTART;TZID=Europe/Vienna:20260509T190000
DTEND;TZID=Europe/Vienna:20260509T190000
DTSTAMP:20260425T154932
CREATED:20260423T115415Z
LAST-MODIFIED:20260423T115415Z
UID:10002080-1778353200-1778353200@www.rundschau-medien.at
SUMMARY:Jubiläumskonzert im Hotel Böhlerstern
DESCRIPTION:Mit einem Jubiläumskonzert im Hotel Böhlerstern feiert die Werkskapelle Böhler Kapfenberg am Samstag\, dem 9. Mai\, ihr 120-jähriges Bestehen. Als Special Guest ist auch das Ensemble „Finest Selection“ in das Programm eingebunden. Die künstlerische Leitung des Abends liegt in den Händen von Kapellmeister Markus Lechner. Beginn der Veranstaltung ist um 19 Uhr\, als Eintritt gilt eine freiwillige Spende. \nFoto: Morgenstern
URL:https://www.rundschau-medien.at/dil/jubilaeumskonzert-im-hotel-boehlerstern/
LOCATION:Hotel Böhlerstern\, Kapfenberg
CATEGORIES:Konzert
ATTACH;FMTTYPE=image/webp:https://www.rundschau-medien.at/wp-content/uploads/2026/04/Kapfenberg-Konzert-Werkskapelle-Boehler.webp
END:VEVENT
BEGIN:VEVENT
DTSTART;TZID=Europe/Vienna:20260509T200000
DTEND;TZID=Europe/Vienna:20260509T200000
DTSTAMP:20260425T154932
CREATED:20260126T130152Z
LAST-MODIFIED:20260126T130152Z
UID:10000638-1778356800-1778356800@www.rundschau-medien.at
SUMMARY:Liederabend
DESCRIPTION:Mit dem Ulrichs-Chor Seiz
URL:https://www.rundschau-medien.at/dil/liederabend/
LOCATION:Rüsthaus FF Seiz\, Kammern
CATEGORIES:Konzert
END:VEVENT
BEGIN:VEVENT
DTSTART;TZID=Europe/Vienna:20260509T200000
DTEND;TZID=Europe/Vienna:20260509T200000
DTSTAMP:20260425T154932
CREATED:20260421T092836Z
LAST-MODIFIED:20260421T092836Z
UID:10001989-1778356800-1778356800@www.rundschau-medien.at
SUMMARY:Konzert
DESCRIPTION:mit „The Roaring Sixties Company“
URL:https://www.rundschau-medien.at/dil/konzert-55/
LOCATION:Dachbodentheater Bruck an der Mur
CATEGORIES:Konzert
END:VEVENT
BEGIN:VEVENT
DTSTART;TZID=Europe/Vienna:20260509T200000
DTEND;TZID=Europe/Vienna:20260509T200000
DTSTAMP:20260425T154932
CREATED:20260421T093318Z
LAST-MODIFIED:20260421T093318Z
UID:10001991-1778356800-1778356800@www.rundschau-medien.at
SUMMARY:New Era Hip Hop & EDM
DESCRIPTION:
URL:https://www.rundschau-medien.at/dil/new-era-hip-hop-edm/
LOCATION:Tenne Schladnitz
CATEGORIES:Konzert
END:VEVENT
BEGIN:VEVENT
DTSTART;TZID=Europe/Vienna:20260510T060000
DTEND;TZID=Europe/Vienna:20260510T130000
DTSTAMP:20260425T154932
CREATED:20260227T112105Z
LAST-MODIFIED:20260227T112105Z
UID:10001460-1778392800-1778418000@www.rundschau-medien.at
SUMMARY:Flohmarkt
DESCRIPTION:
URL:https://www.rundschau-medien.at/dil/flohmarkt-8/
LOCATION:Interspar Kapfenberg
CATEGORIES:Markt
END:VEVENT
BEGIN:VEVENT
DTSTART;TZID=Europe/Vienna:20260510T080000
DTEND;TZID=Europe/Vienna:20260510T120000
DTSTAMP:20260425T154932
CREATED:20260423T114552Z
LAST-MODIFIED:20260423T115631Z
UID:10002072-1778400000-1778414400@www.rundschau-medien.at
SUMMARY:Blutspenden
DESCRIPTION:
URL:https://www.rundschau-medien.at/dil/blutspenden-37/
LOCATION:BORG Birkfeld
CATEGORIES:Gesundheit
END:VEVENT
BEGIN:VEVENT
DTSTART;TZID=Europe/Vienna:20260510T100000
DTEND;TZID=Europe/Vienna:20260510T100000
DTSTAMP:20260425T154932
CREATED:20260415T095450Z
LAST-MODIFIED:20260415T095450Z
UID:10001962-1778407200-1778407200@www.rundschau-medien.at
SUMMARY:Maisingen
DESCRIPTION:mit dem Musikverein Langenwang
URL:https://www.rundschau-medien.at/dil/maisingen-2/
LOCATION:Volkshaus Langenwang
CATEGORIES:Konzert
END:VEVENT
BEGIN:VEVENT
DTSTART;TZID=Europe/Vienna:20260510T143000
DTEND;TZID=Europe/Vienna:20260510T143000
DTSTAMP:20260425T154932
CREATED:20260423T083924Z
LAST-MODIFIED:20260423T083924Z
UID:10002063-1778423400-1778423400@www.rundschau-medien.at
SUMMARY:Muttertagskonzert auf dem neuen Dorfplatz
DESCRIPTION:Der Trachtenmusikverein Spital am Semmering lädt am Sonntag\, dem 10. Mai\, zum Muttertagskonzert auf den erst kürzlich neu gestalteten Dorfplatz. Als musikalische Gäste werden die Jonny Bra’ms Singers erwartet. Beginn der Veranstaltung ist um 14.30 Uhr\, als Eintritt gilt eine freie Spende. Bei Schlechtwetter wird das Konzert in den Turnsaal verlegt. \nFoto: KK
URL:https://www.rundschau-medien.at/dil/muttertagskonzert-auf-dem-neuen-dorfplatz/
LOCATION:Dorfplatz Spital am Semmering
CATEGORIES:Konzert
ATTACH;FMTTYPE=image/webp:https://www.rundschau-medien.at/wp-content/uploads/2026/04/Spital-Muttertagskonzert.webp
END:VEVENT
BEGIN:VEVENT
DTSTART;TZID=Europe/Vienna:20260510T150000
DTEND;TZID=Europe/Vienna:20260510T150000
DTSTAMP:20260425T154932
CREATED:20260421T093930Z
LAST-MODIFIED:20260421T093930Z
UID:10001994-1778425200-1778425200@www.rundschau-medien.at
SUMMARY:Muttertagskonzert
DESCRIPTION:mit der Bergkapelle Seegraben
URL:https://www.rundschau-medien.at/dil/muttertagskonzert/
LOCATION:Hauptplatz Leoben
CATEGORIES:Konzert
END:VEVENT
END:VCALENDAR