BEGIN:VCALENDAR
VERSION:2.0
PRODID:-//Obersteirische Rundschau - ECPv6.15.20//NONSGML v1.0//EN
CALSCALE:GREGORIAN
METHOD:PUBLISH
X-ORIGINAL-URL:https://www.rundschau-medien.at
X-WR-CALDESC:Veranstaltungen für Obersteirische Rundschau
REFRESH-INTERVAL;VALUE=DURATION:PT1H
X-Robots-Tag:noindex
X-PUBLISHED-TTL:PT1H
BEGIN:VTIMEZONE
TZID:Europe/Vienna
BEGIN:DAYLIGHT
TZOFFSETFROM:+0100
TZOFFSETTO:+0200
TZNAME:CEST
DTSTART:20250330T010000
END:DAYLIGHT
BEGIN:STANDARD
TZOFFSETFROM:+0200
TZOFFSETTO:+0100
TZNAME:CET
DTSTART:20251026T010000
END:STANDARD
BEGIN:DAYLIGHT
TZOFFSETFROM:+0100
TZOFFSETTO:+0200
TZNAME:CEST
DTSTART:20260329T010000
END:DAYLIGHT
BEGIN:STANDARD
TZOFFSETFROM:+0200
TZOFFSETTO:+0100
TZNAME:CET
DTSTART:20261025T010000
END:STANDARD
BEGIN:DAYLIGHT
TZOFFSETFROM:+0100
TZOFFSETTO:+0200
TZNAME:CEST
DTSTART:20270328T010000
END:DAYLIGHT
BEGIN:STANDARD
TZOFFSETFROM:+0200
TZOFFSETTO:+0100
TZNAME:CET
DTSTART:20271031T010000
END:STANDARD
END:VTIMEZONE
BEGIN:VEVENT
DTSTART;TZID=Europe/Vienna:20260507T140000
DTEND;TZID=Europe/Vienna:20260507T140000
DTSTAMP:20260425T155724
CREATED:20260415T080109Z
LAST-MODIFIED:20260415T080109Z
UID:10001956-1778162400-1778162400@www.rundschau-medien.at
SUMMARY:Begegnungscafé
DESCRIPTION:
URL:https://www.rundschau-medien.at/dil/begegnungscafe/
LOCATION:Senioren-Tageszentrum Donawitz\, Leoben
CATEGORIES:Gesellschaft
END:VEVENT
BEGIN:VEVENT
DTSTART;TZID=Europe/Vienna:20260507T150000
DTEND;TZID=Europe/Vienna:20260507T150000
DTSTAMP:20260425T155724
CREATED:20260408T134413Z
LAST-MODIFIED:20260408T134413Z
UID:10001896-1778166000-1778166000@www.rundschau-medien.at
SUMMARY:"Nadel & Buch"
DESCRIPTION:Workshop mit dem Kreativclub Mürzzuschlag\, Info und Anmeldung unter 03852/2555-421
URL:https://www.rundschau-medien.at/dil/nadel-buch-3/
LOCATION:Stadtbücherei Mürzzuschlag
CATEGORIES:Hobby/Freizeit
END:VEVENT
BEGIN:VEVENT
DTSTART;TZID=Europe/Vienna:20260507T150000
DTEND;TZID=Europe/Vienna:20260507T163000
DTSTAMP:20260425T155724
CREATED:20260120T120427Z
LAST-MODIFIED:20260121T110852Z
UID:10000414-1778166000-1778171400@www.rundschau-medien.at
SUMMARY:Seniorentanz
DESCRIPTION:„Tanz einfach mit“\, Info und Anmeldung unter 0699/14100114
URL:https://www.rundschau-medien.at/dil/seniorentanz-2/2026-05-07/
LOCATION:Pfarrsaal Bruck
CATEGORIES:Hobby/Freizeit
END:VEVENT
BEGIN:VEVENT
DTSTART;TZID=Europe/Vienna:20260507T153000
DTEND;TZID=Europe/Vienna:20260507T153000
DTSTAMP:20260425T155724
CREATED:20260408T134150Z
LAST-MODIFIED:20260408T134150Z
UID:10001894-1778167800-1778167800@www.rundschau-medien.at
SUMMARY:"Pippi Langstrumpf"
DESCRIPTION:Erzähltheater für Kinder ab 5 Jahren\, Info und Anmeldung unter 03842/4062-408
URL:https://www.rundschau-medien.at/dil/pippi-langstrumpf/
LOCATION:Kulturquartier Leoben
CATEGORIES:Kinder/Jugend
END:VEVENT
BEGIN:VEVENT
DTSTART;TZID=Europe/Vienna:20260507T160000
DTEND;TZID=Europe/Vienna:20260507T160000
DTSTAMP:20260425T155724
CREATED:20260211T101609Z
LAST-MODIFIED:20260211T101609Z
UID:10000914-1778169600-1778169600@www.rundschau-medien.at
SUMMARY:Muttertagsfeier
DESCRIPTION:
URL:https://www.rundschau-medien.at/dil/muttertagsfeier-2/
LOCATION:Festsaal Traboch
CATEGORIES:Gesellschaft
END:VEVENT
BEGIN:VEVENT
DTSTART;TZID=Europe/Vienna:20260507T160000
DTEND;TZID=Europe/Vienna:20260507T160000
DTSTAMP:20260425T155724
CREATED:20260311T141256Z
LAST-MODIFIED:20260311T141256Z
UID:10001560-1778169600-1778169600@www.rundschau-medien.at
SUMMARY:Muttertagsfeier
DESCRIPTION:
URL:https://www.rundschau-medien.at/dil/muttertagsfeier-3/
LOCATION:Kultursaal St. Peter-Freienstein
CATEGORIES:Gesellschaft
END:VEVENT
BEGIN:VEVENT
DTSTART;TZID=Europe/Vienna:20260507T170000
DTEND;TZID=Europe/Vienna:20260507T170000
DTSTAMP:20260425T155724
CREATED:20260415T103019Z
LAST-MODIFIED:20260415T103019Z
UID:10001965-1778173200-1778173200@www.rundschau-medien.at
SUMMARY:"Circus Montana"
DESCRIPTION:Zirkusprojekt der Schulgemeinschaft Mariazell
URL:https://www.rundschau-medien.at/dil/circus-montana/2026-05-07/
LOCATION:Sportplatz Mariazell
CATEGORIES:Hobby/Freizeit
END:VEVENT
BEGIN:VEVENT
DTSTART;TZID=Europe/Vienna:20260507T180000
DTEND;TZID=Europe/Vienna:20260507T180000
DTSTAMP:20260425T155724
CREATED:20260114T143354Z
LAST-MODIFIED:20260121T110931Z
UID:10000261-1778176800-1778176800@www.rundschau-medien.at
SUMMARY:Nordic-Walking-Runde
DESCRIPTION:Info und Anmeldung unter 0681/10300608.
URL:https://www.rundschau-medien.at/dil/nordic-walking-runde/2026-05-07/
LOCATION:Funcourt Spital am Semmering
CATEGORIES:Gesundheit,Hobby/Freizeit
END:VEVENT
BEGIN:VEVENT
DTSTART;TZID=Europe/Vienna:20260507T180000
DTEND;TZID=Europe/Vienna:20260507T180000
DTSTAMP:20260425T155724
CREATED:20260408T133909Z
LAST-MODIFIED:20260408T133909Z
UID:10001892-1778176800-1778176800@www.rundschau-medien.at
SUMMARY:Musikfrühling Frohnleiten
DESCRIPTION:mit den Schoatnerbuam und „Music4Us“
URL:https://www.rundschau-medien.at/dil/musikfruehling-frohnleiten-3/
LOCATION:Gasthaus Hoaterwirt\, Frohnleiten
CATEGORIES:Konzert
END:VEVENT
BEGIN:VEVENT
DTSTART;TZID=Europe/Vienna:20260507T180000
DTEND;TZID=Europe/Vienna:20260507T180000
DTSTAMP:20260425T155724
CREATED:20260415T103111Z
LAST-MODIFIED:20260415T103111Z
UID:10001967-1778176800-1778176800@www.rundschau-medien.at
SUMMARY:Pubquiz
DESCRIPTION:
URL:https://www.rundschau-medien.at/dil/pubquiz-5/
LOCATION:Stadtheuriger Mariazell
CATEGORIES:Hobby/Freizeit
END:VEVENT
BEGIN:VEVENT
DTSTART;TZID=Europe/Vienna:20260507T193000
DTEND;TZID=Europe/Vienna:20260507T193000
DTSTAMP:20260425T155724
CREATED:20260408T134030Z
LAST-MODIFIED:20260408T134030Z
UID:10001893-1778182200-1778182200@www.rundschau-medien.at
SUMMARY:"Aus heiterem Himmel – mit der Kirche ums Kreuz"
DESCRIPTION:Kabarett mit Oliver Hochkofler und Imo Trojan
URL:https://www.rundschau-medien.at/dil/aus-heiterem-himmel-mit-der-kirche-ums-kreuz-2/
LOCATION:Volkshaus Kindberg
CATEGORIES:Kabarett
END:VEVENT
BEGIN:VEVENT
DTSTART;TZID=Europe/Vienna:20260507T193000
DTEND;TZID=Europe/Vienna:20260507T193000
DTSTAMP:20260425T155724
CREATED:20260408T134246Z
LAST-MODIFIED:20260408T134246Z
UID:10001895-1778182200-1778182200@www.rundschau-medien.at
SUMMARY:"Glück"
DESCRIPTION:Kabarett mit Lukas Resetarits
URL:https://www.rundschau-medien.at/dil/glueck/
LOCATION:Live Congress Leoben
CATEGORIES:Kabarett
END:VEVENT
BEGIN:VEVENT
DTSTART;TZID=Europe/Vienna:20260507T200000
DTEND;TZID=Europe/Vienna:20260507T200000
DTSTAMP:20260425T155724
CREATED:20260408T133757Z
LAST-MODIFIED:20260408T133757Z
UID:10001891-1778184000-1778184000@www.rundschau-medien.at
SUMMARY:"Tango Argentino"
DESCRIPTION:Konzert mit Emiliano Faryna und Hugo Sattore
URL:https://www.rundschau-medien.at/dil/tango-argentino/
LOCATION:Dachbodentheater Bruck an der Mur
CATEGORIES:Konzert
END:VEVENT
BEGIN:VEVENT
DTSTART;TZID=Europe/Vienna:20260507T200000
DTEND;TZID=Europe/Vienna:20260507T200000
DTSTAMP:20260425T155724
CREATED:20260413T082737Z
LAST-MODIFIED:20260422T100851Z
UID:10001914-1778184000-1778184000@www.rundschau-medien.at
SUMMARY:Jazz\, Volksmusik und Pop im Dialekt
DESCRIPTION:Am Donnerstag\, dem 7. Mai\, ist das Duo Seitinger & Maierhofer für einen Konzertabend im Museumsdepot Trofaiach zu Gast. Unter dem Titel „Hauptsoch die Leut habn was zum Redn“ präsentieren Johanna Seitinger und Lukas Maierhofer gemeinsam mit ihrer Band einen Mix aus Liedern im obersteirischen Dialekt\, die zwischen Jazz\, Volksmusik und Pop hin und her pendeln. Beginn der Veranstaltung ist um 20 Uhr\, Vorverkaufskarten sind unter Tel. 0699/13005202 erhältlich. \nFoto: König
URL:https://www.rundschau-medien.at/dil/konzert-46/
LOCATION:Museumsdepot Trofaiach
CATEGORIES:Konzert
ATTACH;FMTTYPE=image/webp:https://www.rundschau-medien.at/wp-content/uploads/2026/04/Trofaiach-Konzert-Seitinger-Maierhofer-Koenig.webp
END:VEVENT
BEGIN:VEVENT
DTSTART;TZID=Europe/Vienna:20260508T070000
DTEND;TZID=Europe/Vienna:20260508T120000
DTSTAMP:20260425T155724
CREATED:20260211T101656Z
LAST-MODIFIED:20260211T101656Z
UID:10000915-1778223600-1778241600@www.rundschau-medien.at
SUMMARY:Bauernmarkt
DESCRIPTION:
URL:https://www.rundschau-medien.at/dil/bauernmarkt-39/
LOCATION:Kirchplatz Leoben
CATEGORIES:Markt
END:VEVENT
BEGIN:VEVENT
DTSTART;TZID=Europe/Vienna:20260508T090000
DTEND;TZID=Europe/Vienna:20260508T090000
DTSTAMP:20260425T155724
CREATED:20260421T092232Z
LAST-MODIFIED:20260421T092232Z
UID:10001981-1778230800-1778230800@www.rundschau-medien.at
SUMMARY:Automesse
DESCRIPTION:
URL:https://www.rundschau-medien.at/dil/automesse/2026-05-08/
LOCATION:Hauptplatz Leoben
CATEGORIES:Service/Info
END:VEVENT
BEGIN:VEVENT
DTSTART;TZID=Europe/Vienna:20260508T130000
DTEND;TZID=Europe/Vienna:20260508T180000
DTSTAMP:20260425T155724
CREATED:20260114T142330Z
LAST-MODIFIED:20260121T110934Z
UID:10000224-1778245200-1778263200@www.rundschau-medien.at
SUMMARY:Flohmarkt
DESCRIPTION:Die Behindertenhilfe Krieglach betreibt den größten ständigen Flohmarkt im Mürztal. Mit dem Erlös werden behinderte\, kranke und arme Menschen unterstützt.
URL:https://www.rundschau-medien.at/dil/flohmarkt/2026-05-08/
LOCATION:Behindertenhilfe Krieglach\, Grazer Straße 79\, Krieglach\, 8670
CATEGORIES:Hobby/Freizeit,Markt
END:VEVENT
BEGIN:VEVENT
DTSTART;TZID=Europe/Vienna:20260508T140000
DTEND;TZID=Europe/Vienna:20260508T140000
DTSTAMP:20260425T155724
CREATED:20260126T125740Z
LAST-MODIFIED:20260126T125740Z
UID:10000635-1778248800-1778248800@www.rundschau-medien.at
SUMMARY:Muttertagsfeier
DESCRIPTION:
URL:https://www.rundschau-medien.at/dil/muttertagsfeier/
LOCATION:Haus Viola\, Kammern
CATEGORIES:Gesellschaft
END:VEVENT
BEGIN:VEVENT
DTSTART;TZID=Europe/Vienna:20260508T140000
DTEND;TZID=Europe/Vienna:20260508T140000
DTSTAMP:20260425T155724
CREATED:20260415T103225Z
LAST-MODIFIED:20260415T103225Z
UID:10001968-1778248800-1778248800@www.rundschau-medien.at
SUMMARY:"Abenteuer Wald"
DESCRIPTION:Info und Anmeldung unter 0664/2546980
URL:https://www.rundschau-medien.at/dil/abenteuer-wald-3/
LOCATION:Lasingerhof Gußwerk\, Mariazell
CATEGORIES:Hobby/Freizeit
END:VEVENT
BEGIN:VEVENT
DTSTART;TZID=Europe/Vienna:20260508T140000
DTEND;TZID=Europe/Vienna:20260508T140000
DTSTAMP:20260425T155724
CREATED:20260421T092515Z
LAST-MODIFIED:20260421T092515Z
UID:10001983-1778248800-1778248800@www.rundschau-medien.at
SUMMARY:Nordic Walking ab der Lebensmitte
DESCRIPTION:
URL:https://www.rundschau-medien.at/dil/nordic-walking-ab-der-lebensmitte-16/2026-05-08/
LOCATION:Bräuer Teiche\, Mürzzuschlag
CATEGORIES:Hobby/Freizeit
END:VEVENT
BEGIN:VEVENT
DTSTART;TZID=Europe/Vienna:20260508T160000
DTEND;TZID=Europe/Vienna:20260508T190000
DTSTAMP:20260425T155724
CREATED:20260423T081726Z
LAST-MODIFIED:20260423T081726Z
UID:10002053-1778256000-1778266800@www.rundschau-medien.at
SUMMARY:Tanzen mit Livemusik
DESCRIPTION:
URL:https://www.rundschau-medien.at/dil/tanzen-mit-livemusik-2/
LOCATION:Gute-Geschichte-Raum\, ECE Kapfenberg
CATEGORIES:Hobby/Freizeit
END:VEVENT
BEGIN:VEVENT
DTSTART;TZID=Europe/Vienna:20260508T170000
DTEND;TZID=Europe/Vienna:20260508T170000
DTSTAMP:20260425T155724
CREATED:20260413T082832Z
LAST-MODIFIED:20260413T082832Z
UID:10001915-1778259600-1778259600@www.rundschau-medien.at
SUMMARY:Tanznachmittag für Junggebliebene
DESCRIPTION:
URL:https://www.rundschau-medien.at/dil/tanznachmittag-fuer-junggebliebene-2/
LOCATION:Gasthaus Unterdechler Trofaiach
CATEGORIES:Hobby/Freizeit
END:VEVENT
BEGIN:VEVENT
DTSTART;TZID=Europe/Vienna:20260508T170000
DTEND;TZID=Europe/Vienna:20260508T170000
DTSTAMP:20260425T155724
CREATED:20260415T103019Z
LAST-MODIFIED:20260415T103019Z
UID:10001966-1778259600-1778259600@www.rundschau-medien.at
SUMMARY:"Circus Montana"
DESCRIPTION:Zirkusprojekt der Schulgemeinschaft Mariazell
URL:https://www.rundschau-medien.at/dil/circus-montana/2026-05-08/
LOCATION:Sportplatz Mariazell
CATEGORIES:Hobby/Freizeit
END:VEVENT
BEGIN:VEVENT
DTSTART;TZID=Europe/Vienna:20260508T180000
DTEND;TZID=Europe/Vienna:20260508T180000
DTSTAMP:20260425T155724
CREATED:20260421T092109Z
LAST-MODIFIED:20260421T092109Z
UID:10001980-1778263200-1778263200@www.rundschau-medien.at
SUMMARY:"Back to the Roots"
DESCRIPTION:Konzert des Grazer Saxophonquartetts
URL:https://www.rundschau-medien.at/dil/back-to-the-roots/
LOCATION:Konzertsaal der Musikschule Frohnleiten
CATEGORIES:Konzert
END:VEVENT
BEGIN:VEVENT
DTSTART;TZID=Europe/Vienna:20260508T180000
DTEND;TZID=Europe/Vienna:20260508T180000
DTSTAMP:20260425T155724
CREATED:20260423T122130Z
LAST-MODIFIED:20260423T122130Z
UID:10002082-1778263200-1778263200@www.rundschau-medien.at
SUMMARY:Ein Abend rund um das Akkordeon
DESCRIPTION:„Akkordeon and more“ heißt das Konzert\, das am Freitag\, dem 8. Mai\, im Haus der Begegnung Schirmitzbühel in Kapfenberg stattfindet. Mit dabei sind das Jugend-Akkordeonorchester Steiermark\, das Akkordeonorchester Mürztal und das Jugendorchester der Musikschule Kapfenberg. Beginn der Veranstaltung ist um 18 Uhr\, der Eintritt ist frei. \nFoto: Mitteregger
URL:https://www.rundschau-medien.at/dil/ein-abend-rund-um-das-akkordeon/
LOCATION:Haus der Begegnung Schirmitzbühel\, Kapfenberg
CATEGORIES:Konzert
ATTACH;FMTTYPE=image/webp:https://www.rundschau-medien.at/wp-content/uploads/2026/04/Kapfenberg-Konzert-Akkordeon-Mitteregger.webp
END:VEVENT
BEGIN:VEVENT
DTSTART;TZID=Europe/Vienna:20260508T190000
DTEND;TZID=Europe/Vienna:20260508T190000
DTSTAMP:20260425T155724
CREATED:20260331T155213Z
LAST-MODIFIED:20260331T155213Z
UID:10001717-1778266800-1778266800@www.rundschau-medien.at
SUMMARY:"Sonniges Plätzchen für zwei"
DESCRIPTION:Theater mit dem Teatro Santa Famiglia
URL:https://www.rundschau-medien.at/dil/sonniges-plaetzchen-fuer-zwei/2026-05-08/
LOCATION:Spielraum Kapfenberg
CATEGORIES:Theater
END:VEVENT
BEGIN:VEVENT
DTSTART;TZID=Europe/Vienna:20260508T193000
DTEND;TZID=Europe/Vienna:20260508T193000
DTSTAMP:20260425T155724
CREATED:20260126T125929Z
LAST-MODIFIED:20260126T125929Z
UID:10000636-1778268600-1778268600@www.rundschau-medien.at
SUMMARY:Vernissage
DESCRIPTION:Ausstellung von Günter R. Sander
URL:https://www.rundschau-medien.at/dil/vernissage-2/
LOCATION:Galerie K Kindberg
CATEGORIES:Kultur
END:VEVENT
BEGIN:VEVENT
DTSTART;TZID=Europe/Vienna:20260508T193000
DTEND;TZID=Europe/Vienna:20260508T193000
DTSTAMP:20260425T155724
CREATED:20260413T082955Z
LAST-MODIFIED:20260413T082955Z
UID:10001916-1778268600-1778268600@www.rundschau-medien.at
SUMMARY:Texte von Peter Rosegger
DESCRIPTION:musikalische Lesung mit Johannes Silberschneider und dem Vocalensemble Cantemus
URL:https://www.rundschau-medien.at/dil/texte-von-peter-rosegger/
LOCATION:Stadtpfarrkirche Trofaiach
CATEGORIES:Konzert,Lesung
END:VEVENT
BEGIN:VEVENT
DTSTART;TZID=Europe/Vienna:20260508T193000
DTEND;TZID=Europe/Vienna:20260508T193000
DTSTAMP:20260425T155724
CREATED:20260417T122956Z
LAST-MODIFIED:20260417T122956Z
UID:10001972-1778268600-1778268600@www.rundschau-medien.at
SUMMARY:"Griaß enk mit Sang und Klang"
DESCRIPTION:Konzert mit dem Vokalensemble und der Klarinettenmusi Kindberg\, Krieglach Vocal\, Tanja Lechner an der Harfe und Christoph Dietler am Klavier
URL:https://www.rundschau-medien.at/dil/griass-enk-mit-sang-und-klang-2/
LOCATION:Pfarrsaal Krieglach
CATEGORIES:Konzert
END:VEVENT
BEGIN:VEVENT
DTSTART;TZID=Europe/Vienna:20260508T193000
DTEND;TZID=Europe/Vienna:20260508T193000
DTSTAMP:20260425T155724
CREATED:20260421T092627Z
LAST-MODIFIED:20260421T092627Z
UID:10001987-1778268600-1778268600@www.rundschau-medien.at
SUMMARY:Konzert
DESCRIPTION:mit Cansu Tanrikulu\, Nick Dunston und dem Tobias Meissl Trio
URL:https://www.rundschau-medien.at/dil/konzert-54/
LOCATION:Kunsthaus Mürzzuschlag
CATEGORIES:Konzert
END:VEVENT
END:VCALENDAR