BEGIN:VCALENDAR
VERSION:2.0
PRODID:-//Obersteirische Rundschau - ECPv6.15.20//NONSGML v1.0//EN
CALSCALE:GREGORIAN
METHOD:PUBLISH
X-ORIGINAL-URL:https://www.rundschau-medien.at
X-WR-CALDESC:Veranstaltungen für Obersteirische Rundschau
REFRESH-INTERVAL;VALUE=DURATION:PT1H
X-Robots-Tag:noindex
X-PUBLISHED-TTL:PT1H
BEGIN:VTIMEZONE
TZID:Europe/Vienna
BEGIN:DAYLIGHT
TZOFFSETFROM:+0100
TZOFFSETTO:+0200
TZNAME:CEST
DTSTART:20250330T010000
END:DAYLIGHT
BEGIN:STANDARD
TZOFFSETFROM:+0200
TZOFFSETTO:+0100
TZNAME:CET
DTSTART:20251026T010000
END:STANDARD
BEGIN:DAYLIGHT
TZOFFSETFROM:+0100
TZOFFSETTO:+0200
TZNAME:CEST
DTSTART:20260329T010000
END:DAYLIGHT
BEGIN:STANDARD
TZOFFSETFROM:+0200
TZOFFSETTO:+0100
TZNAME:CET
DTSTART:20261025T010000
END:STANDARD
BEGIN:DAYLIGHT
TZOFFSETFROM:+0100
TZOFFSETTO:+0200
TZNAME:CEST
DTSTART:20270328T010000
END:DAYLIGHT
BEGIN:STANDARD
TZOFFSETFROM:+0200
TZOFFSETTO:+0100
TZNAME:CET
DTSTART:20271031T010000
END:STANDARD
END:VTIMEZONE
BEGIN:VEVENT
DTSTART;TZID=Europe/Vienna:20260504T090000
DTEND;TZID=Europe/Vienna:20260504T090000
DTSTAMP:20260421T144731
CREATED:20260408T132345Z
LAST-MODIFIED:20260408T132345Z
UID:10001884-1777885200-1777885200@www.rundschau-medien.at
SUMMARY:Nordic Walking ab der Lebensmitte
DESCRIPTION:
URL:https://www.rundschau-medien.at/dil/nordic-walking-ab-der-lebensmitte-15/
LOCATION:Bräuer Teiche\, Mürzzuschlag
CATEGORIES:Hobby/Freizeit
END:VEVENT
BEGIN:VEVENT
DTSTART;TZID=Europe/Vienna:20260504T130000
DTEND;TZID=Europe/Vienna:20260504T180000
DTSTAMP:20260421T144731
CREATED:20260114T142330Z
LAST-MODIFIED:20260121T110934Z
UID:10000222-1777899600-1777917600@www.rundschau-medien.at
SUMMARY:Flohmarkt
DESCRIPTION:Die Behindertenhilfe Krieglach betreibt den größten ständigen Flohmarkt im Mürztal. Mit dem Erlös werden behinderte\, kranke und arme Menschen unterstützt.
URL:https://www.rundschau-medien.at/dil/flohmarkt/2026-05-04/
LOCATION:Behindertenhilfe Krieglach\, Grazer Straße 79\, Krieglach\, 8670
CATEGORIES:Hobby/Freizeit,Markt
END:VEVENT
BEGIN:VEVENT
DTSTART;TZID=Europe/Vienna:20260504T140000
DTEND;TZID=Europe/Vienna:20260504T140000
DTSTAMP:20260421T144731
CREATED:20260408T132256Z
LAST-MODIFIED:20260408T132256Z
UID:10001883-1777903200-1777903200@www.rundschau-medien.at
SUMMARY:"Schützen Sie sich vor digitalen Betrugsmaschen am Handy"
DESCRIPTION:Workshop
URL:https://www.rundschau-medien.at/dil/schuetzen-sie-sich-vor-digitalen-betrugsmaschen-am-handy/
LOCATION:Rathaus Frohnleiten
CATEGORIES:Service/Info
END:VEVENT
BEGIN:VEVENT
DTSTART;TZID=Europe/Vienna:20260504T150000
DTEND;TZID=Europe/Vienna:20260504T193000
DTSTAMP:20260421T144731
CREATED:20260419T201156Z
LAST-MODIFIED:20260419T201309Z
UID:10001979-1777906800-1777923000@www.rundschau-medien.at
SUMMARY:Blutspenden
DESCRIPTION:
URL:https://www.rundschau-medien.at/dil/blutspenden-36/
LOCATION:Volksschule Frohnleiten
CATEGORIES:Gesundheit
END:VEVENT
BEGIN:VEVENT
DTSTART;TZID=Europe/Vienna:20260504T170000
DTEND;TZID=Europe/Vienna:20260504T170000
DTSTAMP:20260421T144731
CREATED:20260410T135021Z
LAST-MODIFIED:20260410T135428Z
UID:10001911-1777914000-1777914000@www.rundschau-medien.at
SUMMARY:"Zucker im Griff – einfach erklärt"
DESCRIPTION:Vortrag von Melanie Trummer\, Info und Anmeldung unter 0676/848176-630 oder -440
URL:https://www.rundschau-medien.at/dil/zucker-im-griff-einfach-erklaert/
LOCATION:Gute-Geschichte-Raum\, ECE Kapfenberg
CATEGORIES:Gesundheit,Vortrag
END:VEVENT
BEGIN:VEVENT
DTSTART;TZID=Europe/Vienna:20260504T180000
DTEND;TZID=Europe/Vienna:20260504T193000
DTSTAMP:20260421T144731
CREATED:20260120T115558Z
LAST-MODIFIED:20260121T110857Z
UID:10000349-1777917600-1777923000@www.rundschau-medien.at
SUMMARY:Seniorentanz
DESCRIPTION:„Tanz einfach mit“\, Info und Anmeldung unter 0699/14100114
URL:https://www.rundschau-medien.at/dil/seniorentanz/2026-05-04/
LOCATION:Aidora-Eventcenter Oberaich\, Bruck an der Mur
CATEGORIES:Hobby/Freizeit
END:VEVENT
BEGIN:VEVENT
DTSTART;TZID=Europe/Vienna:20260504T190000
DTEND;TZID=Europe/Vienna:20260504T190000
DTSTAMP:20260421T144731
CREATED:20260302T083824Z
LAST-MODIFIED:20260302T083824Z
UID:10001490-1777921200-1777921200@www.rundschau-medien.at
SUMMARY:"Heiliger Augustinus – ich glaube\, weil es absurd ist"
DESCRIPTION:Vortrag von Markus Plöbst
URL:https://www.rundschau-medien.at/dil/heiliger-augustinus-ich-glaube-weil-es-absurd-ist/
LOCATION:Collegium Josefinum Leoben
CATEGORIES:Vortrag
END:VEVENT
BEGIN:VEVENT
DTSTART;TZID=Europe/Vienna:20260505T070000
DTEND;TZID=Europe/Vienna:20260505T120000
DTSTAMP:20260421T144731
CREATED:20260211T101515Z
LAST-MODIFIED:20260211T101515Z
UID:10000913-1777964400-1777982400@www.rundschau-medien.at
SUMMARY:Bauernmarkt
DESCRIPTION:
URL:https://www.rundschau-medien.at/dil/bauernmarkt-38/
LOCATION:Kirchplatz Leoben
CATEGORIES:Markt
END:VEVENT
BEGIN:VEVENT
DTSTART;TZID=Europe/Vienna:20260505T090000
DTEND;TZID=Europe/Vienna:20260505T090000
DTSTAMP:20260421T144731
CREATED:20260415T080008Z
LAST-MODIFIED:20260415T080008Z
UID:10001955-1777971600-1777971600@www.rundschau-medien.at
SUMMARY:Aktiv-Kneipp-Gesund-Wandern
DESCRIPTION:
URL:https://www.rundschau-medien.at/dil/aktiv-kneipp-gesund-wandern-6/
LOCATION:Bräuer Teiche\, Mürzzuschlag
CATEGORIES:Hobby/Freizeit
END:VEVENT
BEGIN:VEVENT
DTSTART;TZID=Europe/Vienna:20260505T160000
DTEND;TZID=Europe/Vienna:20260505T160000
DTSTAMP:20260421T144731
CREATED:20260408T132540Z
LAST-MODIFIED:20260408T132540Z
UID:10001886-1777996800-1777996800@www.rundschau-medien.at
SUMMARY:Literaturtee
DESCRIPTION:
URL:https://www.rundschau-medien.at/dil/literaturtee-4/
LOCATION:Stadtbücherei Mürzzuschlag
CATEGORIES:Lesung
END:VEVENT
BEGIN:VEVENT
DTSTART;TZID=Europe/Vienna:20260505T190000
DTEND;TZID=Europe/Vienna:20260505T190000
DTSTAMP:20260421T144731
CREATED:20260408T132444Z
LAST-MODIFIED:20260408T132444Z
UID:10001885-1778007600-1778007600@www.rundschau-medien.at
SUMMARY:"Die Italienische"
DESCRIPTION:Konzert des Joseph Haydn Orchesters
URL:https://www.rundschau-medien.at/dil/die-italienische/
LOCATION:Kulturhaus Bruck an der Mur
CATEGORIES:Konzert
END:VEVENT
BEGIN:VEVENT
DTSTART;TZID=Europe/Vienna:20260505T190000
DTEND;TZID=Europe/Vienna:20260505T190000
DTSTAMP:20260421T144731
CREATED:20260408T132640Z
LAST-MODIFIED:20260408T132640Z
UID:10001887-1778007600-1778007600@www.rundschau-medien.at
SUMMARY:"Die echtere Wirklichkeit"
DESCRIPTION:Lesung von Raphaela Edelbauer
URL:https://www.rundschau-medien.at/dil/die-echtere-wirklichkeit/
LOCATION:Kunsthaus Mürzzuschlag
CATEGORIES:Lesung
END:VEVENT
BEGIN:VEVENT
DTSTART;TZID=Europe/Vienna:20260505T190000
DTEND;TZID=Europe/Vienna:20260505T190000
DTSTAMP:20260421T144731
CREATED:20260415T122423Z
LAST-MODIFIED:20260415T122423Z
UID:10001970-1778007600-1778007600@www.rundschau-medien.at
SUMMARY:"Griaß enk mit Sang und Klang"
DESCRIPTION:Konzert mit dem Vokalensemble Kinderg\, Krieglach Vocal\, dem Kinderchor der Musikschule Kindberg\, der Kindberger Klarinettenmusi und Tanja Lechner an der Harfe
URL:https://www.rundschau-medien.at/dil/griass-enk-mit-sang-und-klang/
LOCATION:Volkshaus Kindberg
CATEGORIES:Konzert
END:VEVENT
BEGIN:VEVENT
DTSTART;TZID=Europe/Vienna:20260505T193000
DTEND;TZID=Europe/Vienna:20260505T193000
DTSTAMP:20260421T144731
CREATED:20260408T132754Z
LAST-MODIFIED:20260408T132754Z
UID:10001888-1778009400-1778009400@www.rundschau-medien.at
SUMMARY:"... bis einer weint!"
DESCRIPTION:Comedy mit Bernhard Murg und Stefano Bernadin
URL:https://www.rundschau-medien.at/dil/bis-einer-weint-2/
LOCATION:Stadtsaal Mürzzuschlag
CATEGORIES:Kabarett
END:VEVENT
BEGIN:VEVENT
DTSTART;TZID=Europe/Vienna:20260506T060000
DTEND;TZID=Europe/Vienna:20260506T120000
DTSTAMP:20260421T144731
CREATED:20260114T143951Z
LAST-MODIFIED:20260121T110934Z
UID:10000297-1778047200-1778068800@www.rundschau-medien.at
SUMMARY:Brucker Wochenmarkt
DESCRIPTION:Vielfältige Produkte der regionalen BäuerInnen und ProduzentInnen.
URL:https://www.rundschau-medien.at/dil/brucker-wochenmarkt/2026-05-06/
LOCATION:Hauptplatz Bruck an der Mur
CATEGORIES:Kulinarik,Markt
END:VEVENT
BEGIN:VEVENT
DTSTART;TZID=Europe/Vienna:20260506T083000
DTEND;TZID=Europe/Vienna:20260506T093000
DTSTAMP:20260421T144731
CREATED:20260120T121529Z
LAST-MODIFIED:20260121T110853Z
UID:10000426-1778056200-1778059800@www.rundschau-medien.at
SUMMARY:Aktiv und bewegt älter
DESCRIPTION:Info und Anmeldung unter 0699/14100114
URL:https://www.rundschau-medien.at/dil/aktiv-und-bewegt-aelter/2026-05-06/
LOCATION:Turnsaal Tragöß
CATEGORIES:Gesundheit,Hobby/Freizeit
END:VEVENT
BEGIN:VEVENT
DTSTART;TZID=Europe/Vienna:20260506T090000
DTEND;TZID=Europe/Vienna:20260506T090000
DTSTAMP:20260421T144731
CREATED:20260408T132948Z
LAST-MODIFIED:20260408T132948Z
UID:10001890-1778058000-1778058000@www.rundschau-medien.at
SUMMARY:Aktiv-Kneipp-Gesund-Wandern
DESCRIPTION:
URL:https://www.rundschau-medien.at/dil/aktiv-kneipp-gesund-wandern-5/
LOCATION:Bräuer Teiche\, Mürzzuschlag
CATEGORIES:Hobby/Freizeit
END:VEVENT
BEGIN:VEVENT
DTSTART;TZID=Europe/Vienna:20260506T103000
DTEND;TZID=Europe/Vienna:20260506T113000
DTSTAMP:20260421T144731
CREATED:20260120T121717Z
LAST-MODIFIED:20260121T110852Z
UID:10000439-1778063400-1778067000@www.rundschau-medien.at
SUMMARY:Aktiv und bewegt älter
DESCRIPTION:Info und Anmeldung unter 0699/14100114
URL:https://www.rundschau-medien.at/dil/aktiv-und-bewegt-aelter-2/2026-05-06/
LOCATION:VAZ St. Katharein/Laming
CATEGORIES:Gesundheit,Hobby/Freizeit
END:VEVENT
BEGIN:VEVENT
DTSTART;TZID=Europe/Vienna:20260506T130000
DTEND;TZID=Europe/Vienna:20260506T180000
DTSTAMP:20260421T144731
CREATED:20260114T142330Z
LAST-MODIFIED:20260121T110934Z
UID:10000223-1778072400-1778090400@www.rundschau-medien.at
SUMMARY:Flohmarkt
DESCRIPTION:Die Behindertenhilfe Krieglach betreibt den größten ständigen Flohmarkt im Mürztal. Mit dem Erlös werden behinderte\, kranke und arme Menschen unterstützt.
URL:https://www.rundschau-medien.at/dil/flohmarkt/2026-05-06/
LOCATION:Behindertenhilfe Krieglach\, Grazer Straße 79\, Krieglach\, 8670
CATEGORIES:Hobby/Freizeit,Markt
END:VEVENT
BEGIN:VEVENT
DTSTART;TZID=Europe/Vienna:20260506T140000
DTEND;TZID=Europe/Vienna:20260506T140000
DTSTAMP:20260421T144731
CREATED:20260408T132852Z
LAST-MODIFIED:20260408T132852Z
UID:10001889-1778076000-1778076000@www.rundschau-medien.at
SUMMARY:Familienkaffee
DESCRIPTION:
URL:https://www.rundschau-medien.at/dil/familienkaffee-2/
LOCATION:Senioren-Tageszentrum Frohnleiten
CATEGORIES:Gesellschaft
END:VEVENT
BEGIN:VEVENT
DTSTART;TZID=Europe/Vienna:20260506T143000
DTEND;TZID=Europe/Vienna:20260506T163000
DTSTAMP:20260421T144731
CREATED:20260206T091005Z
LAST-MODIFIED:20260206T091005Z
UID:10000849-1778077800-1778085000@www.rundschau-medien.at
SUMMARY:Treffen der Parkinson-Selbsthilfegruppe
DESCRIPTION:Anmeldung für ein kostenloses Erstgespräch unter 0680/1413047 oder E-Mail walter.ondrich@gmx.at
URL:https://www.rundschau-medien.at/dil/treffen-der-parkinson-selbsthilfegruppe-3/
LOCATION:Maßenbergstraße 9\, Leoben
CATEGORIES:Gesundheit,Service/Info
END:VEVENT
BEGIN:VEVENT
DTSTART;TZID=Europe/Vienna:20260506T150000
DTEND;TZID=Europe/Vienna:20260506T150000
DTSTAMP:20260421T144731
CREATED:20260114T141405Z
LAST-MODIFIED:20260121T110933Z
UID:10000152-1778079600-1778079600@www.rundschau-medien.at
SUMMARY:Handarbeitsrunde
DESCRIPTION:Gemütliche Winternachmittage mit Stricken\, Sticken und Häkeln\, veranstaltet von den steirischen VP-Frauen.
URL:https://www.rundschau-medien.at/dil/handarbeitsrunde-3/2026-05-06/
LOCATION:Pfadfinderheim Langenwang
CATEGORIES:Hobby/Freizeit
END:VEVENT
BEGIN:VEVENT
DTSTART;TZID=Europe/Vienna:20260506T170000
DTEND;TZID=Europe/Vienna:20260506T170000
DTSTAMP:20260421T144731
CREATED:20260415T103019Z
LAST-MODIFIED:20260415T103019Z
UID:10001964-1778086800-1778086800@www.rundschau-medien.at
SUMMARY:"Circus Montana"
DESCRIPTION:Zirkusprojekt der Schulgemeinschaft Mariazell
URL:https://www.rundschau-medien.at/dil/circus-montana/2026-05-06/
LOCATION:Sportplatz Mariazell
CATEGORIES:Hobby/Freizeit
END:VEVENT
BEGIN:VEVENT
DTSTART;TZID=Europe/Vienna:20260507T140000
DTEND;TZID=Europe/Vienna:20260507T140000
DTSTAMP:20260421T144731
CREATED:20260415T080109Z
LAST-MODIFIED:20260415T080109Z
UID:10001956-1778162400-1778162400@www.rundschau-medien.at
SUMMARY:Begegnungscafé
DESCRIPTION:
URL:https://www.rundschau-medien.at/dil/begegnungscafe/
LOCATION:Senioren-Tageszentrum Donawitz\, Leoben
CATEGORIES:Gesellschaft
END:VEVENT
BEGIN:VEVENT
DTSTART;TZID=Europe/Vienna:20260507T150000
DTEND;TZID=Europe/Vienna:20260507T150000
DTSTAMP:20260421T144731
CREATED:20260408T134413Z
LAST-MODIFIED:20260408T134413Z
UID:10001896-1778166000-1778166000@www.rundschau-medien.at
SUMMARY:"Nadel & Buch"
DESCRIPTION:Workshop mit dem Kreativclub Mürzzuschlag\, Info und Anmeldung unter 03852/2555-421
URL:https://www.rundschau-medien.at/dil/nadel-buch-3/
LOCATION:Stadtbücherei Mürzzuschlag
CATEGORIES:Hobby/Freizeit
END:VEVENT
BEGIN:VEVENT
DTSTART;TZID=Europe/Vienna:20260507T150000
DTEND;TZID=Europe/Vienna:20260507T163000
DTSTAMP:20260421T144731
CREATED:20260120T120427Z
LAST-MODIFIED:20260121T110852Z
UID:10000414-1778166000-1778171400@www.rundschau-medien.at
SUMMARY:Seniorentanz
DESCRIPTION:„Tanz einfach mit“\, Info und Anmeldung unter 0699/14100114
URL:https://www.rundschau-medien.at/dil/seniorentanz-2/2026-05-07/
LOCATION:Pfarrsaal Bruck
CATEGORIES:Hobby/Freizeit
END:VEVENT
BEGIN:VEVENT
DTSTART;TZID=Europe/Vienna:20260507T153000
DTEND;TZID=Europe/Vienna:20260507T153000
DTSTAMP:20260421T144731
CREATED:20260408T134150Z
LAST-MODIFIED:20260408T134150Z
UID:10001894-1778167800-1778167800@www.rundschau-medien.at
SUMMARY:"Pippi Langstrumpf"
DESCRIPTION:Erzähltheater für Kinder ab 5 Jahren\, Info und Anmeldung unter 03842/4062-408
URL:https://www.rundschau-medien.at/dil/pippi-langstrumpf/
LOCATION:Kulturquartier Leoben
CATEGORIES:Kinder/Jugend
END:VEVENT
BEGIN:VEVENT
DTSTART;TZID=Europe/Vienna:20260507T160000
DTEND;TZID=Europe/Vienna:20260507T160000
DTSTAMP:20260421T144731
CREATED:20260211T101609Z
LAST-MODIFIED:20260211T101609Z
UID:10000914-1778169600-1778169600@www.rundschau-medien.at
SUMMARY:Muttertagsfeier
DESCRIPTION:
URL:https://www.rundschau-medien.at/dil/muttertagsfeier-2/
LOCATION:Festsaal Traboch
CATEGORIES:Gesellschaft
END:VEVENT
BEGIN:VEVENT
DTSTART;TZID=Europe/Vienna:20260507T160000
DTEND;TZID=Europe/Vienna:20260507T160000
DTSTAMP:20260421T144731
CREATED:20260311T141256Z
LAST-MODIFIED:20260311T141256Z
UID:10001560-1778169600-1778169600@www.rundschau-medien.at
SUMMARY:Muttertagsfeier
DESCRIPTION:
URL:https://www.rundschau-medien.at/dil/muttertagsfeier-3/
LOCATION:Kultursaal St. Peter-Freienstein
CATEGORIES:Gesellschaft
END:VEVENT
BEGIN:VEVENT
DTSTART;TZID=Europe/Vienna:20260507T170000
DTEND;TZID=Europe/Vienna:20260507T170000
DTSTAMP:20260421T144731
CREATED:20260415T103019Z
LAST-MODIFIED:20260415T103019Z
UID:10001965-1778173200-1778173200@www.rundschau-medien.at
SUMMARY:"Circus Montana"
DESCRIPTION:Zirkusprojekt der Schulgemeinschaft Mariazell
URL:https://www.rundschau-medien.at/dil/circus-montana/2026-05-07/
LOCATION:Sportplatz Mariazell
CATEGORIES:Hobby/Freizeit
END:VEVENT
END:VCALENDAR