BEGIN:VCALENDAR
VERSION:2.0
PRODID:-//Obersteirische Rundschau - ECPv6.15.20//NONSGML v1.0//EN
CALSCALE:GREGORIAN
METHOD:PUBLISH
X-ORIGINAL-URL:https://www.rundschau-medien.at
X-WR-CALDESC:Veranstaltungen für Obersteirische Rundschau
REFRESH-INTERVAL;VALUE=DURATION:PT1H
X-Robots-Tag:noindex
X-PUBLISHED-TTL:PT1H
BEGIN:VTIMEZONE
TZID:Europe/Vienna
BEGIN:DAYLIGHT
TZOFFSETFROM:+0100
TZOFFSETTO:+0200
TZNAME:CEST
DTSTART:20250330T010000
END:DAYLIGHT
BEGIN:STANDARD
TZOFFSETFROM:+0200
TZOFFSETTO:+0100
TZNAME:CET
DTSTART:20251026T010000
END:STANDARD
BEGIN:DAYLIGHT
TZOFFSETFROM:+0100
TZOFFSETTO:+0200
TZNAME:CEST
DTSTART:20260329T010000
END:DAYLIGHT
BEGIN:STANDARD
TZOFFSETFROM:+0200
TZOFFSETTO:+0100
TZNAME:CET
DTSTART:20261025T010000
END:STANDARD
BEGIN:DAYLIGHT
TZOFFSETFROM:+0100
TZOFFSETTO:+0200
TZNAME:CEST
DTSTART:20270328T010000
END:DAYLIGHT
BEGIN:STANDARD
TZOFFSETFROM:+0200
TZOFFSETTO:+0100
TZNAME:CET
DTSTART:20271031T010000
END:STANDARD
END:VTIMEZONE
BEGIN:VEVENT
DTSTART;TZID=Europe/Vienna:20260426T050000
DTEND;TZID=Europe/Vienna:20260426T120000
DTSTAMP:20260421T202011
CREATED:20260324T140603Z
LAST-MODIFIED:20260324T140603Z
UID:10001669-1777179600-1777204800@www.rundschau-medien.at
SUMMARY:Flohmarkt
DESCRIPTION:
URL:https://www.rundschau-medien.at/dil/flohmarkt-24/
LOCATION:Tiefgarage ECE Kapfenberg
CATEGORIES:Markt
END:VEVENT
BEGIN:VEVENT
DTSTART;TZID=Europe/Vienna:20260426T090000
DTEND;TZID=Europe/Vienna:20260426T090000
DTSTAMP:20260421T202011
CREATED:20260410T112343Z
LAST-MODIFIED:20260410T112343Z
UID:10001910-1777194000-1777194000@www.rundschau-medien.at
SUMMARY:Mürztalrinderschau
DESCRIPTION:mit Jungzüchtercup
URL:https://www.rundschau-medien.at/dil/muerztalrinderschau/2026-04-26/
LOCATION:ABZ Hafendorf\, Kapfenberg
CATEGORIES:Gesellschaft
END:VEVENT
BEGIN:VEVENT
DTSTART;TZID=Europe/Vienna:20260426T100000
DTEND;TZID=Europe/Vienna:20260426T100000
DTSTAMP:20260421T202011
CREATED:20260408T130339Z
LAST-MODIFIED:20260408T130339Z
UID:10001865-1777197600-1777197600@www.rundschau-medien.at
SUMMARY:"Vespa trifft Traktor"
DESCRIPTION:
URL:https://www.rundschau-medien.at/dil/vespa-trifft-traktor/
LOCATION:Peter-Tunner-Straße Leoben
CATEGORIES:Hobby/Freizeit
END:VEVENT
BEGIN:VEVENT
DTSTART;TZID=Europe/Vienna:20260426T100000
DTEND;TZID=Europe/Vienna:20260426T100000
DTSTAMP:20260421T202011
CREATED:20260417T124006Z
LAST-MODIFIED:20260417T124006Z
UID:10001973-1777197600-1777197600@www.rundschau-medien.at
SUMMARY:Tag der offenen Tür
DESCRIPTION:
URL:https://www.rundschau-medien.at/dil/tag-der-offenen-tuer-5/
LOCATION:Feuerwehr St. Lorenzen
CATEGORIES:Service/Info
END:VEVENT
BEGIN:VEVENT
DTSTART;TZID=Europe/Vienna:20260426T130000
DTEND;TZID=Europe/Vienna:20260426T130000
DTSTAMP:20260421T202011
CREATED:20260408T130123Z
LAST-MODIFIED:20260408T130123Z
UID:10001863-1777208400-1777208400@www.rundschau-medien.at
SUMMARY:Musikfrühling Frohnleiten
DESCRIPTION:mit der Poldl Hausmusi und „Spätlese“
URL:https://www.rundschau-medien.at/dil/musikfruehling-frohnleiten/
LOCATION:Gasthaus Poldlwirt\, Frohnleiten
CATEGORIES:Konzert
END:VEVENT
BEGIN:VEVENT
DTSTART;TZID=Europe/Vienna:20260426T140000
DTEND;TZID=Europe/Vienna:20260426T160000
DTSTAMP:20260421T202011
CREATED:20260408T130451Z
LAST-MODIFIED:20260408T130451Z
UID:10001866-1777212000-1777219200@www.rundschau-medien.at
SUMMARY:Internationaler Tag des Rettungshundes
DESCRIPTION:
URL:https://www.rundschau-medien.at/dil/internationaler-tag-des-rettungshundes/
LOCATION:Hauptplatz Leoben
CATEGORIES:Service/Info
END:VEVENT
BEGIN:VEVENT
DTSTART;TZID=Europe/Vienna:20260426T170000
DTEND;TZID=Europe/Vienna:20260426T170000
DTSTAMP:20260421T202011
CREATED:20260408T130549Z
LAST-MODIFIED:20260408T130549Z
UID:10001867-1777222800-1777222800@www.rundschau-medien.at
SUMMARY:Frühlingskonzert
DESCRIPTION:mit der Werkskapelle Böhler Mürzzuschlag-Hönigsberg
URL:https://www.rundschau-medien.at/dil/fruehlingskonzert-5/
LOCATION:Casino Hönigsberg Mürzzuschlag
CATEGORIES:Konzert
END:VEVENT
BEGIN:VEVENT
DTSTART;TZID=Europe/Vienna:20260426T180000
DTEND;TZID=Europe/Vienna:20260426T180000
DTSTAMP:20260421T202011
CREATED:20260408T130239Z
LAST-MODIFIED:20260416T091632Z
UID:10001864-1777226400-1777226400@www.rundschau-medien.at
SUMMARY:Neuer Krimi von Joesi Prokopetz
DESCRIPTION:Am Sonntag\, dem 26. April\, ist Joesi Prokopetz für eine Lesung bei Buch & Co in Frohnleiten zu Gast. Der Songwriter\, Kabarettist und Autor präsentiert dabei seinen neuen Kriminalroman „Die Blume aus dem Gemeindebau“. Beginn der Veranstaltung ist um 18 Uhr\, Vorverkaufskarten sind unter Tel. 0676/7667000 und bei Ö-Ticket erhältlich. \nFoto: Beck
URL:https://www.rundschau-medien.at/dil/die-blume-aus-dem-gemeindebau/
LOCATION:Buch & Co\, Frohnleiten
CATEGORIES:Lesung
ATTACH;FMTTYPE=image/webp:https://www.rundschau-medien.at/wp-content/uploads/2026/04/St-Lorenzen-Lesung-Prokopetz-Beck.webp
END:VEVENT
BEGIN:VEVENT
DTSTART;TZID=Europe/Vienna:20260426T190000
DTEND;TZID=Europe/Vienna:20260426T190000
DTSTAMP:20260421T202011
CREATED:20260126T123021Z
LAST-MODIFIED:20260126T123021Z
UID:10000625-1777230000-1777230000@www.rundschau-medien.at
SUMMARY:"Naturfreunde-Wanderwoche 2025 Radstadt"
DESCRIPTION:Vortrag von Wolfgang Schörkmayer
URL:https://www.rundschau-medien.at/dil/naturfreunde-wanderwoche-2025-radstadt/
LOCATION:Freizeitheim Mürzhofen\, Kindberg
CATEGORIES:Vortrag
END:VEVENT
BEGIN:VEVENT
DTSTART;TZID=Europe/Vienna:20260427T090000
DTEND;TZID=Europe/Vienna:20260427T090000
DTSTAMP:20260421T202011
CREATED:20260408T130642Z
LAST-MODIFIED:20260408T130642Z
UID:10001868-1777280400-1777280400@www.rundschau-medien.at
SUMMARY:Nordic Walking ab der Lebensmitte
DESCRIPTION:
URL:https://www.rundschau-medien.at/dil/nordic-walking-ab-der-lebensmitte-13/
LOCATION:Bräuer Teiche\, Mürzzuschlag
CATEGORIES:Hobby/Freizeit
END:VEVENT
BEGIN:VEVENT
DTSTART;TZID=Europe/Vienna:20260427T110000
DTEND;TZID=Europe/Vienna:20260427T130000
DTSTAMP:20260421T202011
CREATED:20260419T201004Z
LAST-MODIFIED:20260419T201337Z
UID:10001977-1777287600-1777294800@www.rundschau-medien.at
SUMMARY:Blutspenden
DESCRIPTION:
URL:https://www.rundschau-medien.at/dil/blutspenden-34/
LOCATION:Pfarrsaal Waasen\, Leoben
CATEGORIES:Gesundheit
END:VEVENT
BEGIN:VEVENT
DTSTART;TZID=Europe/Vienna:20260427T130000
DTEND;TZID=Europe/Vienna:20260427T180000
DTSTAMP:20260421T202011
CREATED:20260114T142330Z
LAST-MODIFIED:20260121T110934Z
UID:10000219-1777294800-1777312800@www.rundschau-medien.at
SUMMARY:Flohmarkt
DESCRIPTION:Die Behindertenhilfe Krieglach betreibt den größten ständigen Flohmarkt im Mürztal. Mit dem Erlös werden behinderte\, kranke und arme Menschen unterstützt.
URL:https://www.rundschau-medien.at/dil/flohmarkt/2026-04-27/
LOCATION:Behindertenhilfe Krieglach\, Grazer Straße 79\, Krieglach\, 8670
CATEGORIES:Hobby/Freizeit,Markt
END:VEVENT
BEGIN:VEVENT
DTSTART;TZID=Europe/Vienna:20260427T140000
DTEND;TZID=Europe/Vienna:20260427T180000
DTSTAMP:20260421T202011
CREATED:20260419T201051Z
LAST-MODIFIED:20260419T201337Z
UID:10001978-1777298400-1777312800@www.rundschau-medien.at
SUMMARY:Blutspenden
DESCRIPTION:
URL:https://www.rundschau-medien.at/dil/blutspenden-35/
LOCATION:Pfarrsaal Waasen\, Leoben
CATEGORIES:Gesundheit
END:VEVENT
BEGIN:VEVENT
DTSTART;TZID=Europe/Vienna:20260427T160000
DTEND;TZID=Europe/Vienna:20260427T190000
DTSTAMP:20260421T202011
CREATED:20260419T200731Z
LAST-MODIFIED:20260419T201336Z
UID:10001976-1777305600-1777316400@www.rundschau-medien.at
SUMMARY:Blutspenden
DESCRIPTION:
URL:https://www.rundschau-medien.at/dil/blutspenden-33/
LOCATION:Mittelschule Mitterdorf\, St. Barbara
CATEGORIES:Gesundheit
END:VEVENT
BEGIN:VEVENT
DTSTART;TZID=Europe/Vienna:20260427T180000
DTEND;TZID=Europe/Vienna:20260427T193000
DTSTAMP:20260421T202011
CREATED:20260120T115558Z
LAST-MODIFIED:20260121T110857Z
UID:10000348-1777312800-1777318200@www.rundschau-medien.at
SUMMARY:Seniorentanz
DESCRIPTION:„Tanz einfach mit“\, Info und Anmeldung unter 0699/14100114
URL:https://www.rundschau-medien.at/dil/seniorentanz/2026-04-27/
LOCATION:Aidora-Eventcenter Oberaich\, Bruck an der Mur
CATEGORIES:Hobby/Freizeit
END:VEVENT
BEGIN:VEVENT
DTSTART;TZID=Europe/Vienna:20260427T190000
DTEND;TZID=Europe/Vienna:20260427T190000
DTSTAMP:20260421T202011
CREATED:20260302T083710Z
LAST-MODIFIED:20260302T083710Z
UID:10001489-1777316400-1777316400@www.rundschau-medien.at
SUMMARY:"Leoben liest"
DESCRIPTION:SchülerInnen des Alten Gymnasiums lesen aus ihren Lieblingsbüchern und auch Selbstverfasstem
URL:https://www.rundschau-medien.at/dil/leoben-liest/
LOCATION:Collegium Josefinum Leoben
CATEGORIES:Lesung
END:VEVENT
BEGIN:VEVENT
DTSTART;TZID=Europe/Vienna:20260427T190000
DTEND;TZID=Europe/Vienna:20260427T190000
DTSTAMP:20260421T202011
CREATED:20260415T081421Z
LAST-MODIFIED:20260415T081421Z
UID:10001958-1777316400-1777316400@www.rundschau-medien.at
SUMMARY:"Kalender Girls"
DESCRIPTION:Theater mit der Schauspielklasse Corinna Harrer
URL:https://www.rundschau-medien.at/dil/kalender-girls/
LOCATION:Spielraum Kapfenberg
CATEGORIES:Theater
END:VEVENT
BEGIN:VEVENT
DTSTART;TZID=Europe/Vienna:20260428T070000
DTEND;TZID=Europe/Vienna:20260428T120000
DTSTAMP:20260421T202011
CREATED:20260211T101330Z
LAST-MODIFIED:20260211T101330Z
UID:10000912-1777359600-1777377600@www.rundschau-medien.at
SUMMARY:Bauernmarkt
DESCRIPTION:
URL:https://www.rundschau-medien.at/dil/bauernmarkt-37/
LOCATION:Kirchplatz Leoben
CATEGORIES:Markt
END:VEVENT
BEGIN:VEVENT
DTSTART;TZID=Europe/Vienna:20260428T180000
DTEND;TZID=Europe/Vienna:20260428T180000
DTSTAMP:20260421T202011
CREATED:20260126T123559Z
LAST-MODIFIED:20260202T113056Z
UID:10000630-1777399200-1777399200@www.rundschau-medien.at
SUMMARY:"Tollwut"
DESCRIPTION:Lesung von Heinz Kröpfl
URL:https://www.rundschau-medien.at/dil/lesung-von-heinz-kroepfl/
LOCATION:Galerie K Kindberg
CATEGORIES:Lesung
END:VEVENT
BEGIN:VEVENT
DTSTART;TZID=Europe/Vienna:20260428T183000
DTEND;TZID=Europe/Vienna:20260428T183000
DTSTAMP:20260421T202011
CREATED:20260409T121742Z
LAST-MODIFIED:20260409T123837Z
UID:10001904-1777401000-1777401000@www.rundschau-medien.at
SUMMARY:Lizz Görgl und ihr Flow in St. Lorenzen
DESCRIPTION:Am Dienstag\, dem 28. April\, präsentiert Lizz Görgl im Sitzungssaal der Marktgemeinde St. Lorenzen ihr neues Buch „Die Magie des Flows“. In dem gemeinsam mit Michael von Kunhardt verfassten Ratgeber verrät die ehemalige Schirennläuferin\, wie man über sich selbst hinauswachsen kann. Beginn der Veranstaltung ist um 18.30 Uhr. \nFoto: Tischler
URL:https://www.rundschau-medien.at/dil/die-magie-des-flows/
LOCATION:Sitzungssaal der Marktgemeinde St. Lorenzen
CATEGORIES:Lesung
ATTACH;FMTTYPE=image/webp:https://www.rundschau-medien.at/wp-content/uploads/2026/04/St-Lorenzen-Lesung-Goergl-Tischler.webp
END:VEVENT
BEGIN:VEVENT
DTSTART;TZID=Europe/Vienna:20260428T190000
DTEND;TZID=Europe/Vienna:20260428T190000
DTSTAMP:20260421T202011
CREATED:20260304T142343Z
LAST-MODIFIED:20260304T142343Z
UID:10001508-1777402800-1777402800@www.rundschau-medien.at
SUMMARY:Filmabend
DESCRIPTION:„80 Jahre Vespa“ von Wolfgang Köllner und Peter Schlagbauer
URL:https://www.rundschau-medien.at/dil/filmabend-6/
LOCATION:Filmklublokal Volksschule Redfeld\, Kapfenberg
CATEGORIES:Hobby/Freizeit
END:VEVENT
BEGIN:VEVENT
DTSTART;TZID=Europe/Vienna:20260428T193000
DTEND;TZID=Europe/Vienna:20260428T193000
DTSTAMP:20260421T202011
CREATED:20260225T094539Z
LAST-MODIFIED:20260323T121535Z
UID:10001417-1777404600-1777404600@www.rundschau-medien.at
SUMMARY:"Die Einzige im Raum"
DESCRIPTION:Theater
URL:https://www.rundschau-medien.at/dil/die-einzige-im-raum/
LOCATION:Kulturquartier Leoben
CATEGORIES:Theater
END:VEVENT
BEGIN:VEVENT
DTSTART;TZID=Europe/Vienna:20260428T193000
DTEND;TZID=Europe/Vienna:20260428T193000
DTSTAMP:20260421T202011
CREATED:20260415T093557Z
LAST-MODIFIED:20260415T093557Z
UID:10001959-1777404600-1777404600@www.rundschau-medien.at
SUMMARY:"Die Einzige im Raum"
DESCRIPTION:Theaterprojekt des Vereins Steirische Eisenstraße
URL:https://www.rundschau-medien.at/dil/die-einzige-im-raum-2/
LOCATION:Kulturquartier Leoben
CATEGORIES:Theater
END:VEVENT
BEGIN:VEVENT
DTSTART;TZID=Europe/Vienna:20260429T060000
DTEND;TZID=Europe/Vienna:20260429T120000
DTSTAMP:20260421T202011
CREATED:20260114T143951Z
LAST-MODIFIED:20260121T110934Z
UID:10000295-1777442400-1777464000@www.rundschau-medien.at
SUMMARY:Brucker Wochenmarkt
DESCRIPTION:Vielfältige Produkte der regionalen BäuerInnen und ProduzentInnen.
URL:https://www.rundschau-medien.at/dil/brucker-wochenmarkt/2026-04-29/
LOCATION:Hauptplatz Bruck an der Mur
CATEGORIES:Kulinarik,Markt
END:VEVENT
BEGIN:VEVENT
DTSTART;TZID=Europe/Vienna:20260429T083000
DTEND;TZID=Europe/Vienna:20260429T093000
DTSTAMP:20260421T202011
CREATED:20260120T121529Z
LAST-MODIFIED:20260121T110853Z
UID:10000425-1777451400-1777455000@www.rundschau-medien.at
SUMMARY:Aktiv und bewegt älter
DESCRIPTION:Info und Anmeldung unter 0699/14100114
URL:https://www.rundschau-medien.at/dil/aktiv-und-bewegt-aelter/2026-04-29/
LOCATION:Turnsaal Tragöß
CATEGORIES:Gesundheit,Hobby/Freizeit
END:VEVENT
BEGIN:VEVENT
DTSTART;TZID=Europe/Vienna:20260429T090000
DTEND;TZID=Europe/Vienna:20260429T090000
DTSTAMP:20260421T202011
CREATED:20260408T130848Z
LAST-MODIFIED:20260408T130848Z
UID:10001870-1777453200-1777453200@www.rundschau-medien.at
SUMMARY:Aktiv-Kneipp-Gesund-Wandern
DESCRIPTION:
URL:https://www.rundschau-medien.at/dil/aktiv-kneipp-gesund-wandern-4/
LOCATION:Bräuer Teiche\, Mürzzuschlag
CATEGORIES:Hobby/Freizeit
END:VEVENT
BEGIN:VEVENT
DTSTART;TZID=Europe/Vienna:20260429T103000
DTEND;TZID=Europe/Vienna:20260429T113000
DTSTAMP:20260421T202011
CREATED:20260120T121717Z
LAST-MODIFIED:20260121T110852Z
UID:10000438-1777458600-1777462200@www.rundschau-medien.at
SUMMARY:Aktiv und bewegt älter
DESCRIPTION:Info und Anmeldung unter 0699/14100114
URL:https://www.rundschau-medien.at/dil/aktiv-und-bewegt-aelter-2/2026-04-29/
LOCATION:VAZ St. Katharein/Laming
CATEGORIES:Gesundheit,Hobby/Freizeit
END:VEVENT
BEGIN:VEVENT
DTSTART;TZID=Europe/Vienna:20260429T130000
DTEND;TZID=Europe/Vienna:20260429T180000
DTSTAMP:20260421T202011
CREATED:20260114T142330Z
LAST-MODIFIED:20260121T110934Z
UID:10000220-1777467600-1777485600@www.rundschau-medien.at
SUMMARY:Flohmarkt
DESCRIPTION:Die Behindertenhilfe Krieglach betreibt den größten ständigen Flohmarkt im Mürztal. Mit dem Erlös werden behinderte\, kranke und arme Menschen unterstützt.
URL:https://www.rundschau-medien.at/dil/flohmarkt/2026-04-29/
LOCATION:Behindertenhilfe Krieglach\, Grazer Straße 79\, Krieglach\, 8670
CATEGORIES:Hobby/Freizeit,Markt
END:VEVENT
BEGIN:VEVENT
DTSTART;TZID=Europe/Vienna:20260429T140000
DTEND;TZID=Europe/Vienna:20260429T140000
DTSTAMP:20260421T202011
CREATED:20260126T123120Z
LAST-MODIFIED:20260126T123120Z
UID:10000626-1777471200-1777471200@www.rundschau-medien.at
SUMMARY:Pensionistennachmittag
DESCRIPTION:Mit dem Pensionistenverband
URL:https://www.rundschau-medien.at/dil/pensionistennachmittag-7/
LOCATION:Kinderfreundeheim Kammern
CATEGORIES:Gesellschaft
END:VEVENT
BEGIN:VEVENT
DTSTART;TZID=Europe/Vienna:20260429T150000
DTEND;TZID=Europe/Vienna:20260429T150000
DTSTAMP:20260421T202011
CREATED:20260114T141405Z
LAST-MODIFIED:20260121T110933Z
UID:10000151-1777474800-1777474800@www.rundschau-medien.at
SUMMARY:Handarbeitsrunde
DESCRIPTION:Gemütliche Winternachmittage mit Stricken\, Sticken und Häkeln\, veranstaltet von den steirischen VP-Frauen.
URL:https://www.rundschau-medien.at/dil/handarbeitsrunde-3/2026-04-29/
LOCATION:Pfadfinderheim Langenwang
CATEGORIES:Hobby/Freizeit
END:VEVENT
END:VCALENDAR