BEGIN:VCALENDAR
VERSION:2.0
PRODID:-//Obersteirische Rundschau - ECPv6.15.20//NONSGML v1.0//EN
CALSCALE:GREGORIAN
METHOD:PUBLISH
X-ORIGINAL-URL:https://www.rundschau-medien.at
X-WR-CALDESC:Veranstaltungen für Obersteirische Rundschau
REFRESH-INTERVAL;VALUE=DURATION:PT1H
X-Robots-Tag:noindex
X-PUBLISHED-TTL:PT1H
BEGIN:VTIMEZONE
TZID:Europe/Vienna
BEGIN:DAYLIGHT
TZOFFSETFROM:+0100
TZOFFSETTO:+0200
TZNAME:CEST
DTSTART:20250330T010000
END:DAYLIGHT
BEGIN:STANDARD
TZOFFSETFROM:+0200
TZOFFSETTO:+0100
TZNAME:CET
DTSTART:20251026T010000
END:STANDARD
BEGIN:DAYLIGHT
TZOFFSETFROM:+0100
TZOFFSETTO:+0200
TZNAME:CEST
DTSTART:20260329T010000
END:DAYLIGHT
BEGIN:STANDARD
TZOFFSETFROM:+0200
TZOFFSETTO:+0100
TZNAME:CET
DTSTART:20261025T010000
END:STANDARD
BEGIN:DAYLIGHT
TZOFFSETFROM:+0100
TZOFFSETTO:+0200
TZNAME:CEST
DTSTART:20270328T010000
END:DAYLIGHT
BEGIN:STANDARD
TZOFFSETFROM:+0200
TZOFFSETTO:+0100
TZNAME:CET
DTSTART:20271031T010000
END:STANDARD
END:VTIMEZONE
BEGIN:VEVENT
DTSTART;TZID=Europe/Vienna:20260425T060000
DTEND;TZID=Europe/Vienna:20260425T120000
DTSTAMP:20260421T164915
CREATED:20260114T143951Z
LAST-MODIFIED:20260121T110934Z
UID:10000294-1777096800-1777118400@www.rundschau-medien.at
SUMMARY:Brucker Wochenmarkt
DESCRIPTION:Vielfältige Produkte der regionalen BäuerInnen und ProduzentInnen.
URL:https://www.rundschau-medien.at/dil/brucker-wochenmarkt/2026-04-25/
LOCATION:Hauptplatz Bruck an der Mur
CATEGORIES:Kulinarik,Markt
END:VEVENT
BEGIN:VEVENT
DTSTART;TZID=Europe/Vienna:20260425T080000
DTEND;TZID=Europe/Vienna:20260425T150000
DTSTAMP:20260421T164915
CREATED:20260415T095344Z
LAST-MODIFIED:20260415T095344Z
UID:10001961-1777104000-1777129200@www.rundschau-medien.at
SUMMARY:Benefizflohmarkt
DESCRIPTION:
URL:https://www.rundschau-medien.at/dil/benefizflohmarkt-3/2026-04-25/
LOCATION:Hauptplatz Leoben
CATEGORIES:Markt
END:VEVENT
BEGIN:VEVENT
DTSTART;TZID=Europe/Vienna:20260425T085000
DTEND;TZID=Europe/Vienna:20260425T085000
DTSTAMP:20260421T164915
CREATED:20260313T100641Z
LAST-MODIFIED:20260313T100641Z
UID:10001570-1777107000-1777107000@www.rundschau-medien.at
SUMMARY:Wanderung "Sieben Quellen und Knappensteig"
DESCRIPTION:Info und Anmeldung unter 0664/3977514
URL:https://www.rundschau-medien.at/dil/wanderung-sieben-quellen-und-knappensteig/2026-04-25/
LOCATION:Bushaltestelle Krampen
CATEGORIES:Hobby/Freizeit
END:VEVENT
BEGIN:VEVENT
DTSTART;TZID=Europe/Vienna:20260425T090000
DTEND;TZID=Europe/Vienna:20260425T090000
DTSTAMP:20260421T164915
CREATED:20260410T112343Z
LAST-MODIFIED:20260410T112343Z
UID:10001909-1777107600-1777107600@www.rundschau-medien.at
SUMMARY:Mürztalrinderschau
DESCRIPTION:mit Jungzüchtercup
URL:https://www.rundschau-medien.at/dil/muerztalrinderschau/2026-04-25/
LOCATION:ABZ Hafendorf\, Kapfenberg
CATEGORIES:Gesellschaft
END:VEVENT
BEGIN:VEVENT
DTSTART;TZID=Europe/Vienna:20260425T090000
DTEND;TZID=Europe/Vienna:20260425T090000
DTSTAMP:20260421T164915
CREATED:20260413T093707Z
LAST-MODIFIED:20260413T093707Z
UID:10001938-1777107600-1777107600@www.rundschau-medien.at
SUMMARY:11. Sauerbrunnbiker Motorrad-Moped-Fahrrad-Flohmarkt
DESCRIPTION:Info unter 0676/9143092 oder 0676/3859770
URL:https://www.rundschau-medien.at/dil/11-sauerbrunnbiker-motorrad-moped-fahrrad-flohmarkt/
LOCATION:ehem. Tischlerei Hierzer\, Kindberg-Allerheiligen
CATEGORIES:Markt
END:VEVENT
BEGIN:VEVENT
DTSTART;TZID=Europe/Vienna:20260425T100000
DTEND;TZID=Europe/Vienna:20260425T100000
DTSTAMP:20260421T164915
CREATED:20260327T122431Z
LAST-MODIFIED:20260327T122431Z
UID:10001693-1777111200-1777111200@www.rundschau-medien.at
SUMMARY:Eröffnungsfest
DESCRIPTION:mit Tag der offenen Tür
URL:https://www.rundschau-medien.at/dil/eroeffnungsfest/
LOCATION:ESV Tennis\, Murinsel\, Bruck an der Mur
CATEGORIES:Gesellschaft
END:VEVENT
BEGIN:VEVENT
DTSTART;TZID=Europe/Vienna:20260425T100000
DTEND;TZID=Europe/Vienna:20260425T100000
DTSTAMP:20260421T164915
CREATED:20260407T074411Z
LAST-MODIFIED:20260407T074411Z
UID:10001742-1777111200-1777111200@www.rundschau-medien.at
SUMMARY:Pflanzenmarkt
DESCRIPTION:
URL:https://www.rundschau-medien.at/dil/pflanzenmarkt/
LOCATION:Arkadenhof Veitsch\, St. Barbara
CATEGORIES:Markt
END:VEVENT
BEGIN:VEVENT
DTSTART;TZID=Europe/Vienna:20260425T100000
DTEND;TZID=Europe/Vienna:20260425T180000
DTSTAMP:20260421T164915
CREATED:20260409T083637Z
LAST-MODIFIED:20260409T083637Z
UID:10001897-1777111200-1777140000@www.rundschau-medien.at
SUMMARY:Hausflohmarkt
DESCRIPTION:
URL:https://www.rundschau-medien.at/dil/hausflohmarkt/
LOCATION:Familie Heiml\, Mahrfeldweg 6\, Mariazell
CATEGORIES:Markt
END:VEVENT
BEGIN:VEVENT
DTSTART;TZID=Europe/Vienna:20260425T110000
DTEND;TZID=Europe/Vienna:20260425T110000
DTSTAMP:20260421T164915
CREATED:20260408T125748Z
LAST-MODIFIED:20260408T125748Z
UID:10001860-1777114800-1777114800@www.rundschau-medien.at
SUMMARY:"Italienischer Frühling"
DESCRIPTION:
URL:https://www.rundschau-medien.at/dil/italienischer-fruehling/
LOCATION:Fußgängerzone Kindberg
CATEGORIES:Gesellschaft
END:VEVENT
BEGIN:VEVENT
DTSTART;TZID=Europe/Vienna:20260425T133000
DTEND;TZID=Europe/Vienna:20260425T133000
DTSTAMP:20260421T164915
CREATED:20260126T122857Z
LAST-MODIFIED:20260126T122857Z
UID:10000624-1777123800-1777123800@www.rundschau-medien.at
SUMMARY:Spangerlschießen
DESCRIPTION:
URL:https://www.rundschau-medien.at/dil/spangerlschiessen/
LOCATION:Kinderfreundeheim Kammern
CATEGORIES:Hobby/Freizeit
END:VEVENT
BEGIN:VEVENT
DTSTART;TZID=Europe/Vienna:20260425T140000
DTEND;TZID=Europe/Vienna:20260425T140000
DTSTAMP:20260421T164915
CREATED:20251226T114457Z
LAST-MODIFIED:20260121T110921Z
UID:10000171-1777125600-1777125600@www.rundschau-medien.at
SUMMARY:Jugendstunden
DESCRIPTION:Heimstunden der Pfadfinder Langenwang.
URL:https://www.rundschau-medien.at/dil/jugendstunden-3/2026-04-25/
LOCATION:Pfadfinderheim Langenwang
CATEGORIES:Hobby/Freizeit,Kinder/Jugend
END:VEVENT
BEGIN:VEVENT
DTSTART;TZID=Europe/Vienna:20260425T150000
DTEND;TZID=Europe/Vienna:20260425T150000
DTSTAMP:20260421T164915
CREATED:20260324T132511Z
LAST-MODIFIED:20260324T132511Z
UID:10001635-1777129200-1777129200@www.rundschau-medien.at
SUMMARY:"Der gestiefelte Kater"
DESCRIPTION:Kindertheater
URL:https://www.rundschau-medien.at/dil/der-gestiefelte-kater/2026-04-25/
LOCATION:Stadttheater Leoben
CATEGORIES:Kinder/Jugend,Theater
END:VEVENT
BEGIN:VEVENT
DTSTART;TZID=Europe/Vienna:20260425T150000
DTEND;TZID=Europe/Vienna:20260425T150000
DTSTAMP:20260421T164915
CREATED:20260324T140458Z
LAST-MODIFIED:20260324T140458Z
UID:10001668-1777129200-1777129200@www.rundschau-medien.at
SUMMARY:Strudelparty
DESCRIPTION:
URL:https://www.rundschau-medien.at/dil/strudelparty/
LOCATION:Pfadfinderheim Trofaiach
CATEGORIES:Gesellschaft
END:VEVENT
BEGIN:VEVENT
DTSTART;TZID=Europe/Vienna:20260425T163000
DTEND;TZID=Europe/Vienna:20260425T163000
DTSTAMP:20260421T164915
CREATED:20260408T125535Z
LAST-MODIFIED:20260408T125535Z
UID:10001858-1777134600-1777134600@www.rundschau-medien.at
SUMMARY:"Flautissimo"
DESCRIPTION:Abschlusskonzert des 4. steirischen Blockflötentages
URL:https://www.rundschau-medien.at/dil/flautissimo/
LOCATION:Volkshaus Frohnleiten
CATEGORIES:Konzert
END:VEVENT
BEGIN:VEVENT
DTSTART;TZID=Europe/Vienna:20260425T170000
DTEND;TZID=Europe/Vienna:20260425T170000
DTSTAMP:20260421T164915
CREATED:20260126T122651Z
LAST-MODIFIED:20260126T122651Z
UID:10000622-1777136400-1777136400@www.rundschau-medien.at
SUMMARY:Spieleabend
DESCRIPTION:Mit den Spielefreunden Österreich
URL:https://www.rundschau-medien.at/dil/spieleabend-7/
LOCATION:Ludothek Stadtbücherei Bruck an der Mur
CATEGORIES:Hobby/Freizeit
END:VEVENT
BEGIN:VEVENT
DTSTART;TZID=Europe/Vienna:20260425T180000
DTEND;TZID=Europe/Vienna:20260425T180000
DTSTAMP:20260421T164915
CREATED:20260126T122803Z
LAST-MODIFIED:20260126T122803Z
UID:10000623-1777140000-1777140000@www.rundschau-medien.at
SUMMARY:Frühjahrskonzert der Bergkapelle Eisenerz
DESCRIPTION:
URL:https://www.rundschau-medien.at/dil/fruehjahrskonzert-der-bergkapelle-eisenerz/
LOCATION:Innerberger Gewerkschaftshaus Eisenerz
CATEGORIES:Konzert
END:VEVENT
BEGIN:VEVENT
DTSTART;TZID=Europe/Vienna:20260425T180000
DTEND;TZID=Europe/Vienna:20260425T180000
DTSTAMP:20260421T164915
CREATED:20260409T085016Z
LAST-MODIFIED:20260409T085016Z
UID:10001899-1777140000-1777140000@www.rundschau-medien.at
SUMMARY:Dämmerschoppen
DESCRIPTION:mit dem Musikverein Pernegg
URL:https://www.rundschau-medien.at/dil/daemmerschoppen-3/
LOCATION:Naturwelten Mixnitz\, Pernegg
CATEGORIES:Konzert
END:VEVENT
BEGIN:VEVENT
DTSTART;TZID=Europe/Vienna:20260425T190000
DTEND;TZID=Europe/Vienna:20260425T190000
DTSTAMP:20260421T164915
CREATED:20260409T124323Z
LAST-MODIFIED:20260409T124323Z
UID:10001905-1777143600-1777143600@www.rundschau-medien.at
SUMMARY:"Hoamatklang"
DESCRIPTION:Konzert der Hochlantscher Frauensingrunde mit Gästen
URL:https://www.rundschau-medien.at/dil/hoamatklang/
LOCATION:Barbarasaal St. Erhart\, Breitenau
CATEGORIES:Konzert
END:VEVENT
BEGIN:VEVENT
DTSTART;TZID=Europe/Vienna:20260425T190000
DTEND;TZID=Europe/Vienna:20260425T190000
DTSTAMP:20260421T164915
CREATED:20260409T133356Z
LAST-MODIFIED:20260409T133356Z
UID:10001906-1777143600-1777143600@www.rundschau-medien.at
SUMMARY:Frühlingskonzert
DESCRIPTION:mit der Stadtkapelle Kapfenberg
URL:https://www.rundschau-medien.at/dil/fruehlingskonzert-6/
LOCATION:Spielraum Kapfenberg
CATEGORIES:Konzert
END:VEVENT
BEGIN:VEVENT
DTSTART;TZID=Europe/Vienna:20260425T190000
DTEND;TZID=Europe/Vienna:20260425T190000
DTSTAMP:20260421T164915
CREATED:20260414T135624Z
LAST-MODIFIED:20260414T135624Z
UID:10001952-1777143600-1777143600@www.rundschau-medien.at
SUMMARY:Frühlingskonzert
DESCRIPTION:mit dem Musikverein Heimatklang St. Marein
URL:https://www.rundschau-medien.at/dil/fruehlingskonzert-7/
LOCATION:Kultur- und Sporthalle St. Marein
CATEGORIES:Konzert
END:VEVENT
BEGIN:VEVENT
DTSTART;TZID=Europe/Vienna:20260425T193000
DTEND;TZID=Europe/Vienna:20260425T193000
DTSTAMP:20260421T164915
CREATED:20260330T080323Z
LAST-MODIFIED:20260330T080323Z
UID:10001708-1777145400-1777145400@www.rundschau-medien.at
SUMMARY:Krügerltanz
DESCRIPTION:
URL:https://www.rundschau-medien.at/dil/kruegerltanz/
LOCATION:VAZ Krieglach
CATEGORIES:Gesellschaft
END:VEVENT
BEGIN:VEVENT
DTSTART;TZID=Europe/Vienna:20260425T193000
DTEND;TZID=Europe/Vienna:20260425T193000
DTSTAMP:20260421T164915
CREATED:20260408T125653Z
LAST-MODIFIED:20260408T125653Z
UID:10001859-1777145400-1777145400@www.rundschau-medien.at
SUMMARY:"G’sungen und g’spielt"
DESCRIPTION:Konzert der Sängerrunde Laufnitzdorf
URL:https://www.rundschau-medien.at/dil/gsungen-und-gspielt/
LOCATION:Konzertsaal der Musikschule Frohnleiten
CATEGORIES:Konzert
END:VEVENT
BEGIN:VEVENT
DTSTART;TZID=Europe/Vienna:20260425T193000
DTEND;TZID=Europe/Vienna:20260425T193000
DTSTAMP:20260421T164915
CREATED:20260408T125900Z
LAST-MODIFIED:20260410T114838Z
UID:10001861-1777145400-1777145400@www.rundschau-medien.at
SUMMARY:Von der Oper bis zu Jazz und Pop
DESCRIPTION:Das Blasorchester der Voestalpine Donawitz lädt am Samstag\, dem 25. April\, zu einem Galakonzert in die Kammersäle Donawitz in Leoben. Unter der Leitung von Johannes Thaler präsentieren die MusikerInnen ein Programm\, das von der Oper über symphonische Blasmusik bis zu Jazz und Pop reicht. Konzertbeginn ist um 19.30 Uhr. \nFoto: KK
URL:https://www.rundschau-medien.at/dil/konzert-44/
LOCATION:Kammersäle Donawitz\, Leoben
CATEGORIES:Konzert
ATTACH;FMTTYPE=image/webp:https://www.rundschau-medien.at/wp-content/uploads/2026/04/Leoben-Konzert-Blasorchester-VA.webp
END:VEVENT
BEGIN:VEVENT
DTSTART;TZID=Europe/Vienna:20260425T193000
DTEND;TZID=Europe/Vienna:20260425T193000
DTSTAMP:20260421T164915
CREATED:20260408T130005Z
LAST-MODIFIED:20260408T130005Z
UID:10001862-1777145400-1777145400@www.rundschau-medien.at
SUMMARY:"Die italienische Nacht"
DESCRIPTION:Konzert mit „La Banda Italiana“
URL:https://www.rundschau-medien.at/dil/die-italienische-nacht/
LOCATION:Live Congress Leoben
CATEGORIES:Konzert
END:VEVENT
BEGIN:VEVENT
DTSTART;TZID=Europe/Vienna:20260425T193000
DTEND;TZID=Europe/Vienna:20260425T193000
DTSTAMP:20260421T164915
CREATED:20260409T084910Z
LAST-MODIFIED:20260409T084910Z
UID:10001898-1777145400-1777145400@www.rundschau-medien.at
SUMMARY:"Frei sein zu gehen"
DESCRIPTION:Lichtbildervortrag von Gregor Sieböck
URL:https://www.rundschau-medien.at/dil/frei-sein-zu-gehen/
LOCATION:Hotel Drei Hasen\, Mariazell
CATEGORIES:Vortrag
END:VEVENT
BEGIN:VEVENT
DTSTART;TZID=Europe/Vienna:20260425T200000
DTEND;TZID=Europe/Vienna:20260425T200000
DTSTAMP:20260421T164915
CREATED:20260327T122544Z
LAST-MODIFIED:20260327T122544Z
UID:10001694-1777147200-1777147200@www.rundschau-medien.at
SUMMARY:Honky Tonk Festival
DESCRIPTION:
URL:https://www.rundschau-medien.at/dil/honky-tonk-festival/
LOCATION:Innenstadtlokale und Schlossberg\, Bruck an der Mur
CATEGORIES:Konzert
END:VEVENT
BEGIN:VEVENT
DTSTART;TZID=Europe/Vienna:20260425T200000
DTEND;TZID=Europe/Vienna:20260425T200000
DTSTAMP:20260421T164915
CREATED:20260401T111751Z
LAST-MODIFIED:20260401T111751Z
UID:10001736-1777147200-1777147200@www.rundschau-medien.at
SUMMARY:Saisonfinale
DESCRIPTION:
URL:https://www.rundschau-medien.at/dil/saisonfinale/
LOCATION:Bartelbauerhütte Mariazell
CATEGORIES:Gesellschaft
END:VEVENT
BEGIN:VEVENT
DTSTART;TZID=Europe/Vienna:20260425T200000
DTEND;TZID=Europe/Vienna:20260425T200000
DTSTAMP:20260421T164915
CREATED:20260415T075757Z
LAST-MODIFIED:20260415T075757Z
UID:10001953-1777147200-1777147200@www.rundschau-medien.at
SUMMARY:Schlagerparty
DESCRIPTION:mit Jenny van Bree
URL:https://www.rundschau-medien.at/dil/schlagerparty/
LOCATION:Zinkis Jausenbrettl\, Kindberg-Mürzhofen
CATEGORIES:Konzert
END:VEVENT
BEGIN:VEVENT
DTSTART;TZID=Europe/Vienna:20260426T050000
DTEND;TZID=Europe/Vienna:20260426T120000
DTSTAMP:20260421T164915
CREATED:20260324T140603Z
LAST-MODIFIED:20260324T140603Z
UID:10001669-1777179600-1777204800@www.rundschau-medien.at
SUMMARY:Flohmarkt
DESCRIPTION:
URL:https://www.rundschau-medien.at/dil/flohmarkt-24/
LOCATION:Tiefgarage ECE Kapfenberg
CATEGORIES:Markt
END:VEVENT
BEGIN:VEVENT
DTSTART;TZID=Europe/Vienna:20260426T090000
DTEND;TZID=Europe/Vienna:20260426T090000
DTSTAMP:20260421T164915
CREATED:20260410T112343Z
LAST-MODIFIED:20260410T112343Z
UID:10001910-1777194000-1777194000@www.rundschau-medien.at
SUMMARY:Mürztalrinderschau
DESCRIPTION:mit Jungzüchtercup
URL:https://www.rundschau-medien.at/dil/muerztalrinderschau/2026-04-26/
LOCATION:ABZ Hafendorf\, Kapfenberg
CATEGORIES:Gesellschaft
END:VEVENT
END:VCALENDAR