BEGIN:VCALENDAR
VERSION:2.0
PRODID:-//Obersteirische Rundschau - ECPv6.15.20//NONSGML v1.0//EN
CALSCALE:GREGORIAN
METHOD:PUBLISH
X-ORIGINAL-URL:https://www.rundschau-medien.at
X-WR-CALDESC:Veranstaltungen für Obersteirische Rundschau
REFRESH-INTERVAL;VALUE=DURATION:PT1H
X-Robots-Tag:noindex
X-PUBLISHED-TTL:PT1H
BEGIN:VTIMEZONE
TZID:Europe/Vienna
BEGIN:DAYLIGHT
TZOFFSETFROM:+0100
TZOFFSETTO:+0200
TZNAME:CEST
DTSTART:20250330T010000
END:DAYLIGHT
BEGIN:STANDARD
TZOFFSETFROM:+0200
TZOFFSETTO:+0100
TZNAME:CET
DTSTART:20251026T010000
END:STANDARD
BEGIN:DAYLIGHT
TZOFFSETFROM:+0100
TZOFFSETTO:+0200
TZNAME:CEST
DTSTART:20260329T010000
END:DAYLIGHT
BEGIN:STANDARD
TZOFFSETFROM:+0200
TZOFFSETTO:+0100
TZNAME:CET
DTSTART:20261025T010000
END:STANDARD
BEGIN:DAYLIGHT
TZOFFSETFROM:+0100
TZOFFSETTO:+0200
TZNAME:CEST
DTSTART:20270328T010000
END:DAYLIGHT
BEGIN:STANDARD
TZOFFSETFROM:+0200
TZOFFSETTO:+0100
TZNAME:CET
DTSTART:20271031T010000
END:STANDARD
END:VTIMEZONE
BEGIN:VEVENT
DTSTART;TZID=Europe/Vienna:20260415T060000
DTEND;TZID=Europe/Vienna:20260415T120000
DTSTAMP:20260420T013303
CREATED:20260114T143951Z
LAST-MODIFIED:20260121T110934Z
UID:10000291-1776232800-1776254400@www.rundschau-medien.at
SUMMARY:Brucker Wochenmarkt
DESCRIPTION:Vielfältige Produkte der regionalen BäuerInnen und ProduzentInnen.
URL:https://www.rundschau-medien.at/dil/brucker-wochenmarkt/2026-04-15/
LOCATION:Hauptplatz Bruck an der Mur
CATEGORIES:Kulinarik,Markt
END:VEVENT
BEGIN:VEVENT
DTSTART;TZID=Europe/Vienna:20260415T083000
DTEND;TZID=Europe/Vienna:20260415T093000
DTSTAMP:20260420T013303
CREATED:20260120T121529Z
LAST-MODIFIED:20260121T110853Z
UID:10000423-1776241800-1776245400@www.rundschau-medien.at
SUMMARY:Aktiv und bewegt älter
DESCRIPTION:Info und Anmeldung unter 0699/14100114
URL:https://www.rundschau-medien.at/dil/aktiv-und-bewegt-aelter/2026-04-15/
LOCATION:Turnsaal Tragöß
CATEGORIES:Gesundheit,Hobby/Freizeit
END:VEVENT
BEGIN:VEVENT
DTSTART;TZID=Europe/Vienna:20260415T090000
DTEND;TZID=Europe/Vienna:20260415T090000
DTSTAMP:20260420T013303
CREATED:20260324T131502Z
LAST-MODIFIED:20260324T131502Z
UID:10001625-1776243600-1776243600@www.rundschau-medien.at
SUMMARY:Aktiv-Kneipp-Gesund-Wandern
DESCRIPTION:
URL:https://www.rundschau-medien.at/dil/aktiv-kneipp-gesund-wandern-2/
LOCATION:Bräuer Teiche\, Mürzzuschlag
CATEGORIES:Hobby/Freizeit
END:VEVENT
BEGIN:VEVENT
DTSTART;TZID=Europe/Vienna:20260415T090000
DTEND;TZID=Europe/Vienna:20260415T100000
DTSTAMP:20260420T013303
CREATED:20260126T121250Z
LAST-MODIFIED:20260126T121250Z
UID:10000613-1776243600-1776247200@www.rundschau-medien.at
SUMMARY:Zwergerltreff
DESCRIPTION:
URL:https://www.rundschau-medien.at/dil/zwergerltreff-3/
LOCATION:Pfarrbibliothek Krieglach
CATEGORIES:Kinder/Jugend
END:VEVENT
BEGIN:VEVENT
DTSTART;TZID=Europe/Vienna:20260415T090000
DTEND;TZID=Europe/Vienna:20260415T120000
DTSTAMP:20260420T013303
CREATED:20260331T120456Z
LAST-MODIFIED:20260331T120456Z
UID:10001716-1776243600-1776254400@www.rundschau-medien.at
SUMMARY:Nachbarschaftsfrühstück
DESCRIPTION:bei Schlechtwetter im Foyer des Gewerkschaftshauses Eisenerz
URL:https://www.rundschau-medien.at/dil/nachbarschaftsfruehstueck/
LOCATION:Theodor-Körner-Platz Eisenerz
CATEGORIES:Gesellschaft
END:VEVENT
BEGIN:VEVENT
DTSTART;TZID=Europe/Vienna:20260415T103000
DTEND;TZID=Europe/Vienna:20260415T113000
DTSTAMP:20260420T013303
CREATED:20260120T121717Z
LAST-MODIFIED:20260121T110852Z
UID:10000436-1776249000-1776252600@www.rundschau-medien.at
SUMMARY:Aktiv und bewegt älter
DESCRIPTION:Info und Anmeldung unter 0699/14100114
URL:https://www.rundschau-medien.at/dil/aktiv-und-bewegt-aelter-2/2026-04-15/
LOCATION:VAZ St. Katharein/Laming
CATEGORIES:Gesundheit,Hobby/Freizeit
END:VEVENT
BEGIN:VEVENT
DTSTART;TZID=Europe/Vienna:20260415T130000
DTEND;TZID=Europe/Vienna:20260415T180000
DTSTAMP:20260420T013303
CREATED:20260114T142330Z
LAST-MODIFIED:20260121T110934Z
UID:10000214-1776258000-1776276000@www.rundschau-medien.at
SUMMARY:Flohmarkt
DESCRIPTION:Die Behindertenhilfe Krieglach betreibt den größten ständigen Flohmarkt im Mürztal. Mit dem Erlös werden behinderte\, kranke und arme Menschen unterstützt.
URL:https://www.rundschau-medien.at/dil/flohmarkt/2026-04-15/
LOCATION:Behindertenhilfe Krieglach\, Grazer Straße 79\, Krieglach\, 8670
CATEGORIES:Hobby/Freizeit,Markt
END:VEVENT
BEGIN:VEVENT
DTSTART;TZID=Europe/Vienna:20260415T140000
DTEND;TZID=Europe/Vienna:20260415T140000
DTSTAMP:20260420T013303
CREATED:20260126T121158Z
LAST-MODIFIED:20260126T121158Z
UID:10000612-1776261600-1776261600@www.rundschau-medien.at
SUMMARY:Pensionistennachmittag
DESCRIPTION:Mit dem Pensionistenverband
URL:https://www.rundschau-medien.at/dil/pensionistennachmittag-6/
LOCATION:Kinderfreundeheim Kammern
CATEGORIES:Gesellschaft
END:VEVENT
BEGIN:VEVENT
DTSTART;TZID=Europe/Vienna:20260415T140000
DTEND;TZID=Europe/Vienna:20260415T140000
DTSTAMP:20260420T013303
CREATED:20260324T130052Z
LAST-MODIFIED:20260324T130052Z
UID:10001621-1776261600-1776261600@www.rundschau-medien.at
SUMMARY:Kasperltheater
DESCRIPTION:
URL:https://www.rundschau-medien.at/dil/kasperltheater-5/2026-04-15/1/
LOCATION:ECE Kapfenberg
CATEGORIES:Kinder/Jugend
END:VEVENT
BEGIN:VEVENT
DTSTART;TZID=Europe/Vienna:20260415T143000
DTEND;TZID=Europe/Vienna:20260415T143000
DTSTAMP:20260420T013303
CREATED:20260324T130206Z
LAST-MODIFIED:20260324T130206Z
UID:10001623-1776263400-1776263400@www.rundschau-medien.at
SUMMARY:"Baue dein Tier aus Magneten"
DESCRIPTION:Kinderworkshop
URL:https://www.rundschau-medien.at/dil/baue-dein-tier-aus-magneten/2026-04-15/1/
LOCATION:ECE Kapfenberg
CATEGORIES:Kinder/Jugend
END:VEVENT
BEGIN:VEVENT
DTSTART;TZID=Europe/Vienna:20260415T150000
DTEND;TZID=Europe/Vienna:20260415T150000
DTSTAMP:20260420T013303
CREATED:20260114T141405Z
LAST-MODIFIED:20260121T110933Z
UID:10000149-1776265200-1776265200@www.rundschau-medien.at
SUMMARY:Handarbeitsrunde
DESCRIPTION:Gemütliche Winternachmittage mit Stricken\, Sticken und Häkeln\, veranstaltet von den steirischen VP-Frauen.
URL:https://www.rundschau-medien.at/dil/handarbeitsrunde-3/2026-04-15/
LOCATION:Pfadfinderheim Langenwang
CATEGORIES:Hobby/Freizeit
END:VEVENT
BEGIN:VEVENT
DTSTART;TZID=Europe/Vienna:20260415T160000
DTEND;TZID=Europe/Vienna:20260415T160000
DTSTAMP:20260420T013303
CREATED:20260324T130052Z
LAST-MODIFIED:20260324T130052Z
UID:10001622-1776268800-1776268800@www.rundschau-medien.at
SUMMARY:Kasperltheater
DESCRIPTION:
URL:https://www.rundschau-medien.at/dil/kasperltheater-5/2026-04-15/2/
LOCATION:ECE Kapfenberg
CATEGORIES:Kinder/Jugend
END:VEVENT
BEGIN:VEVENT
DTSTART;TZID=Europe/Vienna:20260415T160000
DTEND;TZID=Europe/Vienna:20260415T190000
DTSTAMP:20260420T013303
CREATED:20260325T162207Z
LAST-MODIFIED:20260325T162544Z
UID:10001676-1776268800-1776279600@www.rundschau-medien.at
SUMMARY:Blutspenden
DESCRIPTION:
URL:https://www.rundschau-medien.at/dil/blutspenden-28/
LOCATION:Rüsthaus Feuerwehr Thörl
CATEGORIES:Gesundheit
END:VEVENT
BEGIN:VEVENT
DTSTART;TZID=Europe/Vienna:20260415T163000
DTEND;TZID=Europe/Vienna:20260415T163000
DTSTAMP:20260420T013303
CREATED:20260324T130206Z
LAST-MODIFIED:20260324T130206Z
UID:10001624-1776270600-1776270600@www.rundschau-medien.at
SUMMARY:"Baue dein Tier aus Magneten"
DESCRIPTION:Kinderworkshop
URL:https://www.rundschau-medien.at/dil/baue-dein-tier-aus-magneten/2026-04-15/2/
LOCATION:ECE Kapfenberg
CATEGORIES:Kinder/Jugend
END:VEVENT
BEGIN:VEVENT
DTSTART;TZID=Europe/Vienna:20260415T170000
DTEND;TZID=Europe/Vienna:20260415T200000
DTSTAMP:20260420T013303
CREATED:20260327T093639Z
LAST-MODIFIED:20260327T093639Z
UID:10001687-1776272400-1776283200@www.rundschau-medien.at
SUMMARY:"Tanzen macht Spaß"
DESCRIPTION:
URL:https://www.rundschau-medien.at/dil/tanzen-macht-spass-4/
LOCATION:Gasthaus Reitbauer\, Kapfenberg
CATEGORIES:Hobby/Freizeit
END:VEVENT
BEGIN:VEVENT
DTSTART;TZID=Europe/Vienna:20260415T180000
DTEND;TZID=Europe/Vienna:20260415T180000
DTSTAMP:20260420T013303
CREATED:20260126T121055Z
LAST-MODIFIED:20260126T121055Z
UID:10000611-1776276000-1776276000@www.rundschau-medien.at
SUMMARY:Konzert
DESCRIPTION:Mit den LehrerInnen der Musikschule Eisenerz
URL:https://www.rundschau-medien.at/dil/konzert-4/
LOCATION:Musikschule Eisenerz
CATEGORIES:Konzert
END:VEVENT
BEGIN:VEVENT
DTSTART;TZID=Europe/Vienna:20260415T180000
DTEND;TZID=Europe/Vienna:20260415T180000
DTSTAMP:20260420T013303
CREATED:20260324T131623Z
LAST-MODIFIED:20260324T131623Z
UID:10001626-1776276000-1776276000@www.rundschau-medien.at
SUMMARY:Redewettbewerb
DESCRIPTION:mit SchülerInnen des Herta-Reich-Gymnasiums
URL:https://www.rundschau-medien.at/dil/redewettbewerb/
LOCATION:Kunsthaus Mürzzuschlag
CATEGORIES:Vortrag
END:VEVENT
BEGIN:VEVENT
DTSTART;TZID=Europe/Vienna:20260415T183000
DTEND;TZID=Europe/Vienna:20260415T183000
DTSTAMP:20260420T013303
CREATED:20260402T141548Z
LAST-MODIFIED:20260402T141548Z
UID:10001739-1776277800-1776277800@www.rundschau-medien.at
SUMMARY:"Longevity - Langlebigkeit"
DESCRIPTION:Podiumsdiskussion des Kneipp Aktiv Clubs Leoben\, Info und Anmeldung unter Tel. 0676/7621719
URL:https://www.rundschau-medien.at/dil/longevity-langlebigkeit/
LOCATION:Jakobiheim Leoben
CATEGORIES:Vortrag
END:VEVENT
BEGIN:VEVENT
DTSTART;TZID=Europe/Vienna:20260416T093000
DTEND;TZID=Europe/Vienna:20260416T093000
DTSTAMP:20260420T013303
CREATED:20260324T132139Z
LAST-MODIFIED:20260324T132139Z
UID:10001629-1776331800-1776331800@www.rundschau-medien.at
SUMMARY:Treffpunkt Tanz
DESCRIPTION:Info und Anmeldung unter 0699/12277030 oder 0664/7838716
URL:https://www.rundschau-medien.at/dil/treffpunkt-tanz-8/2026-04-16/
LOCATION:Stadtsaal Mürzzuschlag
CATEGORIES:Hobby/Freizeit
END:VEVENT
BEGIN:VEVENT
DTSTART;TZID=Europe/Vienna:20260416T100000
DTEND;TZID=Europe/Vienna:20260416T150000
DTSTAMP:20260420T013303
CREATED:20260330T075712Z
LAST-MODIFIED:20260330T075712Z
UID:10001702-1776333600-1776351600@www.rundschau-medien.at
SUMMARY:Tag der offenen Tür
DESCRIPTION:
URL:https://www.rundschau-medien.at/dil/tag-der-offenen-tuer-3/
LOCATION:Mediendesign Kolleg HLW Krieglach
CATEGORIES:Service/Info
END:VEVENT
BEGIN:VEVENT
DTSTART;TZID=Europe/Vienna:20260416T150000
DTEND;TZID=Europe/Vienna:20260416T150000
DTSTAMP:20260420T013303
CREATED:20260324T131744Z
LAST-MODIFIED:20260324T131744Z
UID:10001627-1776351600-1776351600@www.rundschau-medien.at
SUMMARY:Literaturwerkstatt
DESCRIPTION:für 8- bis 14-Jährige\, Info und Anmeldung unter 0664/4949018
URL:https://www.rundschau-medien.at/dil/literaturwerkstatt-2/
LOCATION:Kulturquartier Leoben
CATEGORIES:Kinder/Jugend
END:VEVENT
BEGIN:VEVENT
DTSTART;TZID=Europe/Vienna:20260416T150000
DTEND;TZID=Europe/Vienna:20260416T163000
DTSTAMP:20260420T013303
CREATED:20260120T120427Z
LAST-MODIFIED:20260121T110852Z
UID:10000411-1776351600-1776357000@www.rundschau-medien.at
SUMMARY:Seniorentanz
DESCRIPTION:„Tanz einfach mit“\, Info und Anmeldung unter 0699/14100114
URL:https://www.rundschau-medien.at/dil/seniorentanz-2/2026-04-16/
LOCATION:Pfarrsaal Bruck
CATEGORIES:Hobby/Freizeit
END:VEVENT
BEGIN:VEVENT
DTSTART;TZID=Europe/Vienna:20260416T180000
DTEND;TZID=Europe/Vienna:20260416T180000
DTSTAMP:20260420T013303
CREATED:20260114T143354Z
LAST-MODIFIED:20260121T110931Z
UID:10000258-1776362400-1776362400@www.rundschau-medien.at
SUMMARY:Nordic-Walking-Runde
DESCRIPTION:Info und Anmeldung unter 0681/10300608.
URL:https://www.rundschau-medien.at/dil/nordic-walking-runde/2026-04-16/
LOCATION:Funcourt Spital am Semmering
CATEGORIES:Gesundheit,Hobby/Freizeit
END:VEVENT
BEGIN:VEVENT
DTSTART;TZID=Europe/Vienna:20260416T190000
DTEND;TZID=Europe/Vienna:20260416T190000
DTSTAMP:20260420T013303
CREATED:20260326T134732Z
LAST-MODIFIED:20260326T134732Z
UID:10001682-1776366000-1776366000@www.rundschau-medien.at
SUMMARY:Konzert
DESCRIPTION:mit den erwachsenen SchülerInnen der Musikschule Mariazellerland
URL:https://www.rundschau-medien.at/dil/konzert-38/
LOCATION:Musikschule Mariazell
CATEGORIES:Konzert
END:VEVENT
BEGIN:VEVENT
DTSTART;TZID=Europe/Vienna:20260416T193000
DTEND;TZID=Europe/Vienna:20260416T193000
DTSTAMP:20260420T013303
CREATED:20260324T131854Z
LAST-MODIFIED:20260324T131854Z
UID:10001628-1776367800-1776367800@www.rundschau-medien.at
SUMMARY:Konzert
DESCRIPTION:mit den „Old School Basterds“
URL:https://www.rundschau-medien.at/dil/konzert-35/
LOCATION:Montanuniversität Leoben
CATEGORIES:Konzert
END:VEVENT
BEGIN:VEVENT
DTSTART;TZID=Europe/Vienna:20260417T070000
DTEND;TZID=Europe/Vienna:20260417T120000
DTSTAMP:20260420T013303
CREATED:20260211T100957Z
LAST-MODIFIED:20260211T100957Z
UID:10000909-1776409200-1776427200@www.rundschau-medien.at
SUMMARY:Bauernmarkt
DESCRIPTION:
URL:https://www.rundschau-medien.at/dil/bauernmarkt-34/
LOCATION:Kirchplatz Leoben
CATEGORIES:Markt
END:VEVENT
BEGIN:VEVENT
DTSTART;TZID=Europe/Vienna:20260417T130000
DTEND;TZID=Europe/Vienna:20260417T180000
DTSTAMP:20260420T013303
CREATED:20260114T142330Z
LAST-MODIFIED:20260121T110934Z
UID:10000215-1776430800-1776448800@www.rundschau-medien.at
SUMMARY:Flohmarkt
DESCRIPTION:Die Behindertenhilfe Krieglach betreibt den größten ständigen Flohmarkt im Mürztal. Mit dem Erlös werden behinderte\, kranke und arme Menschen unterstützt.
URL:https://www.rundschau-medien.at/dil/flohmarkt/2026-04-17/
LOCATION:Behindertenhilfe Krieglach\, Grazer Straße 79\, Krieglach\, 8670
CATEGORIES:Hobby/Freizeit,Markt
END:VEVENT
BEGIN:VEVENT
DTSTART;TZID=Europe/Vienna:20260417T140000
DTEND;TZID=Europe/Vienna:20260417T140000
DTSTAMP:20260420T013303
CREATED:20260324T132807Z
LAST-MODIFIED:20260324T132807Z
UID:10001637-1776434400-1776434400@www.rundschau-medien.at
SUMMARY:Nordic Walking ab der Lebensmitte
DESCRIPTION:
URL:https://www.rundschau-medien.at/dil/nordic-walking-ab-der-lebensmitte-11/2026-04-17/
LOCATION:Bräuer Teiche\, Mürzzuschlag
CATEGORIES:Hobby/Freizeit
END:VEVENT
BEGIN:VEVENT
DTSTART;TZID=Europe/Vienna:20260417T140000
DTEND;TZID=Europe/Vienna:20260417T140000
DTSTAMP:20260420T013303
CREATED:20260326T134852Z
LAST-MODIFIED:20260326T134852Z
UID:10001683-1776434400-1776434400@www.rundschau-medien.at
SUMMARY:"Abenteuer Wald"
DESCRIPTION:Info und Anmeldung unter 0664/2546980
URL:https://www.rundschau-medien.at/dil/abenteuer-wald-2/
LOCATION:Lasingerhof Gußwerk\, Mariazell
CATEGORIES:Hobby/Freizeit
END:VEVENT
BEGIN:VEVENT
DTSTART;TZID=Europe/Vienna:20260417T163000
DTEND;TZID=Europe/Vienna:20260417T163000
DTSTAMP:20260420T013303
CREATED:20260324T132511Z
LAST-MODIFIED:20260324T132511Z
UID:10001632-1776443400-1776443400@www.rundschau-medien.at
SUMMARY:"Der gestiefelte Kater"
DESCRIPTION:Kindertheater
URL:https://www.rundschau-medien.at/dil/der-gestiefelte-kater/2026-04-17/
LOCATION:Stadttheater Leoben
CATEGORIES:Kinder/Jugend,Theater
END:VEVENT
END:VCALENDAR