BEGIN:VCALENDAR
VERSION:2.0
PRODID:-//Obersteirische Rundschau - ECPv6.15.20//NONSGML v1.0//EN
CALSCALE:GREGORIAN
METHOD:PUBLISH
X-ORIGINAL-URL:https://www.rundschau-medien.at
X-WR-CALDESC:Veranstaltungen für Obersteirische Rundschau
REFRESH-INTERVAL;VALUE=DURATION:PT1H
X-Robots-Tag:noindex
X-PUBLISHED-TTL:PT1H
BEGIN:VTIMEZONE
TZID:Europe/Vienna
BEGIN:DAYLIGHT
TZOFFSETFROM:+0100
TZOFFSETTO:+0200
TZNAME:CEST
DTSTART:20250330T010000
END:DAYLIGHT
BEGIN:STANDARD
TZOFFSETFROM:+0200
TZOFFSETTO:+0100
TZNAME:CET
DTSTART:20251026T010000
END:STANDARD
BEGIN:DAYLIGHT
TZOFFSETFROM:+0100
TZOFFSETTO:+0200
TZNAME:CEST
DTSTART:20260329T010000
END:DAYLIGHT
BEGIN:STANDARD
TZOFFSETFROM:+0200
TZOFFSETTO:+0100
TZNAME:CET
DTSTART:20261025T010000
END:STANDARD
BEGIN:DAYLIGHT
TZOFFSETFROM:+0100
TZOFFSETTO:+0200
TZNAME:CEST
DTSTART:20270328T010000
END:DAYLIGHT
BEGIN:STANDARD
TZOFFSETFROM:+0200
TZOFFSETTO:+0100
TZNAME:CET
DTSTART:20271031T010000
END:STANDARD
END:VTIMEZONE
BEGIN:VEVENT
DTSTART;TZID=Europe/Vienna:20260412T060000
DTEND;TZID=Europe/Vienna:20260412T130000
DTSTAMP:20260421T201957
CREATED:20260227T111823Z
LAST-MODIFIED:20260227T111823Z
UID:10001457-1775973600-1775998800@www.rundschau-medien.at
SUMMARY:Flohmarkt
DESCRIPTION:
URL:https://www.rundschau-medien.at/dil/flohmarkt-6/
LOCATION:Interspar Kapfenberg
CATEGORIES:Markt
END:VEVENT
BEGIN:VEVENT
DTSTART;TZID=Europe/Vienna:20260412T070000
DTEND;TZID=Europe/Vienna:20260412T120000
DTSTAMP:20260421T201957
CREATED:20260312T131852Z
LAST-MODIFIED:20260312T132700Z
UID:10001566-1775977200-1775995200@www.rundschau-medien.at
SUMMARY:Flohmarkt für Klein & Groß
DESCRIPTION:mit Kaffee- und Kuchenbuffet sowie Kreativecke für Kinder\, nähere Info und Tischreservierungen unter frohnleitenkg@frohnleiten.com
URL:https://www.rundschau-medien.at/dil/flohmarkt-23/
LOCATION:Volkshaus Frohnleiten
CATEGORIES:Markt
END:VEVENT
BEGIN:VEVENT
DTSTART;TZID=Europe/Vienna:20260412T150000
DTEND;TZID=Europe/Vienna:20260412T150000
DTSTAMP:20260421T201957
CREATED:20260325T093030Z
LAST-MODIFIED:20260325T093030Z
UID:10001673-1776006000-1776006000@www.rundschau-medien.at
SUMMARY:"Oma lebt wie nie zuvor"
DESCRIPTION:Theater
URL:https://www.rundschau-medien.at/dil/oma-lebt-wie-nie-zuvor/2026-04-12/
LOCATION:Volksschule Spital am Semmering
CATEGORIES:Theater
END:VEVENT
BEGIN:VEVENT
DTSTART;TZID=Europe/Vienna:20260412T153000
DTEND;TZID=Europe/Vienna:20260412T153000
DTSTAMP:20260421T201957
CREATED:20260310T140942Z
LAST-MODIFIED:20260310T140942Z
UID:10001553-1776007800-1776007800@www.rundschau-medien.at
SUMMARY:"Das (w)arme Würstl" oder "Kaviar trifft Currywurst"
DESCRIPTION:Theater der Obersteirischen Volksbühne St. Michael
URL:https://www.rundschau-medien.at/dil/das-warme-wuerstl-oder-kaviar-trifft-currywurst-2/
LOCATION:Volkshaus St. Michael
CATEGORIES:Theater
END:VEVENT
BEGIN:VEVENT
DTSTART;TZID=Europe/Vienna:20260412T160000
DTEND;TZID=Europe/Vienna:20260412T160000
DTSTAMP:20260421T201957
CREATED:20260324T125242Z
LAST-MODIFIED:20260324T125242Z
UID:10001616-1776009600-1776009600@www.rundschau-medien.at
SUMMARY:"Wiesenglück"
DESCRIPTION:Kindertheater
URL:https://www.rundschau-medien.at/dil/wiesenglueck/
LOCATION:Dachbodentheater Bruck an der Mur
CATEGORIES:Kinder/Jugend,Theater
END:VEVENT
BEGIN:VEVENT
DTSTART;TZID=Europe/Vienna:20260413T090000
DTEND;TZID=Europe/Vienna:20260413T090000
DTSTAMP:20260421T201957
CREATED:20260324T125342Z
LAST-MODIFIED:20260324T125342Z
UID:10001617-1776070800-1776070800@www.rundschau-medien.at
SUMMARY:Nordic Walking ab der Lebensmitte
DESCRIPTION:
URL:https://www.rundschau-medien.at/dil/nordic-walking-ab-der-lebensmitte-10/
LOCATION:Bräuer Teiche\, Mürzzuschlag
CATEGORIES:Hobby/Freizeit
END:VEVENT
BEGIN:VEVENT
DTSTART;TZID=Europe/Vienna:20260413T130000
DTEND;TZID=Europe/Vienna:20260413T180000
DTSTAMP:20260421T201957
CREATED:20260114T142330Z
LAST-MODIFIED:20260121T110934Z
UID:10000213-1776085200-1776103200@www.rundschau-medien.at
SUMMARY:Flohmarkt
DESCRIPTION:Die Behindertenhilfe Krieglach betreibt den größten ständigen Flohmarkt im Mürztal. Mit dem Erlös werden behinderte\, kranke und arme Menschen unterstützt.
URL:https://www.rundschau-medien.at/dil/flohmarkt/2026-04-13/
LOCATION:Behindertenhilfe Krieglach\, Grazer Straße 79\, Krieglach\, 8670
CATEGORIES:Hobby/Freizeit,Markt
END:VEVENT
BEGIN:VEVENT
DTSTART;TZID=Europe/Vienna:20260413T180000
DTEND;TZID=Europe/Vienna:20260413T180000
DTSTAMP:20260421T201957
CREATED:20260327T095138Z
LAST-MODIFIED:20260327T095138Z
UID:10001688-1776103200-1776103200@www.rundschau-medien.at
SUMMARY:Lauftreff-Infoabend
DESCRIPTION:mit dem Lauftreff Club 261
URL:https://www.rundschau-medien.at/dil/lauftreff-infoabend/
LOCATION:Cafe „Die Chillerei“ Trofaiach
CATEGORIES:Service/Info
END:VEVENT
BEGIN:VEVENT
DTSTART;TZID=Europe/Vienna:20260413T180000
DTEND;TZID=Europe/Vienna:20260413T193000
DTSTAMP:20260421T201957
CREATED:20260120T115558Z
LAST-MODIFIED:20260121T110857Z
UID:10000346-1776103200-1776108600@www.rundschau-medien.at
SUMMARY:Seniorentanz
DESCRIPTION:„Tanz einfach mit“\, Info und Anmeldung unter 0699/14100114
URL:https://www.rundschau-medien.at/dil/seniorentanz/2026-04-13/
LOCATION:Aidora-Eventcenter Oberaich\, Bruck an der Mur
CATEGORIES:Hobby/Freizeit
END:VEVENT
BEGIN:VEVENT
DTSTART;TZID=Europe/Vienna:20260413T190000
DTEND;TZID=Europe/Vienna:20260413T190000
DTSTAMP:20260421T201957
CREATED:20260302T083541Z
LAST-MODIFIED:20260302T083541Z
UID:10001488-1776106800-1776106800@www.rundschau-medien.at
SUMMARY:"Vom Zauber der Materialien"
DESCRIPTION:Vortrag von Julia Stegmann über die Werkstoffe des alten Kunsthandwerks in der Schell Collection
URL:https://www.rundschau-medien.at/dil/vom-zauber-der-materialien/
LOCATION:Collegium Josefinum Leoben
CATEGORIES:Vortrag
END:VEVENT
BEGIN:VEVENT
DTSTART;TZID=Europe/Vienna:20260414T070000
DTEND;TZID=Europe/Vienna:20260414T120000
DTSTAMP:20260421T201957
CREATED:20260211T100021Z
LAST-MODIFIED:20260211T100021Z
UID:10000908-1776150000-1776168000@www.rundschau-medien.at
SUMMARY:Bauernmarkt
DESCRIPTION:
URL:https://www.rundschau-medien.at/dil/bauernmarkt-33/
LOCATION:Kirchplatz Leoben
CATEGORIES:Markt
END:VEVENT
BEGIN:VEVENT
DTSTART;TZID=Europe/Vienna:20260414T090000
DTEND;TZID=Europe/Vienna:20260414T120000
DTSTAMP:20260421T201957
CREATED:20260402T140057Z
LAST-MODIFIED:20260402T140057Z
UID:10001738-1776157200-1776168000@www.rundschau-medien.at
SUMMARY:Nachbarschaftsfrühstück
DESCRIPTION:
URL:https://www.rundschau-medien.at/dil/nachbarschaftsfruehstueck-2/
LOCATION:Pfarrsaal Schirmitzbühel\, Kapfenberg
CATEGORIES:Gesellschaft
END:VEVENT
BEGIN:VEVENT
DTSTART;TZID=Europe/Vienna:20260414T110000
DTEND;TZID=Europe/Vienna:20260414T130000
DTSTAMP:20260421T201957
CREATED:20260325T162034Z
LAST-MODIFIED:20260325T162545Z
UID:10001674-1776164400-1776171600@www.rundschau-medien.at
SUMMARY:Blutspenden
DESCRIPTION:
URL:https://www.rundschau-medien.at/dil/blutspenden-26/
LOCATION:Volkshilfe Bruck an der Mur
CATEGORIES:Gesundheit
END:VEVENT
BEGIN:VEVENT
DTSTART;TZID=Europe/Vienna:20260414T150000
DTEND;TZID=Europe/Vienna:20260414T190000
DTSTAMP:20260421T201957
CREATED:20260325T162117Z
LAST-MODIFIED:20260325T162545Z
UID:10001675-1776178800-1776193200@www.rundschau-medien.at
SUMMARY:Blutspenden
DESCRIPTION:
URL:https://www.rundschau-medien.at/dil/blutspenden-27/
LOCATION:Mehrzwecksaal Kapfenberg
CATEGORIES:Gesundheit
END:VEVENT
BEGIN:VEVENT
DTSTART;TZID=Europe/Vienna:20260414T160000
DTEND;TZID=Europe/Vienna:20260414T160000
DTSTAMP:20260421T201957
CREATED:20260324T125854Z
LAST-MODIFIED:20260324T125854Z
UID:10001620-1776182400-1776182400@www.rundschau-medien.at
SUMMARY:"Schlendern und Schlemmen"
DESCRIPTION:Stadtführung durch die Leobener Innenhöfe\, Info und Anmeldung unter 03842/4062-408
URL:https://www.rundschau-medien.at/dil/schlendern-und-schlemmen/
LOCATION:Kulturquartier Leoben
CATEGORIES:Hobby/Freizeit
END:VEVENT
BEGIN:VEVENT
DTSTART;TZID=Europe/Vienna:20260414T180000
DTEND;TZID=Europe/Vienna:20260414T180000
DTSTAMP:20260421T201957
CREATED:20260324T125624Z
LAST-MODIFIED:20260324T125624Z
UID:10001619-1776189600-1776189600@www.rundschau-medien.at
SUMMARY:"Literatur und Kunst als Scheinwelt oder Aufklärung"
DESCRIPTION:Buchpräsentation von Johannes Hofer
URL:https://www.rundschau-medien.at/dil/literatur-und-kunst-als-scheinwelt-oder-aufklaerung/
LOCATION:Stadtbibliothek Kindberg
CATEGORIES:Lesung
END:VEVENT
BEGIN:VEVENT
DTSTART;TZID=Europe/Vienna:20260414T183000
DTEND;TZID=Europe/Vienna:20260414T183000
DTSTAMP:20260421T201957
CREATED:20260227T100226Z
LAST-MODIFIED:20260227T100226Z
UID:10001452-1776191400-1776191400@www.rundschau-medien.at
SUMMARY:Volkstanzen und Schuhplatteln
DESCRIPTION:für Paare und Singles
URL:https://www.rundschau-medien.at/dil/volkstanzen-und-schuhplatteln-5/
LOCATION:Heimatverein Maderecker Bruck an der Mur\, Lichtensteinstraße 8
CATEGORIES:Hobby/Freizeit
END:VEVENT
BEGIN:VEVENT
DTSTART;TZID=Europe/Vienna:20260414T183000
DTEND;TZID=Europe/Vienna:20260414T183000
DTSTAMP:20260421T201957
CREATED:20260326T140428Z
LAST-MODIFIED:20260326T140428Z
UID:10001685-1776191400-1776191400@www.rundschau-medien.at
SUMMARY:Neuer Krimi von Joesi Prokopetz
DESCRIPTION:Am Dienstag\, dem 14. April\, ist Joesi Prokopetz für eine Lesung im Festsaal der Marktgemeinde St. Lorenzen zu Gast. Der Songwriter\, Kabarettist und Autor präsentiert dabei seinen neuen Kriminalroman „Die Blume aus dem Gemeindebau“. Beginn der Veranstaltung ist um 18.30 Uhr\, als Eintritt gilt eine freie Spende. \nFoto: Lukas Beck
URL:https://www.rundschau-medien.at/dil/neuer-krimi-von-joesi-prokopetz/
LOCATION:Festsaal St. Lorenzen
CATEGORIES:Lesung
ATTACH;FMTTYPE=image/webp:https://www.rundschau-medien.at/wp-content/uploads/2026/03/St-Lorenzen-Lesung-Prokopetz-Beck.webp
END:VEVENT
BEGIN:VEVENT
DTSTART;TZID=Europe/Vienna:20260414T190000
DTEND;TZID=Europe/Vienna:20260414T190000
DTSTAMP:20260421T201957
CREATED:20260304T142134Z
LAST-MODIFIED:20260304T142134Z
UID:10001506-1776193200-1776193200@www.rundschau-medien.at
SUMMARY:Filmabend
DESCRIPTION:„Kapfenberg 1996“ von Peter Resetarits
URL:https://www.rundschau-medien.at/dil/filmabend-4/
LOCATION:Filmklublokal Volksschule Redfeld\, Kapfenberg
CATEGORIES:Hobby/Freizeit
END:VEVENT
BEGIN:VEVENT
DTSTART;TZID=Europe/Vienna:20260414T190000
DTEND;TZID=Europe/Vienna:20260414T190000
DTSTAMP:20260421T201957
CREATED:20260324T125450Z
LAST-MODIFIED:20260331T131226Z
UID:10001618-1776193200-1776193200@www.rundschau-medien.at
SUMMARY:Italienische Reiseeindrücke
DESCRIPTION:Am Dienstag\, dem 14. April\, steht im Volkshaus Frohnleiten der Multimediavortrag „Italien“ von Erich Urschler auf dem Programm. Dabei präsentiert er Eindrücke einer Reise\, deren Route sich von den Dolomiten über die Linsenblüte in Umbrien und abgelegene Bergdörfer in den Abruzzen bis an die Küsten von Cilento und Amalfi sowie den Golf von Neapel erstreckte. Beginn der Veranstaltung ist um 19 Uhr\, für Kinder bis 14 Jahre ist der Eintritt frei. \nFoto: Urschler
URL:https://www.rundschau-medien.at/dil/italien/
LOCATION:Volkshaus Frohnleiten
CATEGORIES:Vortrag
ATTACH;FMTTYPE=image/webp:https://www.rundschau-medien.at/wp-content/uploads/2026/03/Frohnleiten-Vortrag-Italien.webp
END:VEVENT
BEGIN:VEVENT
DTSTART;TZID=Europe/Vienna:20260415T060000
DTEND;TZID=Europe/Vienna:20260415T120000
DTSTAMP:20260421T201957
CREATED:20260114T143951Z
LAST-MODIFIED:20260121T110934Z
UID:10000291-1776232800-1776254400@www.rundschau-medien.at
SUMMARY:Brucker Wochenmarkt
DESCRIPTION:Vielfältige Produkte der regionalen BäuerInnen und ProduzentInnen.
URL:https://www.rundschau-medien.at/dil/brucker-wochenmarkt/2026-04-15/
LOCATION:Hauptplatz Bruck an der Mur
CATEGORIES:Kulinarik,Markt
END:VEVENT
BEGIN:VEVENT
DTSTART;TZID=Europe/Vienna:20260415T083000
DTEND;TZID=Europe/Vienna:20260415T093000
DTSTAMP:20260421T201957
CREATED:20260120T121529Z
LAST-MODIFIED:20260121T110853Z
UID:10000423-1776241800-1776245400@www.rundschau-medien.at
SUMMARY:Aktiv und bewegt älter
DESCRIPTION:Info und Anmeldung unter 0699/14100114
URL:https://www.rundschau-medien.at/dil/aktiv-und-bewegt-aelter/2026-04-15/
LOCATION:Turnsaal Tragöß
CATEGORIES:Gesundheit,Hobby/Freizeit
END:VEVENT
BEGIN:VEVENT
DTSTART;TZID=Europe/Vienna:20260415T090000
DTEND;TZID=Europe/Vienna:20260415T090000
DTSTAMP:20260421T201957
CREATED:20260324T131502Z
LAST-MODIFIED:20260324T131502Z
UID:10001625-1776243600-1776243600@www.rundschau-medien.at
SUMMARY:Aktiv-Kneipp-Gesund-Wandern
DESCRIPTION:
URL:https://www.rundschau-medien.at/dil/aktiv-kneipp-gesund-wandern-2/
LOCATION:Bräuer Teiche\, Mürzzuschlag
CATEGORIES:Hobby/Freizeit
END:VEVENT
BEGIN:VEVENT
DTSTART;TZID=Europe/Vienna:20260415T090000
DTEND;TZID=Europe/Vienna:20260415T100000
DTSTAMP:20260421T201957
CREATED:20260126T121250Z
LAST-MODIFIED:20260126T121250Z
UID:10000613-1776243600-1776247200@www.rundschau-medien.at
SUMMARY:Zwergerltreff
DESCRIPTION:
URL:https://www.rundschau-medien.at/dil/zwergerltreff-3/
LOCATION:Pfarrbibliothek Krieglach
CATEGORIES:Kinder/Jugend
END:VEVENT
BEGIN:VEVENT
DTSTART;TZID=Europe/Vienna:20260415T090000
DTEND;TZID=Europe/Vienna:20260415T120000
DTSTAMP:20260421T201957
CREATED:20260331T120456Z
LAST-MODIFIED:20260331T120456Z
UID:10001716-1776243600-1776254400@www.rundschau-medien.at
SUMMARY:Nachbarschaftsfrühstück
DESCRIPTION:bei Schlechtwetter im Foyer des Gewerkschaftshauses Eisenerz
URL:https://www.rundschau-medien.at/dil/nachbarschaftsfruehstueck/
LOCATION:Theodor-Körner-Platz Eisenerz
CATEGORIES:Gesellschaft
END:VEVENT
BEGIN:VEVENT
DTSTART;TZID=Europe/Vienna:20260415T103000
DTEND;TZID=Europe/Vienna:20260415T113000
DTSTAMP:20260421T201957
CREATED:20260120T121717Z
LAST-MODIFIED:20260121T110852Z
UID:10000436-1776249000-1776252600@www.rundschau-medien.at
SUMMARY:Aktiv und bewegt älter
DESCRIPTION:Info und Anmeldung unter 0699/14100114
URL:https://www.rundschau-medien.at/dil/aktiv-und-bewegt-aelter-2/2026-04-15/
LOCATION:VAZ St. Katharein/Laming
CATEGORIES:Gesundheit,Hobby/Freizeit
END:VEVENT
BEGIN:VEVENT
DTSTART;TZID=Europe/Vienna:20260415T130000
DTEND;TZID=Europe/Vienna:20260415T180000
DTSTAMP:20260421T201957
CREATED:20260114T142330Z
LAST-MODIFIED:20260121T110934Z
UID:10000214-1776258000-1776276000@www.rundschau-medien.at
SUMMARY:Flohmarkt
DESCRIPTION:Die Behindertenhilfe Krieglach betreibt den größten ständigen Flohmarkt im Mürztal. Mit dem Erlös werden behinderte\, kranke und arme Menschen unterstützt.
URL:https://www.rundschau-medien.at/dil/flohmarkt/2026-04-15/
LOCATION:Behindertenhilfe Krieglach\, Grazer Straße 79\, Krieglach\, 8670
CATEGORIES:Hobby/Freizeit,Markt
END:VEVENT
BEGIN:VEVENT
DTSTART;TZID=Europe/Vienna:20260415T140000
DTEND;TZID=Europe/Vienna:20260415T140000
DTSTAMP:20260421T201957
CREATED:20260126T121158Z
LAST-MODIFIED:20260126T121158Z
UID:10000612-1776261600-1776261600@www.rundschau-medien.at
SUMMARY:Pensionistennachmittag
DESCRIPTION:Mit dem Pensionistenverband
URL:https://www.rundschau-medien.at/dil/pensionistennachmittag-6/
LOCATION:Kinderfreundeheim Kammern
CATEGORIES:Gesellschaft
END:VEVENT
BEGIN:VEVENT
DTSTART;TZID=Europe/Vienna:20260415T140000
DTEND;TZID=Europe/Vienna:20260415T140000
DTSTAMP:20260421T201957
CREATED:20260324T130052Z
LAST-MODIFIED:20260324T130052Z
UID:10001621-1776261600-1776261600@www.rundschau-medien.at
SUMMARY:Kasperltheater
DESCRIPTION:
URL:https://www.rundschau-medien.at/dil/kasperltheater-5/2026-04-15/1/
LOCATION:ECE Kapfenberg
CATEGORIES:Kinder/Jugend
END:VEVENT
BEGIN:VEVENT
DTSTART;TZID=Europe/Vienna:20260415T143000
DTEND;TZID=Europe/Vienna:20260415T143000
DTSTAMP:20260421T201957
CREATED:20260324T130206Z
LAST-MODIFIED:20260324T130206Z
UID:10001623-1776263400-1776263400@www.rundschau-medien.at
SUMMARY:"Baue dein Tier aus Magneten"
DESCRIPTION:Kinderworkshop
URL:https://www.rundschau-medien.at/dil/baue-dein-tier-aus-magneten/2026-04-15/1/
LOCATION:ECE Kapfenberg
CATEGORIES:Kinder/Jugend
END:VEVENT
END:VCALENDAR