BEGIN:VCALENDAR
VERSION:2.0
PRODID:-//Obersteirische Rundschau - ECPv6.15.20//NONSGML v1.0//EN
CALSCALE:GREGORIAN
METHOD:PUBLISH
X-ORIGINAL-URL:https://www.rundschau-medien.at
X-WR-CALDESC:Veranstaltungen für Obersteirische Rundschau
REFRESH-INTERVAL;VALUE=DURATION:PT1H
X-Robots-Tag:noindex
X-PUBLISHED-TTL:PT1H
BEGIN:VTIMEZONE
TZID:Europe/Vienna
BEGIN:DAYLIGHT
TZOFFSETFROM:+0100
TZOFFSETTO:+0200
TZNAME:CEST
DTSTART:20250330T010000
END:DAYLIGHT
BEGIN:STANDARD
TZOFFSETFROM:+0200
TZOFFSETTO:+0100
TZNAME:CET
DTSTART:20251026T010000
END:STANDARD
BEGIN:DAYLIGHT
TZOFFSETFROM:+0100
TZOFFSETTO:+0200
TZNAME:CEST
DTSTART:20260329T010000
END:DAYLIGHT
BEGIN:STANDARD
TZOFFSETFROM:+0200
TZOFFSETTO:+0100
TZNAME:CET
DTSTART:20261025T010000
END:STANDARD
BEGIN:DAYLIGHT
TZOFFSETFROM:+0100
TZOFFSETTO:+0200
TZNAME:CEST
DTSTART:20270328T010000
END:DAYLIGHT
BEGIN:STANDARD
TZOFFSETFROM:+0200
TZOFFSETTO:+0100
TZNAME:CET
DTSTART:20271031T010000
END:STANDARD
END:VTIMEZONE
BEGIN:VEVENT
DTSTART;TZID=Europe/Vienna:20260410T070000
DTEND;TZID=Europe/Vienna:20260410T120000
DTSTAMP:20260425T141245
CREATED:20260211T095933Z
LAST-MODIFIED:20260211T095933Z
UID:10000907-1775804400-1775822400@www.rundschau-medien.at
SUMMARY:Bauernmarkt
DESCRIPTION:
URL:https://www.rundschau-medien.at/dil/bauernmarkt-32/
LOCATION:Kirchplatz Leoben
CATEGORIES:Markt
END:VEVENT
BEGIN:VEVENT
DTSTART;TZID=Europe/Vienna:20260410T090000
DTEND;TZID=Europe/Vienna:20260410T090000
DTSTAMP:20260425T141245
CREATED:20260126T120557Z
LAST-MODIFIED:20260126T120557Z
UID:10000607-1775811600-1775811600@www.rundschau-medien.at
SUMMARY:Anwandern mit den Naturfreunden Mürzhofen
DESCRIPTION:Abfahrt in zwei Gruppen um 9 und 10 Uhr vom Dorfplatz Mürzhofen\, Info unter 0676/5620202 bzw. 0680/3116577
URL:https://www.rundschau-medien.at/dil/anwandern-mit-den-naturfreunden-muerzhofen/
LOCATION:Dorfplatz Mürzhofen\, Kindberg
CATEGORIES:Hobby/Freizeit
END:VEVENT
BEGIN:VEVENT
DTSTART;TZID=Europe/Vienna:20260410T090000
DTEND;TZID=Europe/Vienna:20260410T090000
DTSTAMP:20260425T141245
CREATED:20260324T124559Z
LAST-MODIFIED:20260327T121856Z
UID:10001610-1775811600-1775811600@www.rundschau-medien.at
SUMMARY:Autoschau
DESCRIPTION:
URL:https://www.rundschau-medien.at/dil/autoschau/2026-04-10/
LOCATION:Hauptplatz Bruck an der Mur
CATEGORIES:Service/Info
END:VEVENT
BEGIN:VEVENT
DTSTART;TZID=Europe/Vienna:20260410T130000
DTEND;TZID=Europe/Vienna:20260410T180000
DTSTAMP:20260425T141245
CREATED:20260114T142330Z
LAST-MODIFIED:20260121T110934Z
UID:10000212-1775826000-1775844000@www.rundschau-medien.at
SUMMARY:Flohmarkt
DESCRIPTION:Die Behindertenhilfe Krieglach betreibt den größten ständigen Flohmarkt im Mürztal. Mit dem Erlös werden behinderte\, kranke und arme Menschen unterstützt.
URL:https://www.rundschau-medien.at/dil/flohmarkt/2026-04-10/
LOCATION:Behindertenhilfe Krieglach\, Grazer Straße 79\, Krieglach\, 8670
CATEGORIES:Hobby/Freizeit,Markt
END:VEVENT
BEGIN:VEVENT
DTSTART;TZID=Europe/Vienna:20260410T140000
DTEND;TZID=Europe/Vienna:20260410T140000
DTSTAMP:20260425T141245
CREATED:20260310T135449Z
LAST-MODIFIED:20260310T135449Z
UID:10001549-1775829600-1775829600@www.rundschau-medien.at
SUMMARY:"Nordic Walking ab der Lebensmitte"
DESCRIPTION:
URL:https://www.rundschau-medien.at/dil/nordic-walking-ab-der-lebensmitte-9/
LOCATION:Bräuer Teiche\, Mürzzuschlag
CATEGORIES:Hobby/Freizeit
END:VEVENT
BEGIN:VEVENT
DTSTART;TZID=Europe/Vienna:20260410T153000
DTEND;TZID=Europe/Vienna:20260410T153000
DTSTAMP:20260425T141245
CREATED:20260128T142519Z
LAST-MODIFIED:20260128T142519Z
UID:10000800-1775835000-1775835000@www.rundschau-medien.at
SUMMARY:"Insektenschutz"
DESCRIPTION:Workshop mit Michaela Schweiger
URL:https://www.rundschau-medien.at/dil/insektenschutz/
LOCATION:Seminarraum Spital am Semmering
CATEGORIES:Service/Info
END:VEVENT
BEGIN:VEVENT
DTSTART;TZID=Europe/Vienna:20260410T180000
DTEND;TZID=Europe/Vienna:20260410T180000
DTSTAMP:20260425T141245
CREATED:20260216T094425Z
LAST-MODIFIED:20260216T094425Z
UID:10001318-1775844000-1775844000@www.rundschau-medien.at
SUMMARY:"Hurra die Gams"
DESCRIPTION:Musikschulkonzert
URL:https://www.rundschau-medien.at/dil/hurra-die-gams/
LOCATION:Stadtkultursaal Trofaiach
CATEGORIES:Konzert
END:VEVENT
BEGIN:VEVENT
DTSTART;TZID=Europe/Vienna:20260410T180000
DTEND;TZID=Europe/Vienna:20260410T180000
DTSTAMP:20260425T141245
CREATED:20260324T124704Z
LAST-MODIFIED:20260324T124704Z
UID:10001611-1775844000-1775844000@www.rundschau-medien.at
SUMMARY:"Erfüllung – was uns wirklich trägt"
DESCRIPTION:Vortrag von Gernot Haas
URL:https://www.rundschau-medien.at/dil/erfuellung-was-uns-wirklich-traegt/
LOCATION:Gute-Geschichte-Raum\, ECE Kapfenberg
CATEGORIES:Vortrag
END:VEVENT
BEGIN:VEVENT
DTSTART;TZID=Europe/Vienna:20260410T180000
DTEND;TZID=Europe/Vienna:20260410T180000
DTSTAMP:20260425T141245
CREATED:20260330T075043Z
LAST-MODIFIED:20260330T075043Z
UID:10001699-1775844000-1775844000@www.rundschau-medien.at
SUMMARY:"Lust auf Singen"
DESCRIPTION:mit Maria Rinnhofer und Sängerfreunden
URL:https://www.rundschau-medien.at/dil/lust-auf-singen/
LOCATION:Bistro der Lebenshilfe Mürzzuschlag
CATEGORIES:Konzert
END:VEVENT
BEGIN:VEVENT
DTSTART;TZID=Europe/Vienna:20260410T190000
DTEND;TZID=Europe/Vienna:20260410T190000
DTSTAMP:20260425T141245
CREATED:20260310T135549Z
LAST-MODIFIED:20260310T135549Z
UID:10001550-1775847600-1775847600@www.rundschau-medien.at
SUMMARY:"Tanzmusik auf Bestellung"
DESCRIPTION:
URL:https://www.rundschau-medien.at/dil/tanzmusik-auf-bestellung/
LOCATION:Stadtsaal Mürzzuschlag
CATEGORIES:Hobby/Freizeit
END:VEVENT
BEGIN:VEVENT
DTSTART;TZID=Europe/Vienna:20260410T190000
DTEND;TZID=Europe/Vienna:20260410T190000
DTSTAMP:20260425T141245
CREATED:20260318T130859Z
LAST-MODIFIED:20260318T131810Z
UID:10001601-1775847600-1775847600@www.rundschau-medien.at
SUMMARY:Die Geschichte  der Eisenindustrie
DESCRIPTION:Am Freitag\, dem 10. April\, ist der Leiter des Bergwerksmuseums Montanarum in Altenberg und Neuberger Chronist Erwin Gruber für eine Lesung im Radwerk IV in Vordernberg zu Gast. Dabei stellt er sein neues Buch „Eisenindustrie und Bergwerke im oberen Mürztal“ vor\, das sich mit der Geschichte der Eisenerzeugung sowie dem Silber-\, Kupfer-\, Magnesit- und Grafitbergbau in der Region befasst. Beginn der Veranstaltung ist um 19 Uhr. \nFoto: Gruber
URL:https://www.rundschau-medien.at/dil/eisenindustrie-und-bergwerke-im-oberen-muerztal/
LOCATION:Radwerk IV\, Vordernberg
CATEGORIES:Lesung
ATTACH;FMTTYPE=image/webp:https://www.rundschau-medien.at/wp-content/uploads/2026/03/Vordernberg-Lesung-Gruber.webp
END:VEVENT
BEGIN:VEVENT
DTSTART;TZID=Europe/Vienna:20260410T190000
DTEND;TZID=Europe/Vienna:20260410T190000
DTSTAMP:20260425T141245
CREATED:20260326T134614Z
LAST-MODIFIED:20260326T134614Z
UID:10001681-1775847600-1775847600@www.rundschau-medien.at
SUMMARY:"Go West"
DESCRIPTION:Konzert der Chorallen
URL:https://www.rundschau-medien.at/dil/go-west/
LOCATION:Raiffeisensaal Mariazell
CATEGORIES:Konzert
END:VEVENT
BEGIN:VEVENT
DTSTART;TZID=Europe/Vienna:20260410T190000
DTEND;TZID=Europe/Vienna:20260410T190000
DTSTAMP:20260425T141245
CREATED:20260330T151020Z
LAST-MODIFIED:20260330T151020Z
UID:10001712-1775847600-1775847600@www.rundschau-medien.at
SUMMARY:Thailand
DESCRIPTION:Vortrag von Kathrin Jindra-Geiszler
URL:https://www.rundschau-medien.at/dil/thailand/
LOCATION:Volkshaus Langenwang
CATEGORIES:Vortrag
END:VEVENT
BEGIN:VEVENT
DTSTART;TZID=Europe/Vienna:20260410T193000
DTEND;TZID=Europe/Vienna:20260410T193000
DTSTAMP:20260425T141245
CREATED:20260310T135304Z
LAST-MODIFIED:20260310T135304Z
UID:10001548-1775849400-1775849400@www.rundschau-medien.at
SUMMARY:"So jung kumma nimma zaum"
DESCRIPTION:Konzert mit den Poxrucker Sisters
URL:https://www.rundschau-medien.at/dil/so-jung-kumma-nimma-zaum/
LOCATION:Live Congress Leoben
CATEGORIES:Konzert
END:VEVENT
BEGIN:VEVENT
DTSTART;TZID=Europe/Vienna:20260410T193000
DTEND;TZID=Europe/Vienna:20260410T193000
DTSTAMP:20260425T141245
CREATED:20260311T141409Z
LAST-MODIFIED:20260311T141409Z
UID:10001561-1775849400-1775849400@www.rundschau-medien.at
SUMMARY:Kabarettabend
DESCRIPTION:mit Roland Bauschenberger
URL:https://www.rundschau-medien.at/dil/kabarettabend/
LOCATION:Kultursaal St. Peter-Freienstein
CATEGORIES:Kabarett
END:VEVENT
BEGIN:VEVENT
DTSTART;TZID=Europe/Vienna:20260410T193000
DTEND;TZID=Europe/Vienna:20260410T193000
DTSTAMP:20260425T141245
CREATED:20260325T093030Z
LAST-MODIFIED:20260325T093030Z
UID:10001671-1775849400-1775849400@www.rundschau-medien.at
SUMMARY:"Oma lebt wie nie zuvor"
DESCRIPTION:Theater
URL:https://www.rundschau-medien.at/dil/oma-lebt-wie-nie-zuvor/2026-04-10/
LOCATION:Volksschule Spital am Semmering
CATEGORIES:Theater
END:VEVENT
BEGIN:VEVENT
DTSTART;TZID=Europe/Vienna:20260411T060000
DTEND;TZID=Europe/Vienna:20260411T120000
DTSTAMP:20260425T141245
CREATED:20260114T143951Z
LAST-MODIFIED:20260121T110934Z
UID:10000290-1775887200-1775908800@www.rundschau-medien.at
SUMMARY:Brucker Wochenmarkt
DESCRIPTION:Vielfältige Produkte der regionalen BäuerInnen und ProduzentInnen.
URL:https://www.rundschau-medien.at/dil/brucker-wochenmarkt/2026-04-11/
LOCATION:Hauptplatz Bruck an der Mur
CATEGORIES:Kulinarik,Markt
END:VEVENT
BEGIN:VEVENT
DTSTART;TZID=Europe/Vienna:20260411T080000
DTEND;TZID=Europe/Vienna:20260411T080000
DTSTAMP:20260425T141245
CREATED:20260330T151120Z
LAST-MODIFIED:20260330T151120Z
UID:10001713-1775894400-1775894400@www.rundschau-medien.at
SUMMARY:Sportartikel-Tauschmarkt
DESCRIPTION:
URL:https://www.rundschau-medien.at/dil/sportartikel-tauschmarkt/
LOCATION:Mittelschule Langenwang
CATEGORIES:Markt
END:VEVENT
BEGIN:VEVENT
DTSTART;TZID=Europe/Vienna:20260411T083000
DTEND;TZID=Europe/Vienna:20260411T083000
DTSTAMP:20260425T141245
CREATED:20260318T082628Z
LAST-MODIFIED:20260318T082628Z
UID:10001590-1775896200-1775896200@www.rundschau-medien.at
SUMMARY:Carmeeting
DESCRIPTION:mit „Old Audi“-Teileflohmarkt
URL:https://www.rundschau-medien.at/dil/carmeeting/
LOCATION:Niederdorf 55a\, St. Katharein an der Laming
CATEGORIES:Hobby/Freizeit,Markt
END:VEVENT
BEGIN:VEVENT
DTSTART;TZID=Europe/Vienna:20260411T090000
DTEND;TZID=Europe/Vienna:20260411T090000
DTSTAMP:20260425T141245
CREATED:20260130T135351Z
LAST-MODIFIED:20260130T135351Z
UID:10000820-1775898000-1775898000@www.rundschau-medien.at
SUMMARY:Anwandern auf dem Marterlweg
DESCRIPTION:Das Kulturreferat der Marktgemeinde Kammern lädt am Samstag\, dem 11. April\, zum traditionellen Anwandern auf dem Marterlweg. An einer Labestation gibt es für alle TeilnehmerInnen kostenlos eine kleine Jause samt Getränk\, und auch für musikalische Unterhaltung ist gesorgt. Treffpunkt ist um 9 Uhr auf dem Marktplatz der Gemeinde. \nFoto: Freepik
URL:https://www.rundschau-medien.at/dil/anwandern-auf-dem-marterlweg/
LOCATION:Marktplatz Kammern
CATEGORIES:Hobby/Freizeit
ATTACH;FMTTYPE=image/webp:https://www.rundschau-medien.at/wp-content/uploads/2026/01/Kammern-Anwandern-Freepik.webp
END:VEVENT
BEGIN:VEVENT
DTSTART;TZID=Europe/Vienna:20260411T090000
DTEND;TZID=Europe/Vienna:20260411T090000
DTSTAMP:20260425T141245
CREATED:20260324T124559Z
LAST-MODIFIED:20260327T121856Z
UID:10001691-1775898000-1775898000@www.rundschau-medien.at
SUMMARY:Autoschau
DESCRIPTION:
URL:https://www.rundschau-medien.at/dil/autoschau/2026-04-11/
LOCATION:Hauptplatz Bruck an der Mur
CATEGORIES:Service/Info
END:VEVENT
BEGIN:VEVENT
DTSTART;TZID=Europe/Vienna:20260411T090000
DTEND;TZID=Europe/Vienna:20260411T123000
DTSTAMP:20260425T141245
CREATED:20260218T094215Z
LAST-MODIFIED:20260218T094215Z
UID:10001347-1775898000-1775910600@www.rundschau-medien.at
SUMMARY:Repaircafé
DESCRIPTION:
URL:https://www.rundschau-medien.at/dil/repaircafe/
LOCATION:ESV Sportbuffet St. Michael
CATEGORIES:Hobby/Freizeit,Service/Info
END:VEVENT
BEGIN:VEVENT
DTSTART;TZID=Europe/Vienna:20260411T100000
DTEND;TZID=Europe/Vienna:20260411T150000
DTSTAMP:20260425T141245
CREATED:20260330T150836Z
LAST-MODIFIED:20260330T150836Z
UID:10001711-1775901600-1775919600@www.rundschau-medien.at
SUMMARY:Thailand auf kulinarische Art
DESCRIPTION:Thailändische Gerichte gekocht von SchülerInnen der MS Langenwang
URL:https://www.rundschau-medien.at/dil/thailand-auf-kulinarische-art/
LOCATION:Mittelschule Langenwang
CATEGORIES:Kulinarik
END:VEVENT
BEGIN:VEVENT
DTSTART;TZID=Europe/Vienna:20260411T130000
DTEND;TZID=Europe/Vienna:20260411T130000
DTSTAMP:20260425T141245
CREATED:20260330T075312Z
LAST-MODIFIED:20260330T075312Z
UID:10001700-1775912400-1775912400@www.rundschau-medien.at
SUMMARY:Konzert
DESCRIPTION:Landeswertungsspiel des Blasmusikverbandes
URL:https://www.rundschau-medien.at/dil/konzert-42/
LOCATION:VAZ Krieglach
CATEGORIES:Konzert
END:VEVENT
BEGIN:VEVENT
DTSTART;TZID=Europe/Vienna:20260411T140000
DTEND;TZID=Europe/Vienna:20260411T140000
DTSTAMP:20260425T141245
CREATED:20251226T114457Z
LAST-MODIFIED:20260121T110921Z
UID:10000169-1775916000-1775916000@www.rundschau-medien.at
SUMMARY:Jugendstunden
DESCRIPTION:Heimstunden der Pfadfinder Langenwang.
URL:https://www.rundschau-medien.at/dil/jugendstunden-3/2026-04-11/
LOCATION:Pfadfinderheim Langenwang
CATEGORIES:Hobby/Freizeit,Kinder/Jugend
END:VEVENT
BEGIN:VEVENT
DTSTART;TZID=Europe/Vienna:20260411T140000
DTEND;TZID=Europe/Vienna:20260411T140000
DTSTAMP:20260425T141245
CREATED:20260310T135712Z
LAST-MODIFIED:20260310T135712Z
UID:10001551-1775916000-1775916000@www.rundschau-medien.at
SUMMARY:Kräuterwanderung
DESCRIPTION:Info und Anmeldung unter 0676/3028253
URL:https://www.rundschau-medien.at/dil/kraeuterwanderung/
LOCATION:Eckbauer Kindberg
CATEGORIES:Hobby/Freizeit
END:VEVENT
BEGIN:VEVENT
DTSTART;TZID=Europe/Vienna:20260411T140000
DTEND;TZID=Europe/Vienna:20260411T140000
DTSTAMP:20260425T141245
CREATED:20260331T105153Z
LAST-MODIFIED:20260331T105153Z
UID:10001714-1775916000-1775916000@www.rundschau-medien.at
SUMMARY:Schnuppertauchen im Hallenbad
DESCRIPTION:Der TSC Tauchsportclub Mürztal-Austria lädt am Samstag\, dem 11. April\, zum Schnuppertauchen in das Hallenbad Mürzzuschlag. Der Workshop findet ab 14 Uhr statt\, dabei besteht auch die Möglichkeit\, sich gleich vor Ort zu einem Tauchkurs anzumelden. Das Mindestalter für TeilnehmerInnen beträgt 16 Jahre\, der Eintritt ist frei. Nähere Info für Interessierte gibt es bei Horst Raunigg unter Tel. 0664/4160519 oder online auf www.tscm.at. \nFoto: Kainer
URL:https://www.rundschau-medien.at/dil/schnuppertauchen-im-hallenbad/
LOCATION:Hallenbad Mürzzuschlag
CATEGORIES:Hobby/Freizeit
ATTACH;FMTTYPE=image/webp:https://www.rundschau-medien.at/wp-content/uploads/2026/03/Muerzzuschlag-Schnuppertauchen.webp
END:VEVENT
BEGIN:VEVENT
DTSTART;TZID=Europe/Vienna:20260411T150000
DTEND;TZID=Europe/Vienna:20260411T150000
DTSTAMP:20260425T141245
CREATED:20260318T120020Z
LAST-MODIFIED:20260318T120020Z
UID:10001597-1775919600-1775919600@www.rundschau-medien.at
SUMMARY:"Glorreiche Ideen"
DESCRIPTION:Theater mit dem Theaterverein Weichselboden
URL:https://www.rundschau-medien.at/dil/glorreiche-ideen/2026-04-11/1/
LOCATION:Volksheim Weichselboden\, Mariazell
CATEGORIES:Theater
END:VEVENT
BEGIN:VEVENT
DTSTART;TZID=Europe/Vienna:20260411T150000
DTEND;TZID=Europe/Vienna:20260411T150000
DTSTAMP:20260425T141245
CREATED:20260324T124819Z
LAST-MODIFIED:20260324T124819Z
UID:10001612-1775919600-1775919600@www.rundschau-medien.at
SUMMARY:"Grüße vom Mars"
DESCRIPTION:Kinderkino
URL:https://www.rundschau-medien.at/dil/gruesse-vom-mars/
LOCATION:Stadtkino Bruck an der Mur
CATEGORIES:Kinder/Jugend
END:VEVENT
BEGIN:VEVENT
DTSTART;TZID=Europe/Vienna:20260411T170000
DTEND;TZID=Europe/Vienna:20260411T170000
DTSTAMP:20260425T141245
CREATED:20260126T120657Z
LAST-MODIFIED:20260126T120657Z
UID:10000608-1775926800-1775926800@www.rundschau-medien.at
SUMMARY:Spieleabend
DESCRIPTION:Mit den Spielefreunden Österreich
URL:https://www.rundschau-medien.at/dil/spieleabend-6/
LOCATION:Ludothek Stadtbücherei Bruck an der Mur
CATEGORIES:Hobby/Freizeit
END:VEVENT
END:VCALENDAR