BEGIN:VCALENDAR
VERSION:2.0
PRODID:-//Obersteirische Rundschau - ECPv6.15.20//NONSGML v1.0//EN
CALSCALE:GREGORIAN
METHOD:PUBLISH
X-ORIGINAL-URL:https://www.rundschau-medien.at
X-WR-CALDESC:Veranstaltungen für Obersteirische Rundschau
REFRESH-INTERVAL;VALUE=DURATION:PT1H
X-Robots-Tag:noindex
X-PUBLISHED-TTL:PT1H
BEGIN:VTIMEZONE
TZID:Europe/Vienna
BEGIN:DAYLIGHT
TZOFFSETFROM:+0100
TZOFFSETTO:+0200
TZNAME:CEST
DTSTART:20250330T010000
END:DAYLIGHT
BEGIN:STANDARD
TZOFFSETFROM:+0200
TZOFFSETTO:+0100
TZNAME:CET
DTSTART:20251026T010000
END:STANDARD
BEGIN:DAYLIGHT
TZOFFSETFROM:+0100
TZOFFSETTO:+0200
TZNAME:CEST
DTSTART:20260329T010000
END:DAYLIGHT
BEGIN:STANDARD
TZOFFSETFROM:+0200
TZOFFSETTO:+0100
TZNAME:CET
DTSTART:20261025T010000
END:STANDARD
BEGIN:DAYLIGHT
TZOFFSETFROM:+0100
TZOFFSETTO:+0200
TZNAME:CEST
DTSTART:20270328T010000
END:DAYLIGHT
BEGIN:STANDARD
TZOFFSETFROM:+0200
TZOFFSETTO:+0100
TZNAME:CET
DTSTART:20271031T010000
END:STANDARD
END:VTIMEZONE
BEGIN:VEVENT
DTSTART;TZID=Europe/Vienna:20260405T060000
DTEND;TZID=Europe/Vienna:20260405T130000
DTSTAMP:20260421T200340
CREATED:20260312T091201Z
LAST-MODIFIED:20260312T091201Z
UID:10001565-1775368800-1775394000@www.rundschau-medien.at
SUMMARY:Flohmarkt
DESCRIPTION:Info unter 0664/75117598
URL:https://www.rundschau-medien.at/dil/flohmarkt-22/
LOCATION:Hauptplatz Bruck an der Mur
CATEGORIES:Markt
END:VEVENT
BEGIN:VEVENT
DTSTART;TZID=Europe/Vienna:20260405T190000
DTEND;TZID=Europe/Vienna:20260405T190000
DTSTAMP:20260421T200340
CREATED:20260311T111254Z
LAST-MODIFIED:20260311T111254Z
UID:10001558-1775415600-1775415600@www.rundschau-medien.at
SUMMARY:Osterkonzert
DESCRIPTION:mit der Stadtkapelle Mariazell
URL:https://www.rundschau-medien.at/dil/osterkonzert/
LOCATION:Volksheim Gußwerk\, Mariazell
CATEGORIES:Konzert
END:VEVENT
BEGIN:VEVENT
DTSTART;TZID=Europe/Vienna:20260405T190000
DTEND;TZID=Europe/Vienna:20260405T190000
DTSTAMP:20260421T200340
CREATED:20260324T100009Z
LAST-MODIFIED:20260324T100009Z
UID:10001608-1775415600-1775415600@www.rundschau-medien.at
SUMMARY:Osterfeuer
DESCRIPTION:
URL:https://www.rundschau-medien.at/dil/osterfeuer-7/
LOCATION:Parkplatz Kumpenloipe\, Trofaiach
CATEGORIES:Gesellschaft
END:VEVENT
BEGIN:VEVENT
DTSTART;TZID=Europe/Vienna:20260405T190000
DTEND;TZID=Europe/Vienna:20260405T190000
DTSTAMP:20260421T200340
CREATED:20260401T110642Z
LAST-MODIFIED:20260401T110642Z
UID:10001730-1775415600-1775415600@www.rundschau-medien.at
SUMMARY:Osterkonzert
DESCRIPTION:mit der Stadtkapelle Mariazell
URL:https://www.rundschau-medien.at/dil/osterkonzert-2/
LOCATION:Volksheim Gußwerk\, Mariazell
CATEGORIES:Konzert
END:VEVENT
BEGIN:VEVENT
DTSTART;TZID=Europe/Vienna:20260405T200000
DTEND;TZID=Europe/Vienna:20260405T200000
DTSTAMP:20260421T200340
CREATED:20260310T133511Z
LAST-MODIFIED:20260310T133511Z
UID:10001536-1775419200-1775419200@www.rundschau-medien.at
SUMMARY:Ostertanz
DESCRIPTION:mit dem Grazer Spitzbuam
URL:https://www.rundschau-medien.at/dil/ostertanz-2/
LOCATION:Volkshaus Langenwang
CATEGORIES:Gesellschaft
END:VEVENT
BEGIN:VEVENT
DTSTART;TZID=Europe/Vienna:20260405T203000
DTEND;TZID=Europe/Vienna:20260405T203000
DTSTAMP:20260421T200340
CREATED:20260310T133407Z
LAST-MODIFIED:20260310T133407Z
UID:10001535-1775421000-1775421000@www.rundschau-medien.at
SUMMARY:Ostertanz
DESCRIPTION:mit der FF Hadersdorf
URL:https://www.rundschau-medien.at/dil/ostertanz/
LOCATION:Volkshaus Kindberg
CATEGORIES:Gesellschaft
END:VEVENT
BEGIN:VEVENT
DTSTART;TZID=Europe/Vienna:20260406T083000
DTEND;TZID=Europe/Vienna:20260406T083000
DTSTAMP:20260421T200340
CREATED:20260310T133614Z
LAST-MODIFIED:20260310T133614Z
UID:10001537-1775464200-1775464200@www.rundschau-medien.at
SUMMARY:Wanderung auf den Hochanger
DESCRIPTION:mit den Naturfreunden
URL:https://www.rundschau-medien.at/dil/wanderung-auf-den-hochanger/
LOCATION:Parkplatz Weitental\, Bruck an der Mur
CATEGORIES:Hobby/Freizeit
END:VEVENT
BEGIN:VEVENT
DTSTART;TZID=Europe/Vienna:20260406T090000
DTEND;TZID=Europe/Vienna:20260406T090000
DTSTAMP:20260421T200340
CREATED:20260310T133719Z
LAST-MODIFIED:20260310T133719Z
UID:10001538-1775466000-1775466000@www.rundschau-medien.at
SUMMARY:"Nordic Walking ab der Lebensmitte"
DESCRIPTION:
URL:https://www.rundschau-medien.at/dil/nordic-walking-ab-der-lebensmitte-8/
LOCATION:Bräuer Teiche\, Mürzzuschlag
CATEGORIES:Hobby/Freizeit
END:VEVENT
BEGIN:VEVENT
DTSTART;TZID=Europe/Vienna:20260406T130000
DTEND;TZID=Europe/Vienna:20260406T180000
DTSTAMP:20260421T200340
CREATED:20260114T142330Z
LAST-MODIFIED:20260121T110934Z
UID:10000210-1775480400-1775498400@www.rundschau-medien.at
SUMMARY:Flohmarkt
DESCRIPTION:Die Behindertenhilfe Krieglach betreibt den größten ständigen Flohmarkt im Mürztal. Mit dem Erlös werden behinderte\, kranke und arme Menschen unterstützt.
URL:https://www.rundschau-medien.at/dil/flohmarkt/2026-04-06/
LOCATION:Behindertenhilfe Krieglach\, Grazer Straße 79\, Krieglach\, 8670
CATEGORIES:Hobby/Freizeit,Markt
END:VEVENT
BEGIN:VEVENT
DTSTART;TZID=Europe/Vienna:20260406T140000
DTEND;TZID=Europe/Vienna:20260406T140000
DTSTAMP:20260421T200340
CREATED:20260401T110806Z
LAST-MODIFIED:20260401T110806Z
UID:10001731-1775484000-1775484000@www.rundschau-medien.at
SUMMARY:Ostermontagsgaude
DESCRIPTION:
URL:https://www.rundschau-medien.at/dil/ostermontagsgaude/
LOCATION:Bartelbauerhütte Mariazell
CATEGORIES:Gesellschaft
END:VEVENT
BEGIN:VEVENT
DTSTART;TZID=Europe/Vienna:20260406T150000
DTEND;TZID=Europe/Vienna:20260406T150000
DTSTAMP:20260421T200340
CREATED:20260318T120020Z
LAST-MODIFIED:20260318T120020Z
UID:10001596-1775487600-1775487600@www.rundschau-medien.at
SUMMARY:"Glorreiche Ideen"
DESCRIPTION:Theater mit dem Theaterverein Weichselboden
URL:https://www.rundschau-medien.at/dil/glorreiche-ideen/2026-04-06/
LOCATION:Volksheim Weichselboden\, Mariazell
CATEGORIES:Theater
END:VEVENT
BEGIN:VEVENT
DTSTART;TZID=Europe/Vienna:20260406T180000
DTEND;TZID=Europe/Vienna:20260406T193000
DTSTAMP:20260421T200340
CREATED:20260120T115558Z
LAST-MODIFIED:20260121T110857Z
UID:10000345-1775498400-1775503800@www.rundschau-medien.at
SUMMARY:Seniorentanz
DESCRIPTION:„Tanz einfach mit“\, Info und Anmeldung unter 0699/14100114
URL:https://www.rundschau-medien.at/dil/seniorentanz/2026-04-06/
LOCATION:Aidora-Eventcenter Oberaich\, Bruck an der Mur
CATEGORIES:Hobby/Freizeit
END:VEVENT
BEGIN:VEVENT
DTSTART;TZID=Europe/Vienna:20260407T070000
DTEND;TZID=Europe/Vienna:20260407T120000
DTSTAMP:20260421T200340
CREATED:20260211T095846Z
LAST-MODIFIED:20260211T095846Z
UID:10000906-1775545200-1775563200@www.rundschau-medien.at
SUMMARY:Bauernmarkt
DESCRIPTION:
URL:https://www.rundschau-medien.at/dil/bauernmarkt-31/
LOCATION:Kirchplatz Leoben
CATEGORIES:Markt
END:VEVENT
BEGIN:VEVENT
DTSTART;TZID=Europe/Vienna:20260407T160000
DTEND;TZID=Europe/Vienna:20260407T160000
DTSTAMP:20260421T200340
CREATED:20260310T133818Z
LAST-MODIFIED:20260310T133818Z
UID:10001539-1775577600-1775577600@www.rundschau-medien.at
SUMMARY:Literaturtee
DESCRIPTION:
URL:https://www.rundschau-medien.at/dil/literaturtee-3/
LOCATION:Stadtbücherei Mürzzuschlag
CATEGORIES:Lesung
END:VEVENT
BEGIN:VEVENT
DTSTART;TZID=Europe/Vienna:20260407T183000
DTEND;TZID=Europe/Vienna:20260407T183000
DTSTAMP:20260421T200340
CREATED:20260227T100136Z
LAST-MODIFIED:20260227T100136Z
UID:10001451-1775586600-1775586600@www.rundschau-medien.at
SUMMARY:Volkstanzen und Schuhplatteln
DESCRIPTION:für Paare und Singles
URL:https://www.rundschau-medien.at/dil/volkstanzen-und-schuhplatteln-4/
LOCATION:Heimatverein Maderecker Bruck an der Mur\, Lichtensteinstraße 8
CATEGORIES:Hobby/Freizeit
END:VEVENT
BEGIN:VEVENT
DTSTART;TZID=Europe/Vienna:20260407T190000
DTEND;TZID=Europe/Vienna:20260407T190000
DTSTAMP:20260421T200340
CREATED:20260304T142008Z
LAST-MODIFIED:20260304T142008Z
UID:10001505-1775588400-1775588400@www.rundschau-medien.at
SUMMARY:Filmabend
DESCRIPTION:Filme von der Unica-Weltmeisterschaft
URL:https://www.rundschau-medien.at/dil/filmabend-3/
LOCATION:Filmklublokal Volksschule Redfeld\, Kapfenberg
CATEGORIES:Hobby/Freizeit
END:VEVENT
BEGIN:VEVENT
DTSTART;TZID=Europe/Vienna:20260408T060000
DTEND;TZID=Europe/Vienna:20260408T120000
DTSTAMP:20260421T200340
CREATED:20260114T143951Z
LAST-MODIFIED:20260121T110934Z
UID:10000289-1775628000-1775649600@www.rundschau-medien.at
SUMMARY:Brucker Wochenmarkt
DESCRIPTION:Vielfältige Produkte der regionalen BäuerInnen und ProduzentInnen.
URL:https://www.rundschau-medien.at/dil/brucker-wochenmarkt/2026-04-08/
LOCATION:Hauptplatz Bruck an der Mur
CATEGORIES:Kulinarik,Markt
END:VEVENT
BEGIN:VEVENT
DTSTART;TZID=Europe/Vienna:20260408T083000
DTEND;TZID=Europe/Vienna:20260408T093000
DTSTAMP:20260421T200340
CREATED:20260120T121529Z
LAST-MODIFIED:20260121T110853Z
UID:10000422-1775637000-1775640600@www.rundschau-medien.at
SUMMARY:Aktiv und bewegt älter
DESCRIPTION:Info und Anmeldung unter 0699/14100114
URL:https://www.rundschau-medien.at/dil/aktiv-und-bewegt-aelter/2026-04-08/
LOCATION:Turnsaal Tragöß
CATEGORIES:Gesundheit,Hobby/Freizeit
END:VEVENT
BEGIN:VEVENT
DTSTART;TZID=Europe/Vienna:20260408T090000
DTEND;TZID=Europe/Vienna:20260408T090000
DTSTAMP:20260421T200340
CREATED:20260310T134115Z
LAST-MODIFIED:20260310T134115Z
UID:10001541-1775638800-1775638800@www.rundschau-medien.at
SUMMARY:Aktiv-Kneipp-Gesund-Wandern
DESCRIPTION:
URL:https://www.rundschau-medien.at/dil/aktiv-kneipp-gesund-wandern/
LOCATION:Bräuer Teiche\, Mürzzuschlag
CATEGORIES:Hobby/Freizeit
END:VEVENT
BEGIN:VEVENT
DTSTART;TZID=Europe/Vienna:20260408T103000
DTEND;TZID=Europe/Vienna:20260408T113000
DTSTAMP:20260421T200340
CREATED:20260120T121717Z
LAST-MODIFIED:20260121T110852Z
UID:10000435-1775644200-1775647800@www.rundschau-medien.at
SUMMARY:Aktiv und bewegt älter
DESCRIPTION:Info und Anmeldung unter 0699/14100114
URL:https://www.rundschau-medien.at/dil/aktiv-und-bewegt-aelter-2/2026-04-08/
LOCATION:VAZ St. Katharein/Laming
CATEGORIES:Gesundheit,Hobby/Freizeit
END:VEVENT
BEGIN:VEVENT
DTSTART;TZID=Europe/Vienna:20260408T130000
DTEND;TZID=Europe/Vienna:20260408T180000
DTSTAMP:20260421T200340
CREATED:20260114T142330Z
LAST-MODIFIED:20260121T110934Z
UID:10000211-1775653200-1775671200@www.rundschau-medien.at
SUMMARY:Flohmarkt
DESCRIPTION:Die Behindertenhilfe Krieglach betreibt den größten ständigen Flohmarkt im Mürztal. Mit dem Erlös werden behinderte\, kranke und arme Menschen unterstützt.
URL:https://www.rundschau-medien.at/dil/flohmarkt/2026-04-08/
LOCATION:Behindertenhilfe Krieglach\, Grazer Straße 79\, Krieglach\, 8670
CATEGORIES:Hobby/Freizeit,Markt
END:VEVENT
BEGIN:VEVENT
DTSTART;TZID=Europe/Vienna:20260408T133000
DTEND;TZID=Europe/Vienna:20260408T153000
DTSTAMP:20260421T200340
CREATED:20260316T090609Z
LAST-MODIFIED:20260316T090609Z
UID:10001576-1775655000-1775662200@www.rundschau-medien.at
SUMMARY:"Musikalische Erinnerungen"
DESCRIPTION:Erzählcafé\, Info unter 03842/23710
URL:https://www.rundschau-medien.at/dil/musikalische-erinnerungen/
LOCATION:Senioren-Tageszentrum Donawitz\, Leoben
CATEGORIES:Gesellschaft
END:VEVENT
BEGIN:VEVENT
DTSTART;TZID=Europe/Vienna:20260408T150000
DTEND;TZID=Europe/Vienna:20260408T150000
DTSTAMP:20260421T200340
CREATED:20260114T141405Z
LAST-MODIFIED:20260121T110933Z
UID:10000148-1775660400-1775660400@www.rundschau-medien.at
SUMMARY:Handarbeitsrunde
DESCRIPTION:Gemütliche Winternachmittage mit Stricken\, Sticken und Häkeln\, veranstaltet von den steirischen VP-Frauen.
URL:https://www.rundschau-medien.at/dil/handarbeitsrunde-3/2026-04-08/
LOCATION:Pfadfinderheim Langenwang
CATEGORIES:Hobby/Freizeit
END:VEVENT
BEGIN:VEVENT
DTSTART;TZID=Europe/Vienna:20260408T190000
DTEND;TZID=Europe/Vienna:20260408T190000
DTSTAMP:20260421T200340
CREATED:20260330T074246Z
LAST-MODIFIED:20260330T074246Z
UID:10001698-1775674800-1775674800@www.rundschau-medien.at
SUMMARY:Konzert
DESCRIPTION:mit der Militärmusik Steiermark
URL:https://www.rundschau-medien.at/dil/konzert-41/
LOCATION:VAZ Krieglach
CATEGORIES:Konzert
END:VEVENT
BEGIN:VEVENT
DTSTART;TZID=Europe/Vienna:20260408T193000
DTEND;TZID=Europe/Vienna:20260408T193000
DTSTAMP:20260421T200340
CREATED:20260310T134020Z
LAST-MODIFIED:20260310T134020Z
UID:10001540-1775676600-1775676600@www.rundschau-medien.at
SUMMARY:"Piano Unlimited"
DESCRIPTION:Konzert mit Helmut Iberer & Friends
URL:https://www.rundschau-medien.at/dil/piano-unlimited/
LOCATION:Live Congress Leoben
CATEGORIES:Konzert
END:VEVENT
BEGIN:VEVENT
DTSTART;TZID=Europe/Vienna:20260409T093000
DTEND;TZID=Europe/Vienna:20260409T093000
DTSTAMP:20260421T200340
CREATED:20260310T134820Z
LAST-MODIFIED:20260310T134820Z
UID:10001545-1775727000-1775727000@www.rundschau-medien.at
SUMMARY:"Treffpunkt Tanz"
DESCRIPTION:Info und Anmeldung unter 0699/12277030 oder 0664/7838716
URL:https://www.rundschau-medien.at/dil/treffpunkt-tanz-7/
LOCATION:Stadtsaal Mürzzuschlag
CATEGORIES:Hobby/Freizeit
END:VEVENT
BEGIN:VEVENT
DTSTART;TZID=Europe/Vienna:20260409T150000
DTEND;TZID=Europe/Vienna:20260409T150000
DTSTAMP:20260421T200340
CREATED:20260310T134958Z
LAST-MODIFIED:20260310T134958Z
UID:10001546-1775746800-1775746800@www.rundschau-medien.at
SUMMARY:"Nadel & Buch"
DESCRIPTION:Workshop mit dem Kreativclub\, Info und Anmeldung unter 03852/2555-421
URL:https://www.rundschau-medien.at/dil/nadel-buch-2/
LOCATION:Stadtbücherei Mürzzuschlag
CATEGORIES:Hobby/Freizeit
END:VEVENT
BEGIN:VEVENT
DTSTART;TZID=Europe/Vienna:20260409T150000
DTEND;TZID=Europe/Vienna:20260409T163000
DTSTAMP:20260421T200340
CREATED:20260120T120427Z
LAST-MODIFIED:20260121T110852Z
UID:10000410-1775746800-1775752200@www.rundschau-medien.at
SUMMARY:Seniorentanz
DESCRIPTION:„Tanz einfach mit“\, Info und Anmeldung unter 0699/14100114
URL:https://www.rundschau-medien.at/dil/seniorentanz-2/2026-04-09/
LOCATION:Pfarrsaal Bruck
CATEGORIES:Hobby/Freizeit
END:VEVENT
BEGIN:VEVENT
DTSTART;TZID=Europe/Vienna:20260409T180000
DTEND;TZID=Europe/Vienna:20260409T180000
DTSTAMP:20260421T200340
CREATED:20260114T143354Z
LAST-MODIFIED:20260121T110931Z
UID:10000257-1775757600-1775757600@www.rundschau-medien.at
SUMMARY:Nordic-Walking-Runde
DESCRIPTION:Info und Anmeldung unter 0681/10300608.
URL:https://www.rundschau-medien.at/dil/nordic-walking-runde/2026-04-09/
LOCATION:Funcourt Spital am Semmering
CATEGORIES:Gesundheit,Hobby/Freizeit
END:VEVENT
BEGIN:VEVENT
DTSTART;TZID=Europe/Vienna:20260409T180000
DTEND;TZID=Europe/Vienna:20260409T180000
DTSTAMP:20260421T200340
CREATED:20260310T134220Z
LAST-MODIFIED:20260310T134220Z
UID:10001542-1775757600-1775757600@www.rundschau-medien.at
SUMMARY:"Art & Business"
DESCRIPTION:Vernissage der Ausstellung
URL:https://www.rundschau-medien.at/dil/art-business/
LOCATION:Technologiepark Frohnleiten
CATEGORIES:Kultur
END:VEVENT
END:VCALENDAR