BEGIN:VCALENDAR
VERSION:2.0
PRODID:-//Obersteirische Rundschau - ECPv6.15.20//NONSGML v1.0//EN
CALSCALE:GREGORIAN
METHOD:PUBLISH
X-ORIGINAL-URL:https://www.rundschau-medien.at
X-WR-CALDESC:Veranstaltungen für Obersteirische Rundschau
REFRESH-INTERVAL;VALUE=DURATION:PT1H
X-Robots-Tag:noindex
X-PUBLISHED-TTL:PT1H
BEGIN:VTIMEZONE
TZID:Europe/Vienna
BEGIN:DAYLIGHT
TZOFFSETFROM:+0100
TZOFFSETTO:+0200
TZNAME:CEST
DTSTART:20250330T010000
END:DAYLIGHT
BEGIN:STANDARD
TZOFFSETFROM:+0200
TZOFFSETTO:+0100
TZNAME:CET
DTSTART:20251026T010000
END:STANDARD
BEGIN:DAYLIGHT
TZOFFSETFROM:+0100
TZOFFSETTO:+0200
TZNAME:CEST
DTSTART:20260329T010000
END:DAYLIGHT
BEGIN:STANDARD
TZOFFSETFROM:+0200
TZOFFSETTO:+0100
TZNAME:CET
DTSTART:20261025T010000
END:STANDARD
BEGIN:DAYLIGHT
TZOFFSETFROM:+0100
TZOFFSETTO:+0200
TZNAME:CEST
DTSTART:20270328T010000
END:DAYLIGHT
BEGIN:STANDARD
TZOFFSETFROM:+0200
TZOFFSETTO:+0100
TZNAME:CET
DTSTART:20271031T010000
END:STANDARD
END:VTIMEZONE
BEGIN:VEVENT
DTSTART;TZID=Europe/Vienna:20260327T070000
DTEND;TZID=Europe/Vienna:20260327T120000
DTSTAMP:20260421T202151
CREATED:20260211T095604Z
LAST-MODIFIED:20260211T095604Z
UID:10000903-1774594800-1774612800@www.rundschau-medien.at
SUMMARY:Bauernmarkt
DESCRIPTION:
URL:https://www.rundschau-medien.at/dil/bauernmarkt-28/
LOCATION:Kirchplatz Leoben
CATEGORIES:Markt
END:VEVENT
BEGIN:VEVENT
DTSTART;TZID=Europe/Vienna:20260327T080000
DTEND;TZID=Europe/Vienna:20260327T080000
DTSTAMP:20260421T202151
CREATED:20260227T134756Z
LAST-MODIFIED:20260227T134756Z
UID:10001482-1774598400-1774598400@www.rundschau-medien.at
SUMMARY:Ostermarkt
DESCRIPTION:
URL:https://www.rundschau-medien.at/dil/ostermarkt-9/2026-03-27/
LOCATION:Rathaushof Bruck an der Mur
CATEGORIES:Markt
END:VEVENT
BEGIN:VEVENT
DTSTART;TZID=Europe/Vienna:20260327T090000
DTEND;TZID=Europe/Vienna:20260327T120000
DTSTAMP:20260421T202151
CREATED:20260310T130454Z
LAST-MODIFIED:20260310T130454Z
UID:10001517-1774602000-1774612800@www.rundschau-medien.at
SUMMARY:Trachtenflohmarkt
DESCRIPTION:
URL:https://www.rundschau-medien.at/dil/trachtenflohmarkt-9/
LOCATION:Hauptplatz 8\, Frohnleiten
CATEGORIES:Markt
END:VEVENT
BEGIN:VEVENT
DTSTART;TZID=Europe/Vienna:20260327T130000
DTEND;TZID=Europe/Vienna:20260327T180000
DTSTAMP:20260421T202151
CREATED:20260114T142330Z
LAST-MODIFIED:20260121T110934Z
UID:10000206-1774616400-1774634400@www.rundschau-medien.at
SUMMARY:Flohmarkt
DESCRIPTION:Die Behindertenhilfe Krieglach betreibt den größten ständigen Flohmarkt im Mürztal. Mit dem Erlös werden behinderte\, kranke und arme Menschen unterstützt.
URL:https://www.rundschau-medien.at/dil/flohmarkt/2026-03-27/
LOCATION:Behindertenhilfe Krieglach\, Grazer Straße 79\, Krieglach\, 8670
CATEGORIES:Hobby/Freizeit,Markt
END:VEVENT
BEGIN:VEVENT
DTSTART;TZID=Europe/Vienna:20260327T140000
DTEND;TZID=Europe/Vienna:20260327T140000
DTSTAMP:20260421T202151
CREATED:20260310T130553Z
LAST-MODIFIED:20260310T130553Z
UID:10001518-1774620000-1774620000@www.rundschau-medien.at
SUMMARY:Nordic Walking ab der Lebensmitte
DESCRIPTION:
URL:https://www.rundschau-medien.at/dil/nordic-walking-ab-der-lebensmitte-5/
LOCATION:Bräuer Teiche\, Mürzzuschlag
CATEGORIES:Hobby/Freizeit
END:VEVENT
BEGIN:VEVENT
DTSTART;TZID=Europe/Vienna:20260327T140000
DTEND;TZID=Europe/Vienna:20260327T140000
DTSTAMP:20260421T202151
CREATED:20260318T115534Z
LAST-MODIFIED:20260318T115534Z
UID:10001591-1774620000-1774620000@www.rundschau-medien.at
SUMMARY:"Abenteuer Wald"
DESCRIPTION:Naturworkshop\, Info und Anmeldung unter 0664/2546980
URL:https://www.rundschau-medien.at/dil/abenteuer-wald/2026-03-27/
LOCATION:Lasingerhof Gußwerk\, Mariazell
CATEGORIES:Hobby/Freizeit
END:VEVENT
BEGIN:VEVENT
DTSTART;TZID=Europe/Vienna:20260327T150000
DTEND;TZID=Europe/Vienna:20260327T150000
DTSTAMP:20260421T202151
CREATED:20260227T095842Z
LAST-MODIFIED:20260227T095842Z
UID:10001448-1774623600-1774623600@www.rundschau-medien.at
SUMMARY:"Oma\, Opa & Co lesen vor"
DESCRIPTION:Kinderlesung
URL:https://www.rundschau-medien.at/dil/oma-opa-co-lesen-vor-3/
LOCATION:Gemeindebücherei Krieglach
CATEGORIES:Kinder/Jugend,Lesung
END:VEVENT
BEGIN:VEVENT
DTSTART;TZID=Europe/Vienna:20260327T160000
DTEND;TZID=Europe/Vienna:20260327T160000
DTSTAMP:20260421T202151
CREATED:20260218T151447Z
LAST-MODIFIED:20260218T151447Z
UID:10001360-1774627200-1774627200@www.rundschau-medien.at
SUMMARY:Party für Menschen mit Handicap
DESCRIPTION:
URL:https://www.rundschau-medien.at/dil/party-fuer-menschen-mit-handicap-3/
LOCATION:Gute-Geschichte-Raum\, ECE Kapfenberg
CATEGORIES:Gesellschaft
END:VEVENT
BEGIN:VEVENT
DTSTART;TZID=Europe/Vienna:20260327T180000
DTEND;TZID=Europe/Vienna:20260327T180000
DTSTAMP:20260421T202151
CREATED:20260311T101237Z
LAST-MODIFIED:20260311T101237Z
UID:10001557-1774634400-1774634400@www.rundschau-medien.at
SUMMARY:"Hört zu – wir spielen für euch!"
DESCRIPTION:Vorspielstunde der Musikschule Mautern
URL:https://www.rundschau-medien.at/dil/hoert-zu-wir-spielen-fuer-euch/
LOCATION:Musikschule Kammern
CATEGORIES:Konzert
END:VEVENT
BEGIN:VEVENT
DTSTART;TZID=Europe/Vienna:20260327T183000
DTEND;TZID=Europe/Vienna:20260327T183000
DTSTAMP:20260421T202151
CREATED:20260310T130724Z
LAST-MODIFIED:20260310T130724Z
UID:10001519-1774636200-1774636200@www.rundschau-medien.at
SUMMARY:"Die Rückkehr der wilden Natur – Wolf\, Fischotter & Co"
DESCRIPTION:Diskussionsrunde
URL:https://www.rundschau-medien.at/dil/die-rueckkehr-der-wilden-natur-wolf-fischotter-co/
LOCATION:Wintersportmuseum Mürzzuschlag
CATEGORIES:Service/Info,Vortrag
END:VEVENT
BEGIN:VEVENT
DTSTART;TZID=Europe/Vienna:20260327T190000
DTEND;TZID=Europe/Vienna:20260327T190000
DTSTAMP:20260421T202151
CREATED:20260218T090843Z
LAST-MODIFIED:20260218T090843Z
UID:10001346-1774638000-1774638000@www.rundschau-medien.at
SUMMARY:"Wer ist im Bett mit dem Butler?"
DESCRIPTION:Boulevardkomödie mit der Pfarrtheatergruppe Allerheiligen-Mürzhofen
URL:https://www.rundschau-medien.at/dil/wer-ist-im-bett-mit-dem-butler/
LOCATION:Festsaal St. Lorenzen
CATEGORIES:Theater
END:VEVENT
BEGIN:VEVENT
DTSTART;TZID=Europe/Vienna:20260327T190000
DTEND;TZID=Europe/Vienna:20260327T190000
DTSTAMP:20260421T202151
CREATED:20260303T151626Z
LAST-MODIFIED:20260303T151626Z
UID:10001496-1774638000-1774638000@www.rundschau-medien.at
SUMMARY:"Die Komödie der Irrungen"
DESCRIPTION:Theater mit der Slonisgarde des Gymnasiums Kapfenberg
URL:https://www.rundschau-medien.at/dil/die-komoedie-der-irrungen/
LOCATION:Spielraum Kapfenberg
CATEGORIES:Theater
END:VEVENT
BEGIN:VEVENT
DTSTART;TZID=Europe/Vienna:20260327T200000
DTEND;TZID=Europe/Vienna:20260327T200000
DTSTAMP:20260421T202151
CREATED:20260224T135716Z
LAST-MODIFIED:20260224T135716Z
UID:10001415-1774641600-1774641600@www.rundschau-medien.at
SUMMARY:Konzert
DESCRIPTION:mit „Following Footsteps“
URL:https://www.rundschau-medien.at/dil/konzert-27/
LOCATION:Dachbodentheater Bruck an der Mur
CATEGORIES:Konzert
END:VEVENT
BEGIN:VEVENT
DTSTART;TZID=Europe/Vienna:20260328T060000
DTEND;TZID=Europe/Vienna:20260328T120000
DTSTAMP:20260421T202151
CREATED:20260114T143951Z
LAST-MODIFIED:20260121T110934Z
UID:10000286-1774677600-1774699200@www.rundschau-medien.at
SUMMARY:Brucker Wochenmarkt
DESCRIPTION:Vielfältige Produkte der regionalen BäuerInnen und ProduzentInnen.
URL:https://www.rundschau-medien.at/dil/brucker-wochenmarkt/2026-03-28/
LOCATION:Hauptplatz Bruck an der Mur
CATEGORIES:Kulinarik,Markt
END:VEVENT
BEGIN:VEVENT
DTSTART;TZID=Europe/Vienna:20260328T080000
DTEND;TZID=Europe/Vienna:20260328T080000
DTSTAMP:20260421T202151
CREATED:20260227T134756Z
LAST-MODIFIED:20260227T134756Z
UID:10001483-1774684800-1774684800@www.rundschau-medien.at
SUMMARY:Ostermarkt
DESCRIPTION:
URL:https://www.rundschau-medien.at/dil/ostermarkt-9/2026-03-28/
LOCATION:Rathaushof Bruck an der Mur
CATEGORIES:Markt
END:VEVENT
BEGIN:VEVENT
DTSTART;TZID=Europe/Vienna:20260328T080000
DTEND;TZID=Europe/Vienna:20260328T080000
DTSTAMP:20260421T202151
CREATED:20260310T130910Z
LAST-MODIFIED:20260310T130910Z
UID:10001521-1774684800-1774684800@www.rundschau-medien.at
SUMMARY:Ostermarkt
DESCRIPTION:
URL:https://www.rundschau-medien.at/dil/ostermarkt-12/
LOCATION:Stadtsaal Mürzzuschlag
CATEGORIES:Markt
END:VEVENT
BEGIN:VEVENT
DTSTART;TZID=Europe/Vienna:20260328T080000
DTEND;TZID=Europe/Vienna:20260328T120000
DTSTAMP:20260421T202151
CREATED:20260126T114251Z
LAST-MODIFIED:20260126T114251Z
UID:10000599-1774684800-1774699200@www.rundschau-medien.at
SUMMARY:Bauernmarkt
DESCRIPTION:
URL:https://www.rundschau-medien.at/dil/bauernmarkt-12/
LOCATION:Hauptplatz Trofaiach
CATEGORIES:Markt
END:VEVENT
BEGIN:VEVENT
DTSTART;TZID=Europe/Vienna:20260328T090000
DTEND;TZID=Europe/Vienna:20260328T120000
DTSTAMP:20260421T202151
CREATED:20260310T130817Z
LAST-MODIFIED:20260310T130817Z
UID:10001520-1774688400-1774699200@www.rundschau-medien.at
SUMMARY:Trachtenflohmarkt
DESCRIPTION:
URL:https://www.rundschau-medien.at/dil/trachtenflohmarkt-10/
LOCATION:Hauptplatz 8\, Frohnleiten
CATEGORIES:Markt
END:VEVENT
BEGIN:VEVENT
DTSTART;TZID=Europe/Vienna:20260328T100000
DTEND;TZID=Europe/Vienna:20260328T180000
DTSTAMP:20260421T202151
CREATED:20260126T114150Z
LAST-MODIFIED:20260126T114150Z
UID:10000598-1774692000-1774720800@www.rundschau-medien.at
SUMMARY:Ostermarkt
DESCRIPTION:
URL:https://www.rundschau-medien.at/dil/ostermarkt/
LOCATION:Pfarrhof Spital am Semmering
CATEGORIES:Markt
END:VEVENT
BEGIN:VEVENT
DTSTART;TZID=Europe/Vienna:20260328T140000
DTEND;TZID=Europe/Vienna:20260328T140000
DTSTAMP:20260421T202151
CREATED:20251226T114457Z
LAST-MODIFIED:20260121T110921Z
UID:10000167-1774706400-1774706400@www.rundschau-medien.at
SUMMARY:Jugendstunden
DESCRIPTION:Heimstunden der Pfadfinder Langenwang.
URL:https://www.rundschau-medien.at/dil/jugendstunden-3/2026-03-28/
LOCATION:Pfadfinderheim Langenwang
CATEGORIES:Hobby/Freizeit,Kinder/Jugend
END:VEVENT
BEGIN:VEVENT
DTSTART;TZID=Europe/Vienna:20260328T140000
DTEND;TZID=Europe/Vienna:20260328T140000
DTSTAMP:20260421T202151
CREATED:20260317T154506Z
LAST-MODIFIED:20260317T154506Z
UID:10001589-1774706400-1774706400@www.rundschau-medien.at
SUMMARY:Bezirkspreisschnapsen der ÖVP
DESCRIPTION:
URL:https://www.rundschau-medien.at/dil/bezirkspreisschnapsen-der-oevp/
LOCATION:Festsaal St. Lorenzen
CATEGORIES:Hobby/Freizeit
END:VEVENT
BEGIN:VEVENT
DTSTART;TZID=Europe/Vienna:20260328T140000
DTEND;TZID=Europe/Vienna:20260328T140000
DTSTAMP:20260421T202151
CREATED:20260318T115534Z
LAST-MODIFIED:20260318T115534Z
UID:10001592-1774706400-1774706400@www.rundschau-medien.at
SUMMARY:"Abenteuer Wald"
DESCRIPTION:Naturworkshop\, Info und Anmeldung unter 0664/2546980
URL:https://www.rundschau-medien.at/dil/abenteuer-wald/2026-03-28/
LOCATION:Lasingerhof Gußwerk\, Mariazell
CATEGORIES:Hobby/Freizeit
END:VEVENT
BEGIN:VEVENT
DTSTART;TZID=Europe/Vienna:20260328T170000
DTEND;TZID=Europe/Vienna:20260328T170000
DTSTAMP:20260421T202151
CREATED:20260126T114058Z
LAST-MODIFIED:20260126T114058Z
UID:10000597-1774717200-1774717200@www.rundschau-medien.at
SUMMARY:Spieleabend
DESCRIPTION:Mit den Spielefreunden Österreich
URL:https://www.rundschau-medien.at/dil/spieleabend-5/
LOCATION:Ludothek Stadtbücherei Bruck an der Mur
CATEGORIES:Hobby/Freizeit
END:VEVENT
BEGIN:VEVENT
DTSTART;TZID=Europe/Vienna:20260328T193000
DTEND;TZID=Europe/Vienna:20260328T193000
DTSTAMP:20260421T202151
CREATED:20260225T104210Z
LAST-MODIFIED:20260225T104210Z
UID:10001425-1774726200-1774726200@www.rundschau-medien.at
SUMMARY:Frühjahrskonzert
DESCRIPTION:mit dem Musikverein Langenwang
URL:https://www.rundschau-medien.at/dil/fruehjahrskonzert/
LOCATION:Volkshaus Langenwang
CATEGORIES:Konzert
END:VEVENT
BEGIN:VEVENT
DTSTART;TZID=Europe/Vienna:20260328T193000
DTEND;TZID=Europe/Vienna:20260328T193000
DTSTAMP:20260421T202151
CREATED:20260310T131121Z
LAST-MODIFIED:20260310T131121Z
UID:10001522-1774726200-1774726200@www.rundschau-medien.at
SUMMARY:"Musik liegt in der Luft"
DESCRIPTION:Konzert des Musikvereins Graßnitz
URL:https://www.rundschau-medien.at/dil/musik-liegt-in-der-luft/
LOCATION:Festsaal Aflenz
CATEGORIES:Konzert
END:VEVENT
BEGIN:VEVENT
DTSTART;TZID=Europe/Vienna:20260328T200000
DTEND;TZID=Europe/Vienna:20260328T200000
DTSTAMP:20260421T202151
CREATED:20260224T135807Z
LAST-MODIFIED:20260224T135807Z
UID:10001416-1774728000-1774728000@www.rundschau-medien.at
SUMMARY:Konzert
DESCRIPTION:mit Georg Neureiter
URL:https://www.rundschau-medien.at/dil/konzert-28/
LOCATION:Dachbodentheater Bruck an der Mur
CATEGORIES:Konzert
END:VEVENT
BEGIN:VEVENT
DTSTART;TZID=Europe/Vienna:20260329T100000
DTEND;TZID=Europe/Vienna:20260329T170000
DTSTAMP:20260421T202151
CREATED:20260126T115426Z
LAST-MODIFIED:20260126T115426Z
UID:10000601-1774778400-1774803600@www.rundschau-medien.at
SUMMARY:Ostermarkt
DESCRIPTION:
URL:https://www.rundschau-medien.at/dil/ostermarkt-2/
LOCATION:Pfarrhof Spital am Semmering
CATEGORIES:Markt
END:VEVENT
BEGIN:VEVENT
DTSTART;TZID=Europe/Vienna:20260329T110000
DTEND;TZID=Europe/Vienna:20260329T110000
DTSTAMP:20260421T202151
CREATED:20260126T114406Z
LAST-MODIFIED:20260126T114406Z
UID:10000600-1774782000-1774782000@www.rundschau-medien.at
SUMMARY:Jazzbrunch
DESCRIPTION:Mit „Safer Six“
URL:https://www.rundschau-medien.at/dil/jazzbrunch/
LOCATION:Galerie K Kindberg
CATEGORIES:Konzert,Kulinarik
END:VEVENT
BEGIN:VEVENT
DTSTART;TZID=Europe/Vienna:20260329T110000
DTEND;TZID=Europe/Vienna:20260329T110000
DTSTAMP:20260421T202151
CREATED:20260227T095936Z
LAST-MODIFIED:20260227T095936Z
UID:10001449-1774782000-1774782000@www.rundschau-medien.at
SUMMARY:Frühlingsmarkt
DESCRIPTION:
URL:https://www.rundschau-medien.at/dil/fruehlingsmarkt/
LOCATION:Moaktplatzl Krieglach
CATEGORIES:Markt
END:VEVENT
BEGIN:VEVENT
DTSTART;TZID=Europe/Vienna:20260329T110000
DTEND;TZID=Europe/Vienna:20260329T110000
DTSTAMP:20260421T202151
CREATED:20260320T103550Z
LAST-MODIFIED:20260320T103550Z
UID:10001602-1774782000-1774782000@www.rundschau-medien.at
SUMMARY:Osterhasenkirtag
DESCRIPTION:
URL:https://www.rundschau-medien.at/dil/osterhasenkirtag/
LOCATION:Dorfplatz Fischbach
CATEGORIES:Markt
END:VEVENT
END:VCALENDAR