BEGIN:VCALENDAR
VERSION:2.0
PRODID:-//Obersteirische Rundschau - ECPv6.15.20//NONSGML v1.0//EN
CALSCALE:GREGORIAN
METHOD:PUBLISH
X-ORIGINAL-URL:https://www.rundschau-medien.at
X-WR-CALDESC:Veranstaltungen für Obersteirische Rundschau
REFRESH-INTERVAL;VALUE=DURATION:PT1H
X-Robots-Tag:noindex
X-PUBLISHED-TTL:PT1H
BEGIN:VTIMEZONE
TZID:Europe/Vienna
BEGIN:DAYLIGHT
TZOFFSETFROM:+0100
TZOFFSETTO:+0200
TZNAME:CEST
DTSTART:20250330T010000
END:DAYLIGHT
BEGIN:STANDARD
TZOFFSETFROM:+0200
TZOFFSETTO:+0100
TZNAME:CET
DTSTART:20251026T010000
END:STANDARD
BEGIN:DAYLIGHT
TZOFFSETFROM:+0100
TZOFFSETTO:+0200
TZNAME:CEST
DTSTART:20260329T010000
END:DAYLIGHT
BEGIN:STANDARD
TZOFFSETFROM:+0200
TZOFFSETTO:+0100
TZNAME:CET
DTSTART:20261025T010000
END:STANDARD
BEGIN:DAYLIGHT
TZOFFSETFROM:+0100
TZOFFSETTO:+0200
TZNAME:CEST
DTSTART:20270328T010000
END:DAYLIGHT
BEGIN:STANDARD
TZOFFSETFROM:+0200
TZOFFSETTO:+0100
TZNAME:CET
DTSTART:20271031T010000
END:STANDARD
END:VTIMEZONE
BEGIN:VEVENT
DTSTART;TZID=Europe/Vienna:20260322T090000
DTEND;TZID=Europe/Vienna:20260322T090000
DTSTAMP:20260425T155009
CREATED:20260224T134335Z
LAST-MODIFIED:20260224T134335Z
UID:10001403-1774170000-1774170000@www.rundschau-medien.at
SUMMARY:Hundefotografie
DESCRIPTION:Workshop auf Englisch\, Info und Anmeldung auf www.rp-photography.at
URL:https://www.rundschau-medien.at/dil/hundefotografie-2/
LOCATION:Volkshaus Frohnleiten
CATEGORIES:Hobby/Freizeit
END:VEVENT
BEGIN:VEVENT
DTSTART;TZID=Europe/Vienna:20260322T100000
DTEND;TZID=Europe/Vienna:20260322T100000
DTSTAMP:20260425T155009
CREATED:20260302T145421Z
LAST-MODIFIED:20260302T145421Z
UID:10001493-1774173600-1774173600@www.rundschau-medien.at
SUMMARY:Fantasy Day
DESCRIPTION:für Kinder ab 3 Jahren
URL:https://www.rundschau-medien.at/dil/fantasy-day/
LOCATION:Burg Oberkapfenberg
CATEGORIES:Kinder/Jugend
END:VEVENT
BEGIN:VEVENT
DTSTART;TZID=Europe/Vienna:20260322T100000
DTEND;TZID=Europe/Vienna:20260322T170000
DTSTAMP:20260425T155009
CREATED:20260225T104024Z
LAST-MODIFIED:20260225T104024Z
UID:10001423-1774173600-1774198800@www.rundschau-medien.at
SUMMARY:Ostermarkt
DESCRIPTION:
URL:https://www.rundschau-medien.at/dil/ostermarkt-7/
LOCATION:Volkshaus Langenwang
CATEGORIES:Markt
END:VEVENT
BEGIN:VEVENT
DTSTART;TZID=Europe/Vienna:20260322T100000
DTEND;TZID=Europe/Vienna:20260322T170000
DTSTAMP:20260425T155009
CREATED:20260312T091038Z
LAST-MODIFIED:20260312T091038Z
UID:10001564-1774173600-1774198800@www.rundschau-medien.at
SUMMARY:Frühlingsmarkt
DESCRIPTION:
URL:https://www.rundschau-medien.at/dil/fruehlingsmarkt-3/
LOCATION:Bergland Alpakas\, St. Stefan
CATEGORIES:Markt
END:VEVENT
BEGIN:VEVENT
DTSTART;TZID=Europe/Vienna:20260322T110000
DTEND;TZID=Europe/Vienna:20260322T190000
DTSTAMP:20260425T155009
CREATED:20260305T084333Z
LAST-MODIFIED:20260305T084333Z
UID:10001510-1774177200-1774206000@www.rundschau-medien.at
SUMMARY:Ostern am Alpakahof
DESCRIPTION:
URL:https://www.rundschau-medien.at/dil/ostern-am-alpakahof-2/
LOCATION:Seeberger Alpakas\, Tragöß-St. Katharein
CATEGORIES:Markt
END:VEVENT
BEGIN:VEVENT
DTSTART;TZID=Europe/Vienna:20260322T140000
DTEND;TZID=Europe/Vienna:20260322T180000
DTSTAMP:20260425T155009
CREATED:20260225T104112Z
LAST-MODIFIED:20260225T104112Z
UID:10001424-1774188000-1774202400@www.rundschau-medien.at
SUMMARY:"Ein Hauch von Ostern"
DESCRIPTION:
URL:https://www.rundschau-medien.at/dil/ein-hauch-von-ostern-3/
LOCATION:Grazer Straße 2\, Langenwang
CATEGORIES:Markt
END:VEVENT
BEGIN:VEVENT
DTSTART;TZID=Europe/Vienna:20260322T150000
DTEND;TZID=Europe/Vienna:20260322T150000
DTSTAMP:20260425T155009
CREATED:20260220T104708Z
LAST-MODIFIED:20260220T104708Z
UID:10001364-1774191600-1774191600@www.rundschau-medien.at
SUMMARY:"Wer ist im Bett mit dem Butler?"
DESCRIPTION:Boulevardkomödie mit der Pfarrtheatergruppe Allerheiligen-Mürzhofen
URL:https://www.rundschau-medien.at/dil/wer-ist-im-bett-mit-dem-butler-4/
LOCATION:Kulturhalle Allerheiligen\, Kindberg
CATEGORIES:Theater
END:VEVENT
BEGIN:VEVENT
DTSTART;TZID=Europe/Vienna:20260322T160000
DTEND;TZID=Europe/Vienna:20260322T160000
DTSTAMP:20260425T155009
CREATED:20260224T125310Z
LAST-MODIFIED:20260224T125310Z
UID:10001374-1774195200-1774195200@www.rundschau-medien.at
SUMMARY:"Ein Mann spielt verrückt"
DESCRIPTION:Theater mit der Theaterrunde Firlefanz Pernegg
URL:https://www.rundschau-medien.at/dil/ein-mann-spielt-verrueckt-9/
LOCATION:Gasthaus Ebner\, Bruck-Übelstein
CATEGORIES:Theater
END:VEVENT
BEGIN:VEVENT
DTSTART;TZID=Europe/Vienna:20260322T180000
DTEND;TZID=Europe/Vienna:20260322T180000
DTSTAMP:20260425T155009
CREATED:20260224T134439Z
LAST-MODIFIED:20260224T134439Z
UID:10001404-1774202400-1774202400@www.rundschau-medien.at
SUMMARY:"Stuhrturm"
DESCRIPTION:Kabarett mit den Grazbürsten
URL:https://www.rundschau-medien.at/dil/stuhrturm/
LOCATION:Volkshaus Frohnleiten
CATEGORIES:Kabarett
END:VEVENT
BEGIN:VEVENT
DTSTART;TZID=Europe/Vienna:20260323T080000
DTEND;TZID=Europe/Vienna:20260323T080000
DTSTAMP:20260425T155009
CREATED:20260227T134756Z
LAST-MODIFIED:20260227T134756Z
UID:10001478-1774252800-1774252800@www.rundschau-medien.at
SUMMARY:Ostermarkt
DESCRIPTION:
URL:https://www.rundschau-medien.at/dil/ostermarkt-9/2026-03-23/
LOCATION:Rathaushof Bruck an der Mur
CATEGORIES:Markt
END:VEVENT
BEGIN:VEVENT
DTSTART;TZID=Europe/Vienna:20260323T090000
DTEND;TZID=Europe/Vienna:20260323T090000
DTSTAMP:20260425T155009
CREATED:20260224T134529Z
LAST-MODIFIED:20260224T134529Z
UID:10001405-1774256400-1774256400@www.rundschau-medien.at
SUMMARY:Nordic Walking ab der Lebensmitte
DESCRIPTION:
URL:https://www.rundschau-medien.at/dil/nordic-walking-ab-der-lebensmitte-4/
LOCATION:Bräuer Teiche\, Mürzzuschlag
CATEGORIES:Hobby/Freizeit
END:VEVENT
BEGIN:VEVENT
DTSTART;TZID=Europe/Vienna:20260323T130000
DTEND;TZID=Europe/Vienna:20260323T180000
DTSTAMP:20260425T155009
CREATED:20260114T142330Z
LAST-MODIFIED:20260121T110934Z
UID:10000204-1774270800-1774288800@www.rundschau-medien.at
SUMMARY:Flohmarkt
DESCRIPTION:Die Behindertenhilfe Krieglach betreibt den größten ständigen Flohmarkt im Mürztal. Mit dem Erlös werden behinderte\, kranke und arme Menschen unterstützt.
URL:https://www.rundschau-medien.at/dil/flohmarkt/2026-03-23/
LOCATION:Behindertenhilfe Krieglach\, Grazer Straße 79\, Krieglach\, 8670
CATEGORIES:Hobby/Freizeit,Markt
END:VEVENT
BEGIN:VEVENT
DTSTART;TZID=Europe/Vienna:20260323T180000
DTEND;TZID=Europe/Vienna:20260323T180000
DTSTAMP:20260425T155009
CREATED:20260216T094011Z
LAST-MODIFIED:20260216T094011Z
UID:10001314-1774288800-1774288800@www.rundschau-medien.at
SUMMARY:"Klassik"
DESCRIPTION:Musikschulkonzert
URL:https://www.rundschau-medien.at/dil/klassik/
LOCATION:Saal der Musikschule Trofaiach
CATEGORIES:Konzert
END:VEVENT
BEGIN:VEVENT
DTSTART;TZID=Europe/Vienna:20260323T180000
DTEND;TZID=Europe/Vienna:20260323T180000
DTSTAMP:20260425T155009
CREATED:20260224T134643Z
LAST-MODIFIED:20260224T134643Z
UID:10001406-1774288800-1774288800@www.rundschau-medien.at
SUMMARY:"On the Brink"
DESCRIPTION:Führung durch die Ausstellung von Michael Goldgruber
URL:https://www.rundschau-medien.at/dil/on-the-brink/
LOCATION:Kunsthaus Mürzzuschlag
CATEGORIES:Kultur
END:VEVENT
BEGIN:VEVENT
DTSTART;TZID=Europe/Vienna:20260323T180000
DTEND;TZID=Europe/Vienna:20260323T193000
DTSTAMP:20260425T155009
CREATED:20260120T115558Z
LAST-MODIFIED:20260121T110857Z
UID:10000343-1774288800-1774294200@www.rundschau-medien.at
SUMMARY:Seniorentanz
DESCRIPTION:„Tanz einfach mit“\, Info und Anmeldung unter 0699/14100114
URL:https://www.rundschau-medien.at/dil/seniorentanz/2026-03-23/
LOCATION:Aidora-Eventcenter Oberaich\, Bruck an der Mur
CATEGORIES:Hobby/Freizeit
END:VEVENT
BEGIN:VEVENT
DTSTART;TZID=Europe/Vienna:20260323T190000
DTEND;TZID=Europe/Vienna:20260323T190000
DTSTAMP:20260425T155009
CREATED:20260224T134806Z
LAST-MODIFIED:20260224T134806Z
UID:10001407-1774292400-1774292400@www.rundschau-medien.at
SUMMARY:"Das Eis der österreichischen Alpen – ewig oder doch unewig?"
DESCRIPTION:Vortrag von Andreas Kellerer-Pirklbauer-Eulenstein
URL:https://www.rundschau-medien.at/dil/das-eis-der-oesterreichischen-alpen-ewig-oder-doch-unewig/
LOCATION:Kunsthaus Mürzzuschlag
CATEGORIES:Vortrag
END:VEVENT
BEGIN:VEVENT
DTSTART;TZID=Europe/Vienna:20260323T190000
DTEND;TZID=Europe/Vienna:20260323T190000
DTSTAMP:20260425T155009
CREATED:20260302T083415Z
LAST-MODIFIED:20260302T083415Z
UID:10001487-1774292400-1774292400@www.rundschau-medien.at
SUMMARY:Filmabend
DESCRIPTION:Filme des Filmklubs Kapfenberg
URL:https://www.rundschau-medien.at/dil/filmabend/
LOCATION:Collegium Josefinum Leoben
CATEGORIES:Vortrag
END:VEVENT
BEGIN:VEVENT
DTSTART;TZID=Europe/Vienna:20260323T190000
DTEND;TZID=Europe/Vienna:20260323T190000
DTSTAMP:20260425T155009
CREATED:20260307T171443Z
LAST-MODIFIED:20260307T171644Z
UID:10001515-1774292400-1774292400@www.rundschau-medien.at
SUMMARY:Infoabend Energiegenossenschaft Hochschwab Süd
DESCRIPTION:Für die Bevölkerung und Wirtschaftstreibende der Gemeinden Aflenz\, Thörl und Turnau
URL:https://www.rundschau-medien.at/dil/infoabend-energiegenossenschaft-hochschwab-sued-3/
LOCATION:Festsaal Aflenz
CATEGORIES:Service/Info
END:VEVENT
BEGIN:VEVENT
DTSTART;TZID=Europe/Vienna:20260324T070000
DTEND;TZID=Europe/Vienna:20260324T120000
DTSTAMP:20260425T155009
CREATED:20260211T095506Z
LAST-MODIFIED:20260211T095506Z
UID:10000902-1774335600-1774353600@www.rundschau-medien.at
SUMMARY:Bauernmarkt
DESCRIPTION:
URL:https://www.rundschau-medien.at/dil/bauernmarkt-27/
LOCATION:Kirchplatz Leoben
CATEGORIES:Markt
END:VEVENT
BEGIN:VEVENT
DTSTART;TZID=Europe/Vienna:20260324T080000
DTEND;TZID=Europe/Vienna:20260324T080000
DTSTAMP:20260425T155009
CREATED:20260227T134756Z
LAST-MODIFIED:20260227T134756Z
UID:10001479-1774339200-1774339200@www.rundschau-medien.at
SUMMARY:Ostermarkt
DESCRIPTION:
URL:https://www.rundschau-medien.at/dil/ostermarkt-9/2026-03-24/
LOCATION:Rathaushof Bruck an der Mur
CATEGORIES:Markt
END:VEVENT
BEGIN:VEVENT
DTSTART;TZID=Europe/Vienna:20260324T150000
DTEND;TZID=Europe/Vienna:20260324T150000
DTSTAMP:20260425T155009
CREATED:20260224T135001Z
LAST-MODIFIED:20260224T135001Z
UID:10001409-1774364400-1774364400@www.rundschau-medien.at
SUMMARY:"Das Osterküken"
DESCRIPTION:Lesung für Kinder
URL:https://www.rundschau-medien.at/dil/das-osterkueken/
LOCATION:Stadtbücherei Mürzzuschlag
CATEGORIES:Kinder/Jugend
END:VEVENT
BEGIN:VEVENT
DTSTART;TZID=Europe/Vienna:20260324T160000
DTEND;TZID=Europe/Vienna:20260324T190000
DTSTAMP:20260425T155009
CREATED:20260226T120046Z
LAST-MODIFIED:20260226T120408Z
UID:10001437-1774368000-1774378800@www.rundschau-medien.at
SUMMARY:Blutspenden
DESCRIPTION:
URL:https://www.rundschau-medien.at/dil/blutspenden-21/
LOCATION:Kulturhalle Stanz
CATEGORIES:Gesundheit
END:VEVENT
BEGIN:VEVENT
DTSTART;TZID=Europe/Vienna:20260324T183000
DTEND;TZID=Europe/Vienna:20260324T183000
DTSTAMP:20260425T155009
CREATED:20260227T095638Z
LAST-MODIFIED:20260227T095638Z
UID:10001446-1774377000-1774377000@www.rundschau-medien.at
SUMMARY:Volkstanzen und Schuhplatteln
DESCRIPTION:für Paare und Singles
URL:https://www.rundschau-medien.at/dil/volkstanzen-und-schuhplatteln-2/
LOCATION:Heimatverein Maderecker Bruck an der Mur\, Lichtensteinstraße 8
CATEGORIES:Hobby/Freizeit
END:VEVENT
BEGIN:VEVENT
DTSTART;TZID=Europe/Vienna:20260324T193000
DTEND;TZID=Europe/Vienna:20260324T193000
DTSTAMP:20260425T155009
CREATED:20260224T134904Z
LAST-MODIFIED:20260224T134904Z
UID:10001408-1774380600-1774380600@www.rundschau-medien.at
SUMMARY:"Ein seltsames Paar"
DESCRIPTION:Theater
URL:https://www.rundschau-medien.at/dil/ein-seltsames-paar/
LOCATION:Stadttheater Leoben
CATEGORIES:Theater
END:VEVENT
BEGIN:VEVENT
DTSTART;TZID=Europe/Vienna:20260325T060000
DTEND;TZID=Europe/Vienna:20260325T120000
DTSTAMP:20260425T155009
CREATED:20260114T143951Z
LAST-MODIFIED:20260121T110934Z
UID:10000285-1774418400-1774440000@www.rundschau-medien.at
SUMMARY:Brucker Wochenmarkt
DESCRIPTION:Vielfältige Produkte der regionalen BäuerInnen und ProduzentInnen.
URL:https://www.rundschau-medien.at/dil/brucker-wochenmarkt/2026-03-25/
LOCATION:Hauptplatz Bruck an der Mur
CATEGORIES:Kulinarik,Markt
END:VEVENT
BEGIN:VEVENT
DTSTART;TZID=Europe/Vienna:20260325T080000
DTEND;TZID=Europe/Vienna:20260325T080000
DTSTAMP:20260425T155009
CREATED:20260227T134756Z
LAST-MODIFIED:20260227T134756Z
UID:10001480-1774425600-1774425600@www.rundschau-medien.at
SUMMARY:Ostermarkt
DESCRIPTION:
URL:https://www.rundschau-medien.at/dil/ostermarkt-9/2026-03-25/
LOCATION:Rathaushof Bruck an der Mur
CATEGORIES:Markt
END:VEVENT
BEGIN:VEVENT
DTSTART;TZID=Europe/Vienna:20260325T083000
DTEND;TZID=Europe/Vienna:20260325T093000
DTSTAMP:20260425T155009
CREATED:20260120T121529Z
LAST-MODIFIED:20260121T110853Z
UID:10000420-1774427400-1774431000@www.rundschau-medien.at
SUMMARY:Aktiv und bewegt älter
DESCRIPTION:Info und Anmeldung unter 0699/14100114
URL:https://www.rundschau-medien.at/dil/aktiv-und-bewegt-aelter/2026-03-25/
LOCATION:Turnsaal Tragöß
CATEGORIES:Gesundheit,Hobby/Freizeit
END:VEVENT
BEGIN:VEVENT
DTSTART;TZID=Europe/Vienna:20260325T103000
DTEND;TZID=Europe/Vienna:20260325T113000
DTSTAMP:20260425T155009
CREATED:20260120T121717Z
LAST-MODIFIED:20260121T110852Z
UID:10000433-1774434600-1774438200@www.rundschau-medien.at
SUMMARY:Aktiv und bewegt älter
DESCRIPTION:Info und Anmeldung unter 0699/14100114
URL:https://www.rundschau-medien.at/dil/aktiv-und-bewegt-aelter-2/2026-03-25/
LOCATION:VAZ St. Katharein/Laming
CATEGORIES:Gesundheit,Hobby/Freizeit
END:VEVENT
BEGIN:VEVENT
DTSTART;TZID=Europe/Vienna:20260325T130000
DTEND;TZID=Europe/Vienna:20260325T180000
DTSTAMP:20260425T155009
CREATED:20260114T142330Z
LAST-MODIFIED:20260121T110934Z
UID:10000205-1774443600-1774461600@www.rundschau-medien.at
SUMMARY:Flohmarkt
DESCRIPTION:Die Behindertenhilfe Krieglach betreibt den größten ständigen Flohmarkt im Mürztal. Mit dem Erlös werden behinderte\, kranke und arme Menschen unterstützt.
URL:https://www.rundschau-medien.at/dil/flohmarkt/2026-03-25/
LOCATION:Behindertenhilfe Krieglach\, Grazer Straße 79\, Krieglach\, 8670
CATEGORIES:Hobby/Freizeit,Markt
END:VEVENT
BEGIN:VEVENT
DTSTART;TZID=Europe/Vienna:20260325T143000
DTEND;TZID=Europe/Vienna:20260325T143000
DTSTAMP:20260425T155009
CREATED:20260311T092805Z
LAST-MODIFIED:20260311T092805Z
UID:10001556-1774449000-1774449000@www.rundschau-medien.at
SUMMARY:Palmweihe
DESCRIPTION:
URL:https://www.rundschau-medien.at/dil/palmweihe/
LOCATION:Volkshilfe-Senioren-Tageszentrum Leoben
CATEGORIES:Gesellschaft
END:VEVENT
END:VCALENDAR