BEGIN:VCALENDAR
VERSION:2.0
PRODID:-//Obersteirische Rundschau - ECPv6.15.20//NONSGML v1.0//EN
CALSCALE:GREGORIAN
METHOD:PUBLISH
X-ORIGINAL-URL:https://www.rundschau-medien.at
X-WR-CALDESC:Veranstaltungen für Obersteirische Rundschau
REFRESH-INTERVAL;VALUE=DURATION:PT1H
X-Robots-Tag:noindex
X-PUBLISHED-TTL:PT1H
BEGIN:VTIMEZONE
TZID:Europe/Vienna
BEGIN:DAYLIGHT
TZOFFSETFROM:+0100
TZOFFSETTO:+0200
TZNAME:CEST
DTSTART:20250330T010000
END:DAYLIGHT
BEGIN:STANDARD
TZOFFSETFROM:+0200
TZOFFSETTO:+0100
TZNAME:CET
DTSTART:20251026T010000
END:STANDARD
BEGIN:DAYLIGHT
TZOFFSETFROM:+0100
TZOFFSETTO:+0200
TZNAME:CEST
DTSTART:20260329T010000
END:DAYLIGHT
BEGIN:STANDARD
TZOFFSETFROM:+0200
TZOFFSETTO:+0100
TZNAME:CET
DTSTART:20261025T010000
END:STANDARD
BEGIN:DAYLIGHT
TZOFFSETFROM:+0100
TZOFFSETTO:+0200
TZNAME:CEST
DTSTART:20270328T010000
END:DAYLIGHT
BEGIN:STANDARD
TZOFFSETFROM:+0200
TZOFFSETTO:+0100
TZNAME:CET
DTSTART:20271031T010000
END:STANDARD
END:VTIMEZONE
BEGIN:VEVENT
DTSTART;TZID=Europe/Vienna:20260320T070000
DTEND;TZID=Europe/Vienna:20260320T120000
DTSTAMP:20260425T124857
CREATED:20260211T095328Z
LAST-MODIFIED:20260211T095328Z
UID:10000901-1773990000-1774008000@www.rundschau-medien.at
SUMMARY:Bauernmarkt
DESCRIPTION:
URL:https://www.rundschau-medien.at/dil/bauernmarkt-26/
LOCATION:Kirchplatz Leoben
CATEGORIES:Markt
END:VEVENT
BEGIN:VEVENT
DTSTART;TZID=Europe/Vienna:20260320T090000
DTEND;TZID=Europe/Vienna:20260320T180000
DTSTAMP:20260425T124857
CREATED:20260218T151125Z
LAST-MODIFIED:20260218T151125Z
UID:10001358-1773997200-1774029600@www.rundschau-medien.at
SUMMARY:Benefizflohmarkt
DESCRIPTION:
URL:https://www.rundschau-medien.at/dil/benefizflohmarkt/
LOCATION:ECE Kapfenberg
CATEGORIES:Markt
END:VEVENT
BEGIN:VEVENT
DTSTART;TZID=Europe/Vienna:20260320T130000
DTEND;TZID=Europe/Vienna:20260320T130000
DTSTAMP:20260425T124857
CREATED:20260304T141711Z
LAST-MODIFIED:20260304T141711Z
UID:10001503-1774011600-1774011600@www.rundschau-medien.at
SUMMARY:Filmfestival
DESCRIPTION:Landesmeisterschaft der steirischen Filmautoren
URL:https://www.rundschau-medien.at/dil/filmfestival/
LOCATION:Spielraum Kapfenberg
CATEGORIES:Hobby/Freizeit
END:VEVENT
BEGIN:VEVENT
DTSTART;TZID=Europe/Vienna:20260320T130000
DTEND;TZID=Europe/Vienna:20260320T180000
DTSTAMP:20260425T124857
CREATED:20260114T142330Z
LAST-MODIFIED:20260121T110934Z
UID:10000203-1774011600-1774029600@www.rundschau-medien.at
SUMMARY:Flohmarkt
DESCRIPTION:Die Behindertenhilfe Krieglach betreibt den größten ständigen Flohmarkt im Mürztal. Mit dem Erlös werden behinderte\, kranke und arme Menschen unterstützt.
URL:https://www.rundschau-medien.at/dil/flohmarkt/2026-03-20/
LOCATION:Behindertenhilfe Krieglach\, Grazer Straße 79\, Krieglach\, 8670
CATEGORIES:Hobby/Freizeit,Markt
END:VEVENT
BEGIN:VEVENT
DTSTART;TZID=Europe/Vienna:20260320T140000
DTEND;TZID=Europe/Vienna:20260320T140000
DTSTAMP:20260425T124857
CREATED:20260224T133802Z
LAST-MODIFIED:20260224T133802Z
UID:10001399-1774015200-1774015200@www.rundschau-medien.at
SUMMARY:Nordic Walking ab der Lebensmitte
DESCRIPTION:
URL:https://www.rundschau-medien.at/dil/nordic-walking-ab-der-lebensmitte-3/
LOCATION:Bräuer Teiche\, Mürzzuschlag
CATEGORIES:Hobby/Freizeit
END:VEVENT
BEGIN:VEVENT
DTSTART;TZID=Europe/Vienna:20260320T140000
DTEND;TZID=Europe/Vienna:20260320T180000
DTSTAMP:20260425T124857
CREATED:20260225T103740Z
LAST-MODIFIED:20260225T103740Z
UID:10001420-1774015200-1774029600@www.rundschau-medien.at
SUMMARY:"Ein Hauch von Ostern"
DESCRIPTION:
URL:https://www.rundschau-medien.at/dil/ein-hauch-von-ostern/
LOCATION:Grazer Straße 2\, Langenwang
CATEGORIES:Markt
END:VEVENT
BEGIN:VEVENT
DTSTART;TZID=Europe/Vienna:20260320T160000
DTEND;TZID=Europe/Vienna:20260320T160000
DTSTAMP:20260425T124857
CREATED:20260224T132646Z
LAST-MODIFIED:20260224T132646Z
UID:10001397-1774022400-1774022400@www.rundschau-medien.at
SUMMARY:"Tarzan"
DESCRIPTION:Musical
URL:https://www.rundschau-medien.at/dil/tarzan/
LOCATION:Live Congress Leoben
CATEGORIES:Theater
END:VEVENT
BEGIN:VEVENT
DTSTART;TZID=Europe/Vienna:20260320T160000
DTEND;TZID=Europe/Vienna:20260320T200000
DTSTAMP:20260425T124857
CREATED:20260224T133707Z
LAST-MODIFIED:20260224T133707Z
UID:10001398-1774022400-1774036800@www.rundschau-medien.at
SUMMARY:Tanzcafé für Junggebliebene
DESCRIPTION:
URL:https://www.rundschau-medien.at/dil/tanzcafe-fuer-junggebliebene/
LOCATION:Gösserbräu Leoben
CATEGORIES:Hobby/Freizeit
END:VEVENT
BEGIN:VEVENT
DTSTART;TZID=Europe/Vienna:20260320T170000
DTEND;TZID=Europe/Vienna:20260320T170000
DTSTAMP:20260425T124857
CREATED:20260216T093738Z
LAST-MODIFIED:20260216T093738Z
UID:10001312-1774026000-1774026000@www.rundschau-medien.at
SUMMARY:Tanznachmittag für Junggebliebene
DESCRIPTION:
URL:https://www.rundschau-medien.at/dil/tanznachmittag-fuer-junggebliebene/
LOCATION:Landhotel Reitingblick\, Trofaiach
CATEGORIES:Gesellschaft
END:VEVENT
BEGIN:VEVENT
DTSTART;TZID=Europe/Vienna:20260320T180000
DTEND;TZID=Europe/Vienna:20260320T180000
DTSTAMP:20260425T124857
CREATED:20260313T102538Z
LAST-MODIFIED:20260313T102957Z
UID:10001574-1774029600-1774029600@www.rundschau-medien.at
SUMMARY:"Die Luft ist rein im Altersheim"
DESCRIPTION:Komödie mit der Theatergruppe Fischbach.
URL:https://www.rundschau-medien.at/dil/die-luft-ist-rein-im-altersheim-3/
LOCATION:Teufelsteinsaal Fischbach
CATEGORIES:Theater
END:VEVENT
BEGIN:VEVENT
DTSTART;TZID=Europe/Vienna:20260320T190000
DTEND;TZID=Europe/Vienna:20260320T190000
DTSTAMP:20260425T124857
CREATED:20260126T113657Z
LAST-MODIFIED:20260126T113657Z
UID:10000594-1774033200-1774033200@www.rundschau-medien.at
SUMMARY:"Dance & Swing into Spring"
DESCRIPTION:Tanzabend
URL:https://www.rundschau-medien.at/dil/dance-swing-into-spring/
LOCATION:Innerberger Gewerkschaftshaus Eisenerz
CATEGORIES:Hobby/Freizeit
END:VEVENT
BEGIN:VEVENT
DTSTART;TZID=Europe/Vienna:20260320T190000
DTEND;TZID=Europe/Vienna:20260320T190000
DTSTAMP:20260425T124857
CREATED:20260304T084947Z
LAST-MODIFIED:20260304T084947Z
UID:10001498-1774033200-1774033200@www.rundschau-medien.at
SUMMARY:Passionssingen
DESCRIPTION:mit dem Singkreis Stanz
URL:https://www.rundschau-medien.at/dil/passionssingen/
LOCATION:Ulrichskirche Stanz
CATEGORIES:Konzert
END:VEVENT
BEGIN:VEVENT
DTSTART;TZID=Europe/Vienna:20260320T193000
DTEND;TZID=Europe/Vienna:20260320T193000
DTSTAMP:20260425T124857
CREATED:20260216T093834Z
LAST-MODIFIED:20260216T093834Z
UID:10001313-1774035000-1774035000@www.rundschau-medien.at
SUMMARY:St. Patrick’s Day
DESCRIPTION:
URL:https://www.rundschau-medien.at/dil/st-patricks-day/
LOCATION:Simon-Mühle Trofaiach
CATEGORIES:Gesellschaft,Konzert
END:VEVENT
BEGIN:VEVENT
DTSTART;TZID=Europe/Vienna:20260320T193000
DTEND;TZID=Europe/Vienna:20260320T193000
DTSTAMP:20260425T124857
CREATED:20260220T104453Z
LAST-MODIFIED:20260220T104453Z
UID:10001362-1774035000-1774035000@www.rundschau-medien.at
SUMMARY:"Wer ist im Bett mit dem Butler?"
DESCRIPTION:Boulevardkomödie mit der Pfarrtheatergruppe Allerheiligen-Mürzhofen
URL:https://www.rundschau-medien.at/dil/wer-ist-im-bett-mit-dem-butler-2/
LOCATION:Kulturhalle Allerheiligen\, Kindberg
CATEGORIES:Theater
END:VEVENT
BEGIN:VEVENT
DTSTART;TZID=Europe/Vienna:20260320T193000
DTEND;TZID=Europe/Vienna:20260320T193000
DTSTAMP:20260425T124857
CREATED:20260224T125107Z
LAST-MODIFIED:20260224T125107Z
UID:10001372-1774035000-1774035000@www.rundschau-medien.at
SUMMARY:"Ein Mann spielt verrückt"
DESCRIPTION:Theater mit der Theaterrunde Firlefanz Pernegg
URL:https://www.rundschau-medien.at/dil/ein-mann-spielt-verrueckt-7/
LOCATION:Gasthaus Ebner\, Bruck-Übelstein
CATEGORIES:Theater
END:VEVENT
BEGIN:VEVENT
DTSTART;TZID=Europe/Vienna:20260320T200000
DTEND;TZID=Europe/Vienna:20260320T200000
DTSTAMP:20260425T124857
CREATED:20260224T132244Z
LAST-MODIFIED:20260224T132244Z
UID:10001396-1774036800-1774036800@www.rundschau-medien.at
SUMMARY:73. "Slam an der Mur"
DESCRIPTION:Poetry Slam
URL:https://www.rundschau-medien.at/dil/73-slam-an-der-mur/
LOCATION:Dachbodentheater Bruck an der Mur
CATEGORIES:Lesung
END:VEVENT
BEGIN:VEVENT
DTSTART;TZID=Europe/Vienna:20260321T060000
DTEND;TZID=Europe/Vienna:20260321T120000
DTSTAMP:20260425T124857
CREATED:20260114T143951Z
LAST-MODIFIED:20260121T110934Z
UID:10000284-1774072800-1774094400@www.rundschau-medien.at
SUMMARY:Brucker Wochenmarkt
DESCRIPTION:Vielfältige Produkte der regionalen BäuerInnen und ProduzentInnen.
URL:https://www.rundschau-medien.at/dil/brucker-wochenmarkt/2026-03-21/
LOCATION:Hauptplatz Bruck an der Mur
CATEGORIES:Kulinarik,Markt
END:VEVENT
BEGIN:VEVENT
DTSTART;TZID=Europe/Vienna:20260321T090000
DTEND;TZID=Europe/Vienna:20260321T090000
DTSTAMP:20260425T124857
CREATED:20260224T134020Z
LAST-MODIFIED:20260224T134020Z
UID:10001401-1774083600-1774083600@www.rundschau-medien.at
SUMMARY:Hundefotografie
DESCRIPTION:Workshop auf Englisch\, Info und Anmeldung auf www.rp-photography.at
URL:https://www.rundschau-medien.at/dil/hundefotografie/
LOCATION:Volkshaus Frohnleiten
CATEGORIES:Hobby/Freizeit
END:VEVENT
BEGIN:VEVENT
DTSTART;TZID=Europe/Vienna:20260321T090000
DTEND;TZID=Europe/Vienna:20260321T090000
DTSTAMP:20260425T124857
CREATED:20260304T141905Z
LAST-MODIFIED:20260304T141905Z
UID:10001504-1774083600-1774083600@www.rundschau-medien.at
SUMMARY:Filmfestival
DESCRIPTION:Landesmeisterschaft der steirischen Filmautoren
URL:https://www.rundschau-medien.at/dil/filmfestival-2/
LOCATION:Spielraum Kapfenberg
CATEGORIES:Hobby/Freizeit
END:VEVENT
BEGIN:VEVENT
DTSTART;TZID=Europe/Vienna:20260321T090000
DTEND;TZID=Europe/Vienna:20260321T130000
DTSTAMP:20260425T124857
CREATED:20260226T115941Z
LAST-MODIFIED:20260226T120409Z
UID:10001436-1774083600-1774098000@www.rundschau-medien.at
SUMMARY:Blutspenden
DESCRIPTION:
URL:https://www.rundschau-medien.at/dil/blutspenden-20/
LOCATION:Mittelschule Birkfeld
CATEGORIES:Gesundheit
END:VEVENT
BEGIN:VEVENT
DTSTART;TZID=Europe/Vienna:20260321T090000
DTEND;TZID=Europe/Vienna:20260321T180000
DTSTAMP:20260425T124857
CREATED:20260218T151349Z
LAST-MODIFIED:20260218T151349Z
UID:10001359-1774083600-1774116000@www.rundschau-medien.at
SUMMARY:Benefizflohmarkt
DESCRIPTION:
URL:https://www.rundschau-medien.at/dil/benefizflohmarkt-2/
LOCATION:ECE Kapfenberg
CATEGORIES:Markt
END:VEVENT
BEGIN:VEVENT
DTSTART;TZID=Europe/Vienna:20260321T100000
DTEND;TZID=Europe/Vienna:20260321T180000
DTSTAMP:20260425T124857
CREATED:20260225T103840Z
LAST-MODIFIED:20260225T103840Z
UID:10001421-1774087200-1774116000@www.rundschau-medien.at
SUMMARY:Ostermarkt
DESCRIPTION:
URL:https://www.rundschau-medien.at/dil/ostermarkt-6/
LOCATION:Volkshaus Langenwang
CATEGORIES:Markt
END:VEVENT
BEGIN:VEVENT
DTSTART;TZID=Europe/Vienna:20260321T100000
DTEND;TZID=Europe/Vienna:20260321T180000
DTSTAMP:20260425T124857
CREATED:20260312T090944Z
LAST-MODIFIED:20260312T090944Z
UID:10001563-1774087200-1774116000@www.rundschau-medien.at
SUMMARY:Frühlingsmarkt
DESCRIPTION:
URL:https://www.rundschau-medien.at/dil/fruehlingsmarkt-2/
LOCATION:Bergland Alpakas\, St. Stefan
CATEGORIES:Markt
END:VEVENT
BEGIN:VEVENT
DTSTART;TZID=Europe/Vienna:20260321T110000
DTEND;TZID=Europe/Vienna:20260321T190000
DTSTAMP:20260425T124857
CREATED:20260305T084238Z
LAST-MODIFIED:20260305T084238Z
UID:10001509-1774090800-1774119600@www.rundschau-medien.at
SUMMARY:Ostern am Alpakahof
DESCRIPTION:
URL:https://www.rundschau-medien.at/dil/ostern-am-alpakahof/
LOCATION:Seeberger Alpakas\, Tragöß-St. Katharein
CATEGORIES:Markt
END:VEVENT
BEGIN:VEVENT
DTSTART;TZID=Europe/Vienna:20260321T140000
DTEND;TZID=Europe/Vienna:20260321T140000
DTSTAMP:20260425T124857
CREATED:20251226T114457Z
LAST-MODIFIED:20260121T110921Z
UID:10000166-1774101600-1774101600@www.rundschau-medien.at
SUMMARY:Jugendstunden
DESCRIPTION:Heimstunden der Pfadfinder Langenwang.
URL:https://www.rundschau-medien.at/dil/jugendstunden-3/2026-03-21/
LOCATION:Pfadfinderheim Langenwang
CATEGORIES:Hobby/Freizeit,Kinder/Jugend
END:VEVENT
BEGIN:VEVENT
DTSTART;TZID=Europe/Vienna:20260321T140000
DTEND;TZID=Europe/Vienna:20260321T140000
DTSTAMP:20260425T124857
CREATED:20260126T113805Z
LAST-MODIFIED:20260312T101845Z
UID:10000595-1774101600-1774101600@www.rundschau-medien.at
SUMMARY:Kaffeenachmittag
DESCRIPTION:mit Kinderflohmarkt ab 12 Uhr
URL:https://www.rundschau-medien.at/dil/kaffeenachmittag/
LOCATION:Kinderfreundeheim Kammern
CATEGORIES:Gesellschaft
END:VEVENT
BEGIN:VEVENT
DTSTART;TZID=Europe/Vienna:20260321T140000
DTEND;TZID=Europe/Vienna:20260321T180000
DTSTAMP:20260425T124857
CREATED:20260225T103938Z
LAST-MODIFIED:20260225T103938Z
UID:10001422-1774101600-1774116000@www.rundschau-medien.at
SUMMARY:"Ein Hauch von Ostern"
DESCRIPTION:
URL:https://www.rundschau-medien.at/dil/ein-hauch-von-ostern-2/
LOCATION:Grazer Straße 2\, Langenwang
CATEGORIES:Markt
END:VEVENT
BEGIN:VEVENT
DTSTART;TZID=Europe/Vienna:20260321T150000
DTEND;TZID=Europe/Vienna:20260321T150000
DTSTAMP:20260425T124857
CREATED:20260224T133854Z
LAST-MODIFIED:20260302T141520Z
UID:10001400-1774105200-1774105200@www.rundschau-medien.at
SUMMARY:Dschungelfeeling  im Brucker Stadtsaal
DESCRIPTION:Das Theater Liberi ist am Samstag\, dem 21. März\, mit dem Familienmusical „Tarzan“ im Brucker Stadtsaal zu Gast. Die moderne Adaption rückt die Zerrissenheit des Titelhelden zwischen Affen- und Menschenwelt in den Mittelpunkt\, dennoch ist das Stück für Kinder ab vier Jahren geeignet. Beginn der Vorstellung ist um 15 Uhr\, Vorverkaufskarten sind auf www.theater-liberi.de erhältlich. \nFoto: Theater Liberi/Böhme
URL:https://www.rundschau-medien.at/dil/tarzan-2/
LOCATION:Stadtsaal Bruck an der Mur
CATEGORIES:Theater
ATTACH;FMTTYPE=image/webp:https://www.rundschau-medien.at/wp-content/uploads/2026/02/Bruck-Musical-Tarzan.webp
END:VEVENT
BEGIN:VEVENT
DTSTART;TZID=Europe/Vienna:20260321T150000
DTEND;TZID=Europe/Vienna:20260321T150000
DTSTAMP:20260425T124857
CREATED:20260313T095556Z
LAST-MODIFIED:20260313T095556Z
UID:10001567-1774105200-1774105200@www.rundschau-medien.at
SUMMARY:Osterzauber in der Töpferei
DESCRIPTION:Info und Anmeldung unter 0681/10474240 oder 0681/10126683
URL:https://www.rundschau-medien.at/dil/osterzauber-in-der-toepferei/
LOCATION:Töpferei Artefactum\, Stift Neuberg
CATEGORIES:Hobby/Freizeit
END:VEVENT
BEGIN:VEVENT
DTSTART;TZID=Europe/Vienna:20260321T180000
DTEND;TZID=Europe/Vienna:20260321T180000
DTSTAMP:20260425T124857
CREATED:20260227T093245Z
LAST-MODIFIED:20260227T093245Z
UID:10001440-1774116000-1774116000@www.rundschau-medien.at
SUMMARY:Frühlingskonzert
DESCRIPTION:mit der Bergkapelle St. Katharein und Soloharfinistin Viktoria Schmittner
URL:https://www.rundschau-medien.at/dil/fruehlingskonzert/
LOCATION:VAZ St. Katharein/Laming
CATEGORIES:Konzert
END:VEVENT
END:VCALENDAR