BEGIN:VCALENDAR
VERSION:2.0
PRODID:-//Obersteirische Rundschau - ECPv6.15.20//NONSGML v1.0//EN
CALSCALE:GREGORIAN
METHOD:PUBLISH
X-ORIGINAL-URL:https://www.rundschau-medien.at
X-WR-CALDESC:Veranstaltungen für Obersteirische Rundschau
REFRESH-INTERVAL;VALUE=DURATION:PT1H
X-Robots-Tag:noindex
X-PUBLISHED-TTL:PT1H
BEGIN:VTIMEZONE
TZID:Europe/Vienna
BEGIN:DAYLIGHT
TZOFFSETFROM:+0100
TZOFFSETTO:+0200
TZNAME:CEST
DTSTART:20250330T010000
END:DAYLIGHT
BEGIN:STANDARD
TZOFFSETFROM:+0200
TZOFFSETTO:+0100
TZNAME:CET
DTSTART:20251026T010000
END:STANDARD
BEGIN:DAYLIGHT
TZOFFSETFROM:+0100
TZOFFSETTO:+0200
TZNAME:CEST
DTSTART:20260329T010000
END:DAYLIGHT
BEGIN:STANDARD
TZOFFSETFROM:+0200
TZOFFSETTO:+0100
TZNAME:CET
DTSTART:20261025T010000
END:STANDARD
BEGIN:DAYLIGHT
TZOFFSETFROM:+0100
TZOFFSETTO:+0200
TZNAME:CEST
DTSTART:20270328T010000
END:DAYLIGHT
BEGIN:STANDARD
TZOFFSETFROM:+0200
TZOFFSETTO:+0100
TZNAME:CET
DTSTART:20271031T010000
END:STANDARD
END:VTIMEZONE
BEGIN:VEVENT
DTSTART;TZID=Europe/Vienna:20260311T060000
DTEND;TZID=Europe/Vienna:20260311T120000
DTSTAMP:20260421T181608
CREATED:20260114T143951Z
LAST-MODIFIED:20260121T110934Z
UID:10000281-1773208800-1773230400@www.rundschau-medien.at
SUMMARY:Brucker Wochenmarkt
DESCRIPTION:Vielfältige Produkte der regionalen BäuerInnen und ProduzentInnen.
URL:https://www.rundschau-medien.at/dil/brucker-wochenmarkt/2026-03-11/
LOCATION:Hauptplatz Bruck an der Mur
CATEGORIES:Kulinarik,Markt
END:VEVENT
BEGIN:VEVENT
DTSTART;TZID=Europe/Vienna:20260311T083000
DTEND;TZID=Europe/Vienna:20260311T093000
DTSTAMP:20260421T181608
CREATED:20260120T121529Z
LAST-MODIFIED:20260121T110853Z
UID:10000418-1773217800-1773221400@www.rundschau-medien.at
SUMMARY:Aktiv und bewegt älter
DESCRIPTION:Info und Anmeldung unter 0699/14100114
URL:https://www.rundschau-medien.at/dil/aktiv-und-bewegt-aelter/2026-03-11/
LOCATION:Turnsaal Tragöß
CATEGORIES:Gesundheit,Hobby/Freizeit
END:VEVENT
BEGIN:VEVENT
DTSTART;TZID=Europe/Vienna:20260311T100000
DTEND;TZID=Europe/Vienna:20260311T100000
DTSTAMP:20260421T181608
CREATED:20260211T094225Z
LAST-MODIFIED:20260211T094225Z
UID:10000891-1773223200-1773223200@www.rundschau-medien.at
SUMMARY:Osterausstellung
DESCRIPTION:
URL:https://www.rundschau-medien.at/dil/osterausstellung-3/
LOCATION:Probelokal der Schneerosner\, Kindberg
CATEGORIES:Hobby/Freizeit
END:VEVENT
BEGIN:VEVENT
DTSTART;TZID=Europe/Vienna:20260311T103000
DTEND;TZID=Europe/Vienna:20260311T113000
DTSTAMP:20260421T181608
CREATED:20260120T121717Z
LAST-MODIFIED:20260121T110852Z
UID:10000431-1773225000-1773228600@www.rundschau-medien.at
SUMMARY:Aktiv und bewegt älter
DESCRIPTION:Info und Anmeldung unter 0699/14100114
URL:https://www.rundschau-medien.at/dil/aktiv-und-bewegt-aelter-2/2026-03-11/
LOCATION:VAZ St. Katharein/Laming
CATEGORIES:Gesundheit,Hobby/Freizeit
END:VEVENT
BEGIN:VEVENT
DTSTART;TZID=Europe/Vienna:20260311T130000
DTEND;TZID=Europe/Vienna:20260311T180000
DTSTAMP:20260421T181608
CREATED:20260114T142330Z
LAST-MODIFIED:20260121T110934Z
UID:10000199-1773234000-1773252000@www.rundschau-medien.at
SUMMARY:Flohmarkt
DESCRIPTION:Die Behindertenhilfe Krieglach betreibt den größten ständigen Flohmarkt im Mürztal. Mit dem Erlös werden behinderte\, kranke und arme Menschen unterstützt.
URL:https://www.rundschau-medien.at/dil/flohmarkt/2026-03-11/
LOCATION:Behindertenhilfe Krieglach\, Grazer Straße 79\, Krieglach\, 8670
CATEGORIES:Hobby/Freizeit,Markt
END:VEVENT
BEGIN:VEVENT
DTSTART;TZID=Europe/Vienna:20260311T150000
DTEND;TZID=Europe/Vienna:20260311T150000
DTSTAMP:20260421T181608
CREATED:20260114T141405Z
LAST-MODIFIED:20260121T110933Z
UID:10000144-1773241200-1773241200@www.rundschau-medien.at
SUMMARY:Handarbeitsrunde
DESCRIPTION:Gemütliche Winternachmittage mit Stricken\, Sticken und Häkeln\, veranstaltet von den steirischen VP-Frauen.
URL:https://www.rundschau-medien.at/dil/handarbeitsrunde-3/2026-03-11/
LOCATION:Pfadfinderheim Langenwang
CATEGORIES:Hobby/Freizeit
END:VEVENT
BEGIN:VEVENT
DTSTART;TZID=Europe/Vienna:20260311T183000
DTEND;TZID=Europe/Vienna:20260311T183000
DTSTAMP:20260421T181608
CREATED:20260224T125920Z
LAST-MODIFIED:20260224T125920Z
UID:10001376-1773253800-1773253800@www.rundschau-medien.at
SUMMARY:Krimiabend
DESCRIPTION:Lesung mit Beate Maly\, Nicole Stranzl und Julia Fürbaß
URL:https://www.rundschau-medien.at/dil/krimiabend/
LOCATION:Stadtbücherei Bruck an der Mur
CATEGORIES:Lesung
END:VEVENT
BEGIN:VEVENT
DTSTART;TZID=Europe/Vienna:20260312T090000
DTEND;TZID=Europe/Vienna:20260312T160000
DTSTAMP:20260421T181608
CREATED:20260211T124327Z
LAST-MODIFIED:20260211T124619Z
UID:10000937-1773306000-1773331200@www.rundschau-medien.at
SUMMARY:Ostermarkt
DESCRIPTION:
URL:https://www.rundschau-medien.at/dil/ostermarkt-3/2026-03-12/
LOCATION:Pflegeheim Johann-Böhm-Straße\, Kapfenberg
CATEGORIES:Markt
END:VEVENT
BEGIN:VEVENT
DTSTART;TZID=Europe/Vienna:20260312T093000
DTEND;TZID=Europe/Vienna:20260312T093000
DTSTAMP:20260421T181608
CREATED:20260211T094612Z
LAST-MODIFIED:20260211T094612Z
UID:10000894-1773307800-1773307800@www.rundschau-medien.at
SUMMARY:"Treffpunkt Tanz"
DESCRIPTION:Info und Anmeldung unter 0699/12277030 oder 0664/7838716
URL:https://www.rundschau-medien.at/dil/treffpunkt-tanz-3/
LOCATION:Stadtsaal Mürzzuschlag
CATEGORIES:Hobby/Freizeit
END:VEVENT
BEGIN:VEVENT
DTSTART;TZID=Europe/Vienna:20260312T100000
DTEND;TZID=Europe/Vienna:20260312T100000
DTSTAMP:20260421T181608
CREATED:20260211T094316Z
LAST-MODIFIED:20260211T094316Z
UID:10000892-1773309600-1773309600@www.rundschau-medien.at
SUMMARY:Osterausstellung
DESCRIPTION:
URL:https://www.rundschau-medien.at/dil/osterausstellung-4/
LOCATION:Probelokal der Schneerosner\, Kindberg
CATEGORIES:Hobby/Freizeit
END:VEVENT
BEGIN:VEVENT
DTSTART;TZID=Europe/Vienna:20260312T150000
DTEND;TZID=Europe/Vienna:20260312T150000
DTSTAMP:20260421T181608
CREATED:20260211T094751Z
LAST-MODIFIED:20260211T094751Z
UID:10000895-1773327600-1773327600@www.rundschau-medien.at
SUMMARY:Workshop "Nadel & Buch"
DESCRIPTION:mit dem Kreativclub\, Info und Anmeldung unter 03852/2555-421
URL:https://www.rundschau-medien.at/dil/workshop-nadel-buch/
LOCATION:Stadtbücherei Mürzzuschlag
CATEGORIES:Hobby/Freizeit
END:VEVENT
BEGIN:VEVENT
DTSTART;TZID=Europe/Vienna:20260312T150000
DTEND;TZID=Europe/Vienna:20260312T163000
DTSTAMP:20260421T181608
CREATED:20260120T120427Z
LAST-MODIFIED:20260121T110852Z
UID:10000406-1773327600-1773333000@www.rundschau-medien.at
SUMMARY:Seniorentanz
DESCRIPTION:„Tanz einfach mit“\, Info und Anmeldung unter 0699/14100114
URL:https://www.rundschau-medien.at/dil/seniorentanz-2/2026-03-12/
LOCATION:Pfarrsaal Bruck
CATEGORIES:Hobby/Freizeit
END:VEVENT
BEGIN:VEVENT
DTSTART;TZID=Europe/Vienna:20260312T170000
DTEND;TZID=Europe/Vienna:20260312T170000
DTSTAMP:20260421T181608
CREATED:20260303T124810Z
LAST-MODIFIED:20260303T124810Z
UID:10001495-1773334800-1773334800@www.rundschau-medien.at
SUMMARY:Vorspielstunde
DESCRIPTION:mit der Querflötenklasse Claudia Prammer
URL:https://www.rundschau-medien.at/dil/vorspielstunde-3/
LOCATION:Musikschule Mariazell
CATEGORIES:Konzert
END:VEVENT
BEGIN:VEVENT
DTSTART;TZID=Europe/Vienna:20260312T180000
DTEND;TZID=Europe/Vienna:20260312T180000
DTSTAMP:20260421T181608
CREATED:20260114T143354Z
LAST-MODIFIED:20260121T110931Z
UID:10000253-1773338400-1773338400@www.rundschau-medien.at
SUMMARY:Nordic-Walking-Runde
DESCRIPTION:Info und Anmeldung unter 0681/10300608.
URL:https://www.rundschau-medien.at/dil/nordic-walking-runde/2026-03-12/
LOCATION:Funcourt Spital am Semmering
CATEGORIES:Gesundheit,Hobby/Freizeit
END:VEVENT
BEGIN:VEVENT
DTSTART;TZID=Europe/Vienna:20260312T180000
DTEND;TZID=Europe/Vienna:20260312T180000
DTSTAMP:20260421T181608
CREATED:20260123T123143Z
LAST-MODIFIED:20260123T123143Z
UID:10000583-1773338400-1773338400@www.rundschau-medien.at
SUMMARY:Wirtschaftsabend
DESCRIPTION:
URL:https://www.rundschau-medien.at/dil/wirtschaftsabend/
LOCATION:Musikschule Eisenerz
CATEGORIES:Service/Info,Vortrag
END:VEVENT
BEGIN:VEVENT
DTSTART;TZID=Europe/Vienna:20260312T190000
DTEND;TZID=Europe/Vienna:20260312T190000
DTSTAMP:20260421T181608
CREATED:20260211T094910Z
LAST-MODIFIED:20260211T094910Z
UID:10000896-1773342000-1773342000@www.rundschau-medien.at
SUMMARY:"Daughters of Britannia"
DESCRIPTION:Konzert mit Miriam Kutrowatz und Andreas Fröschl
URL:https://www.rundschau-medien.at/dil/daughters-of-britannia/
LOCATION:Kunsthaus Mürzzuschlag
CATEGORIES:Konzert
END:VEVENT
BEGIN:VEVENT
DTSTART;TZID=Europe/Vienna:20260312T193000
DTEND;TZID=Europe/Vienna:20260312T193000
DTSTAMP:20260421T181608
CREATED:20260211T094421Z
LAST-MODIFIED:20260211T094421Z
UID:10000893-1773343800-1773343800@www.rundschau-medien.at
SUMMARY:"Eine (fast) perfekte Braut"
DESCRIPTION:Theater
URL:https://www.rundschau-medien.at/dil/eine-fast-perfekte-braut/
LOCATION:Stadttheater Leoben
CATEGORIES:Theater
END:VEVENT
BEGIN:VEVENT
DTSTART;TZID=Europe/Vienna:20260312T193000
DTEND;TZID=Europe/Vienna:20260312T193000
DTSTAMP:20260421T181608
CREATED:20260220T090437Z
LAST-MODIFIED:20260220T090437Z
UID:10001361-1773343800-1773343800@www.rundschau-medien.at
SUMMARY:"Redebedarf?"
DESCRIPTION:Kabarett der Gruppe „Veni Vidi Witzki“
URL:https://www.rundschau-medien.at/dil/redebedarf/
LOCATION:Simon-Mühle Trofaiach
CATEGORIES:Kabarett
END:VEVENT
BEGIN:VEVENT
DTSTART;TZID=Europe/Vienna:20260313T070000
DTEND;TZID=Europe/Vienna:20260313T120000
DTSTAMP:20260421T181608
CREATED:20260211T095058Z
LAST-MODIFIED:20260211T095058Z
UID:10000898-1773385200-1773403200@www.rundschau-medien.at
SUMMARY:Bauernmarkt
DESCRIPTION:
URL:https://www.rundschau-medien.at/dil/bauernmarkt-24/
LOCATION:Kirchplatz Leoben
CATEGORIES:Markt
END:VEVENT
BEGIN:VEVENT
DTSTART;TZID=Europe/Vienna:20260313T090000
DTEND;TZID=Europe/Vienna:20260313T160000
DTSTAMP:20260421T181608
CREATED:20260211T124327Z
LAST-MODIFIED:20260211T124619Z
UID:10000938-1773392400-1773417600@www.rundschau-medien.at
SUMMARY:Ostermarkt
DESCRIPTION:
URL:https://www.rundschau-medien.at/dil/ostermarkt-3/2026-03-13/
LOCATION:Pflegeheim Johann-Böhm-Straße\, Kapfenberg
CATEGORIES:Markt
END:VEVENT
BEGIN:VEVENT
DTSTART;TZID=Europe/Vienna:20260313T090000
DTEND;TZID=Europe/Vienna:20260313T170000
DTSTAMP:20260421T181608
CREATED:20260227T094915Z
LAST-MODIFIED:20260227T094915Z
UID:10001441-1773392400-1773421200@www.rundschau-medien.at
SUMMARY:Osterbasar
DESCRIPTION:
URL:https://www.rundschau-medien.at/dil/osterbasar/
LOCATION:Werkstätte Lebenshilfe Krieglach
CATEGORIES:Markt
END:VEVENT
BEGIN:VEVENT
DTSTART;TZID=Europe/Vienna:20260313T100000
DTEND;TZID=Europe/Vienna:20260313T100000
DTSTAMP:20260421T181608
CREATED:20260211T095003Z
LAST-MODIFIED:20260211T095003Z
UID:10000897-1773396000-1773396000@www.rundschau-medien.at
SUMMARY:Osterausstellung
DESCRIPTION:
URL:https://www.rundschau-medien.at/dil/osterausstellung-5/
LOCATION:Probelokal der Schneerosner\, Kindberg
CATEGORIES:Hobby/Freizeit
END:VEVENT
BEGIN:VEVENT
DTSTART;TZID=Europe/Vienna:20260313T130000
DTEND;TZID=Europe/Vienna:20260313T180000
DTSTAMP:20260421T181608
CREATED:20260114T142330Z
LAST-MODIFIED:20260121T110934Z
UID:10000200-1773406800-1773424800@www.rundschau-medien.at
SUMMARY:Flohmarkt
DESCRIPTION:Die Behindertenhilfe Krieglach betreibt den größten ständigen Flohmarkt im Mürztal. Mit dem Erlös werden behinderte\, kranke und arme Menschen unterstützt.
URL:https://www.rundschau-medien.at/dil/flohmarkt/2026-03-13/
LOCATION:Behindertenhilfe Krieglach\, Grazer Straße 79\, Krieglach\, 8670
CATEGORIES:Hobby/Freizeit,Markt
END:VEVENT
BEGIN:VEVENT
DTSTART;TZID=Europe/Vienna:20260313T140000
DTEND;TZID=Europe/Vienna:20260313T140000
DTSTAMP:20260421T181608
CREATED:20260224T130238Z
LAST-MODIFIED:20260224T130238Z
UID:10001379-1773410400-1773410400@www.rundschau-medien.at
SUMMARY:Nordic Walking ab der Lebensmitte
DESCRIPTION:
URL:https://www.rundschau-medien.at/dil/nordic-walking-ab-der-lebensmitte/
LOCATION:Bräuer Teiche\, Mürzzuschlag
CATEGORIES:Hobby/Freizeit
END:VEVENT
BEGIN:VEVENT
DTSTART;TZID=Europe/Vienna:20260313T143000
DTEND;TZID=Europe/Vienna:20260313T183000
DTSTAMP:20260421T181608
CREATED:20260226T115518Z
LAST-MODIFIED:20260226T120411Z
UID:10001433-1773412200-1773426600@www.rundschau-medien.at
SUMMARY:Blutspenden
DESCRIPTION:
URL:https://www.rundschau-medien.at/dil/blutspenden-17/
LOCATION:Hornbach Leoben
CATEGORIES:Gesundheit
END:VEVENT
BEGIN:VEVENT
DTSTART;TZID=Europe/Vienna:20260313T153000
DTEND;TZID=Europe/Vienna:20260313T153000
DTSTAMP:20260421T181608
CREATED:20260128T142212Z
LAST-MODIFIED:20260128T142212Z
UID:10000799-1773415800-1773415800@www.rundschau-medien.at
SUMMARY:Frühlingsbasteln
DESCRIPTION:Workshop für Eltern und Kinder
URL:https://www.rundschau-medien.at/dil/fruehlingsbasteln/
LOCATION:Seminarraum Spital am Semmering
CATEGORIES:Hobby/Freizeit
END:VEVENT
BEGIN:VEVENT
DTSTART;TZID=Europe/Vienna:20260313T170000
DTEND;TZID=Europe/Vienna:20260313T170000
DTSTAMP:20260421T181608
CREATED:20260224T130140Z
LAST-MODIFIED:20260224T130140Z
UID:10001378-1773421200-1773421200@www.rundschau-medien.at
SUMMARY:Preisschnapsen
DESCRIPTION:mit der ÖVP
URL:https://www.rundschau-medien.at/dil/preisschnapsen-5/
LOCATION:Gasthaus Hoaterwirt\, Frohnleiten
CATEGORIES:Hobby/Freizeit
END:VEVENT
BEGIN:VEVENT
DTSTART;TZID=Europe/Vienna:20260313T170000
DTEND;TZID=Europe/Vienna:20260313T170000
DTSTAMP:20260421T181608
CREATED:20260224T130407Z
LAST-MODIFIED:20260224T130407Z
UID:10001380-1773421200-1773421200@www.rundschau-medien.at
SUMMARY:Kino in der Kirche
DESCRIPTION:Überaschungszeichentrickfilm für KInder
URL:https://www.rundschau-medien.at/dil/kino-in-der-kirche/
LOCATION:Pfarrkiche Hönigsberg\, Mürzzuschlag
CATEGORIES:Kinder/Jugend
END:VEVENT
BEGIN:VEVENT
DTSTART;TZID=Europe/Vienna:20260313T180000
DTEND;TZID=Europe/Vienna:20260313T180000
DTSTAMP:20260421T181608
CREATED:20260216T093206Z
LAST-MODIFIED:20260216T093206Z
UID:10001308-1773424800-1773424800@www.rundschau-medien.at
SUMMARY:Rocknight
DESCRIPTION:Musikschulkonzert
URL:https://www.rundschau-medien.at/dil/rocknight/
LOCATION:Saal der Musikschule Trofaiach
CATEGORIES:Konzert
END:VEVENT
BEGIN:VEVENT
DTSTART;TZID=Europe/Vienna:20260313T180000
DTEND;TZID=Europe/Vienna:20260313T180000
DTSTAMP:20260421T181608
CREATED:20260313T102346Z
LAST-MODIFIED:20260313T102958Z
UID:10001572-1773424800-1773424800@www.rundschau-medien.at
SUMMARY:"Die Luft ist rein im Altersheim"
DESCRIPTION:Komödie mit der Theatergruppe Fischbach.
URL:https://www.rundschau-medien.at/dil/die-luft-ist-rein-im-altersheim/
LOCATION:Teufelsteinsaal Fischbach
CATEGORIES:Theater
END:VEVENT
END:VCALENDAR