BEGIN:VCALENDAR
VERSION:2.0
PRODID:-//Obersteirische Rundschau - ECPv6.15.20//NONSGML v1.0//EN
CALSCALE:GREGORIAN
METHOD:PUBLISH
X-ORIGINAL-URL:https://www.rundschau-medien.at
X-WR-CALDESC:Veranstaltungen für Obersteirische Rundschau
REFRESH-INTERVAL;VALUE=DURATION:PT1H
X-Robots-Tag:noindex
X-PUBLISHED-TTL:PT1H
BEGIN:VTIMEZONE
TZID:Europe/Vienna
BEGIN:DAYLIGHT
TZOFFSETFROM:+0100
TZOFFSETTO:+0200
TZNAME:CEST
DTSTART:20250330T010000
END:DAYLIGHT
BEGIN:STANDARD
TZOFFSETFROM:+0200
TZOFFSETTO:+0100
TZNAME:CET
DTSTART:20251026T010000
END:STANDARD
BEGIN:DAYLIGHT
TZOFFSETFROM:+0100
TZOFFSETTO:+0200
TZNAME:CEST
DTSTART:20260329T010000
END:DAYLIGHT
BEGIN:STANDARD
TZOFFSETFROM:+0200
TZOFFSETTO:+0100
TZNAME:CET
DTSTART:20261025T010000
END:STANDARD
BEGIN:DAYLIGHT
TZOFFSETFROM:+0100
TZOFFSETTO:+0200
TZNAME:CEST
DTSTART:20270328T010000
END:DAYLIGHT
BEGIN:STANDARD
TZOFFSETFROM:+0200
TZOFFSETTO:+0100
TZNAME:CET
DTSTART:20271031T010000
END:STANDARD
END:VTIMEZONE
BEGIN:VEVENT
DTSTART;TZID=Europe/Vienna:20260220T070000
DTEND;TZID=Europe/Vienna:20260220T120000
DTSTAMP:20260425T141238
CREATED:20260122T133656Z
LAST-MODIFIED:20260122T133656Z
UID:10000550-1771570800-1771588800@www.rundschau-medien.at
SUMMARY:Bauernmarkt
DESCRIPTION:
URL:https://www.rundschau-medien.at/dil/bauernmarkt-8/
LOCATION:Kirchplatz Leoben
CATEGORIES:Markt
END:VEVENT
BEGIN:VEVENT
DTSTART;TZID=Europe/Vienna:20260220T090000
DTEND;TZID=Europe/Vienna:20260220T090000
DTSTAMP:20260425T141238
CREATED:20260122T133606Z
LAST-MODIFIED:20260122T133606Z
UID:10000549-1771578000-1771578000@www.rundschau-medien.at
SUMMARY:Workshop "Round-Dance"
DESCRIPTION:Info und Anmeldung unter 0660/559995656
URL:https://www.rundschau-medien.at/dil/workshop-round-dance/
LOCATION:Gute-Geschichte-Raum\, ECE Kapfenberg
CATEGORIES:Hobby/Freizeit
END:VEVENT
BEGIN:VEVENT
DTSTART;TZID=Europe/Vienna:20260220T090000
DTEND;TZID=Europe/Vienna:20260220T120000
DTSTAMP:20260425T141238
CREATED:20260122T133430Z
LAST-MODIFIED:20260122T133430Z
UID:10000548-1771578000-1771588800@www.rundschau-medien.at
SUMMARY:Trachtenflohmarkt
DESCRIPTION:
URL:https://www.rundschau-medien.at/dil/trachtenflohmarkt-5/
LOCATION:Hauptplatz 8 Mariazell
CATEGORIES:Markt
END:VEVENT
BEGIN:VEVENT
DTSTART;TZID=Europe/Vienna:20260220T130000
DTEND;TZID=Europe/Vienna:20260220T180000
DTSTAMP:20260425T141238
CREATED:20260114T142330Z
LAST-MODIFIED:20260121T110934Z
UID:10000191-1771592400-1771610400@www.rundschau-medien.at
SUMMARY:Flohmarkt
DESCRIPTION:Die Behindertenhilfe Krieglach betreibt den größten ständigen Flohmarkt im Mürztal. Mit dem Erlös werden behinderte\, kranke und arme Menschen unterstützt.
URL:https://www.rundschau-medien.at/dil/flohmarkt/2026-02-20/
LOCATION:Behindertenhilfe Krieglach\, Grazer Straße 79\, Krieglach\, 8670
CATEGORIES:Hobby/Freizeit,Markt
END:VEVENT
BEGIN:VEVENT
DTSTART;TZID=Europe/Vienna:20260220T140000
DTEND;TZID=Europe/Vienna:20260220T170000
DTSTAMP:20260425T141238
CREATED:20260204T104134Z
LAST-MODIFIED:20260204T104134Z
UID:10000836-1771596000-1771606800@www.rundschau-medien.at
SUMMARY:Spielenachmittag
DESCRIPTION:
URL:https://www.rundschau-medien.at/dil/spielenachmittag-2/
LOCATION:Pfarrhof Krieglach
CATEGORIES:Kinder/Jugend
END:VEVENT
BEGIN:VEVENT
DTSTART;TZID=Europe/Vienna:20260220T183000
DTEND;TZID=Europe/Vienna:20260220T183000
DTSTAMP:20260425T141238
CREATED:20260128T134056Z
LAST-MODIFIED:20260128T134154Z
UID:10000795-1771612200-1771612200@www.rundschau-medien.at
SUMMARY:Krimilesung in der Bücherei
DESCRIPTION:Am Freitag\, dem 20. Februar\, ist Claudia Rossbacher für eine Lesung in der Bücherei der Marktgemeinde St. Lorenzen zu Gast. Die Bestsellerautorin\, deren Steirerkrimis schon mehrfach als literarische Vorlagen für erfolgreiche TV-Filme Verwendung fanden\, stellt dabei ihren aktuellen Roman „Steirerzwist“ vor. Im Anschluss an die Buchpräsentation haben BesucherInnen die Möglichkeit\, die Autorin persönlich kennenzulernen und mehr über die Hintergründe\, die Entstehung und die Verfilmungen der Krimiserie rund um die Protagonisten Sandra Mohr und Sascha Bergmann zu erfahren. Beginn der Veranstaltung ist um 18.30 Uhr. \nFoto: Novak
URL:https://www.rundschau-medien.at/dil/krimilesung-in-der-buecherei/
LOCATION:Gemeindebücherei St. Lorenzen
CATEGORIES:Lesung
ATTACH;FMTTYPE=image/webp:https://www.rundschau-medien.at/wp-content/uploads/2026/01/St-Lorenzen-Lesung-Rossbacher-Novak.webp
END:VEVENT
BEGIN:VEVENT
DTSTART;TZID=Europe/Vienna:20260220T193000
DTEND;TZID=Europe/Vienna:20260220T193000
DTSTAMP:20260425T141238
CREATED:20260127T144030Z
LAST-MODIFIED:20260127T144030Z
UID:10000686-1771615800-1771615800@www.rundschau-medien.at
SUMMARY:Konzert
DESCRIPTION:mit „Louie’s Cage Percussion“
URL:https://www.rundschau-medien.at/dil/konzert-9/
LOCATION:Kunsthaus Mürzzuschlag
CATEGORIES:Konzert
END:VEVENT
BEGIN:VEVENT
DTSTART;TZID=Europe/Vienna:20260221T060000
DTEND;TZID=Europe/Vienna:20260221T120000
DTSTAMP:20260425T141238
CREATED:20260114T143951Z
LAST-MODIFIED:20260121T110934Z
UID:10000276-1771653600-1771675200@www.rundschau-medien.at
SUMMARY:Brucker Wochenmarkt
DESCRIPTION:Vielfältige Produkte der regionalen BäuerInnen und ProduzentInnen.
URL:https://www.rundschau-medien.at/dil/brucker-wochenmarkt/2026-02-21/
LOCATION:Hauptplatz Bruck an der Mur
CATEGORIES:Kulinarik,Markt
END:VEVENT
BEGIN:VEVENT
DTSTART;TZID=Europe/Vienna:20260221T073000
DTEND;TZID=Europe/Vienna:20260221T073000
DTSTAMP:20260425T141238
CREATED:20260122T133952Z
LAST-MODIFIED:20260122T133952Z
UID:10000552-1771659000-1771659000@www.rundschau-medien.at
SUMMARY:Schitour ins Lachtal
DESCRIPTION:Mit den Naturfreunden Mürzhofen\, Info unter 0676/5620202
URL:https://www.rundschau-medien.at/dil/schitour-ins-lachtal/
LOCATION:Dorfplatz Mürzhofen\, Kindberg
CATEGORIES:Hobby/Freizeit
END:VEVENT
BEGIN:VEVENT
DTSTART;TZID=Europe/Vienna:20260221T083000
DTEND;TZID=Europe/Vienna:20260221T083000
DTSTAMP:20260425T141238
CREATED:20260122T134459Z
LAST-MODIFIED:20260122T134459Z
UID:10000555-1771662600-1771662600@www.rundschau-medien.at
SUMMARY:"Der Berg erklingt"
DESCRIPTION:Blasmusiktag am Stuhleck
URL:https://www.rundschau-medien.at/dil/der-berg-erklingt/
LOCATION:Hütten und Kärntnerhof am Stuhleck\, Spital am Semmering
CATEGORIES:Konzert
END:VEVENT
BEGIN:VEVENT
DTSTART;TZID=Europe/Vienna:20260221T090000
DTEND;TZID=Europe/Vienna:20260221T120000
DTSTAMP:20260425T141238
CREATED:20260122T133824Z
LAST-MODIFIED:20260122T133824Z
UID:10000551-1771664400-1771675200@www.rundschau-medien.at
SUMMARY:Trachtenflohmarkt
DESCRIPTION:
URL:https://www.rundschau-medien.at/dil/trachtenflohmarkt-6/
LOCATION:Hauptplatz 8 Mariazell
CATEGORIES:Markt
END:VEVENT
BEGIN:VEVENT
DTSTART;TZID=Europe/Vienna:20260221T140000
DTEND;TZID=Europe/Vienna:20260221T140000
DTSTAMP:20260425T141238
CREATED:20251226T114457Z
LAST-MODIFIED:20260121T110921Z
UID:10000162-1771682400-1771682400@www.rundschau-medien.at
SUMMARY:Jugendstunden
DESCRIPTION:Heimstunden der Pfadfinder Langenwang.
URL:https://www.rundschau-medien.at/dil/jugendstunden-3/2026-02-21/
LOCATION:Pfadfinderheim Langenwang
CATEGORIES:Hobby/Freizeit,Kinder/Jugend
END:VEVENT
BEGIN:VEVENT
DTSTART;TZID=Europe/Vienna:20260221T170000
DTEND;TZID=Europe/Vienna:20260221T170000
DTSTAMP:20260425T141238
CREATED:20260127T144353Z
LAST-MODIFIED:20260127T144353Z
UID:10000688-1771693200-1771693200@www.rundschau-medien.at
SUMMARY:"Alles und nichts"
DESCRIPTION:Konzert mit mehreren Bands
URL:https://www.rundschau-medien.at/dil/alles-und-nichts/
LOCATION:Bunte Fabrik\, Kapfenberg
CATEGORIES:Konzert
END:VEVENT
BEGIN:VEVENT
DTSTART;TZID=Europe/Vienna:20260221T183000
DTEND;TZID=Europe/Vienna:20260221T183000
DTSTAMP:20260425T141238
CREATED:20260127T144202Z
LAST-MODIFIED:20260127T144202Z
UID:10000687-1771698600-1771698600@www.rundschau-medien.at
SUMMARY:Eisdisco
DESCRIPTION:Closing Party
URL:https://www.rundschau-medien.at/dil/eisdisco/
LOCATION:Eishalle Frohnleiten
CATEGORIES:Kinder/Jugend
END:VEVENT
BEGIN:VEVENT
DTSTART;TZID=Europe/Vienna:20260221T190000
DTEND;TZID=Europe/Vienna:20260221T190000
DTSTAMP:20260425T141238
CREATED:20260104T074315Z
LAST-MODIFIED:20260121T110852Z
UID:10000331-1771700400-1771700400@www.rundschau-medien.at
SUMMARY:BT Füchse – Schwaz
DESCRIPTION:Handball\, HLA Meisterliga
URL:https://www.rundschau-medien.at/dil/bt-fuechse-schwaz/
LOCATION:Sporthalle Bruck an der Mur
CATEGORIES:Sport
END:VEVENT
BEGIN:VEVENT
DTSTART;TZID=Europe/Vienna:20260221T190000
DTEND;TZID=Europe/Vienna:20260221T190000
DTSTAMP:20260425T141238
CREATED:20260127T144505Z
LAST-MODIFIED:20260127T144505Z
UID:10000689-1771700400-1771700400@www.rundschau-medien.at
SUMMARY:"Steirer san ma söwa do"
DESCRIPTION:Konzert mit Joe Heim und mehreren Musikgruppen
URL:https://www.rundschau-medien.at/dil/steirer-san-ma-soewa-do/
LOCATION:Veranstaltungszentrum Krieglach
CATEGORIES:Konzert
END:VEVENT
BEGIN:VEVENT
DTSTART;TZID=Europe/Vienna:20260221T193000
DTEND;TZID=Europe/Vienna:20260221T193000
DTSTAMP:20260425T141238
CREATED:20260128T131304Z
LAST-MODIFIED:20260128T131304Z
UID:10000794-1771702200-1771702200@www.rundschau-medien.at
SUMMARY:"Auslese"
DESCRIPTION:Kabarett mit Mike Supancic
URL:https://www.rundschau-medien.at/dil/auslese/
LOCATION:Theaterstadl Mariazell
CATEGORIES:Kabarett
END:VEVENT
BEGIN:VEVENT
DTSTART;TZID=Europe/Vienna:20260223T130000
DTEND;TZID=Europe/Vienna:20260223T180000
DTSTAMP:20260425T141238
CREATED:20260114T142330Z
LAST-MODIFIED:20260121T110934Z
UID:10000192-1771851600-1771869600@www.rundschau-medien.at
SUMMARY:Flohmarkt
DESCRIPTION:Die Behindertenhilfe Krieglach betreibt den größten ständigen Flohmarkt im Mürztal. Mit dem Erlös werden behinderte\, kranke und arme Menschen unterstützt.
URL:https://www.rundschau-medien.at/dil/flohmarkt/2026-02-23/
LOCATION:Behindertenhilfe Krieglach\, Grazer Straße 79\, Krieglach\, 8670
CATEGORIES:Hobby/Freizeit,Markt
END:VEVENT
BEGIN:VEVENT
DTSTART;TZID=Europe/Vienna:20260223T180000
DTEND;TZID=Europe/Vienna:20260223T193000
DTSTAMP:20260425T141238
CREATED:20260120T115558Z
LAST-MODIFIED:20260121T110857Z
UID:10000339-1771869600-1771875000@www.rundschau-medien.at
SUMMARY:Seniorentanz
DESCRIPTION:„Tanz einfach mit“\, Info und Anmeldung unter 0699/14100114
URL:https://www.rundschau-medien.at/dil/seniorentanz/2026-02-23/
LOCATION:Aidora-Eventcenter Oberaich\, Bruck an der Mur
CATEGORIES:Hobby/Freizeit
END:VEVENT
BEGIN:VEVENT
DTSTART;TZID=Europe/Vienna:20260223T190000
DTEND;TZID=Europe/Vienna:20260223T190000
DTSTAMP:20260425T141238
CREATED:20260129T113426Z
LAST-MODIFIED:20260217T085516Z
UID:10000805-1771873200-1771873200@www.rundschau-medien.at
SUMMARY:Reiseeindrücke aus Albanien
DESCRIPTION:Der Obersteirische Kulturbund lädt am Montag\, dem 23. Februar\, zum Multimediavortrag „Albanien – von der völligen Isolation zum aufstrebenden Reiseland“ von Manfred Maier in das Collegium Josefinum in Leoben. Der Referent präsentiert dabei vielfältige Eindrücke von einer 2000 Kilometer langen Rundreise durch das Land. Dabei spannt sich der Bogen von Bergen\, Fjorden\, Seen und Städten bis zur Festung Kruja\, die bis heute als Nationalheiligtum gilt. Beginn der Veranstaltung ist um 19 Uhr.
URL:https://www.rundschau-medien.at/dil/reiseeindruecke-aus-albanien/
LOCATION:Collegium Josefinum Leoben
CATEGORIES:Vortrag
END:VEVENT
BEGIN:VEVENT
DTSTART;TZID=Europe/Vienna:20260223T193000
DTEND;TZID=Europe/Vienna:20260223T193000
DTSTAMP:20260425T141238
CREATED:20260122T134628Z
LAST-MODIFIED:20260122T134628Z
UID:10000556-1771875000-1771875000@www.rundschau-medien.at
SUMMARY:"Norwegen – Schweden – Lappland"
DESCRIPTION:Multimediavortrag von Wolfgang Fuchs
URL:https://www.rundschau-medien.at/dil/norwegen-schweden-lappland-4/
LOCATION:Stadtsaal Mürzzuschlag
CATEGORIES:Vortrag
END:VEVENT
BEGIN:VEVENT
DTSTART;TZID=Europe/Vienna:20260224T070000
DTEND;TZID=Europe/Vienna:20260224T120000
DTSTAMP:20260425T141238
CREATED:20260122T134857Z
LAST-MODIFIED:20260122T134857Z
UID:10000558-1771916400-1771934400@www.rundschau-medien.at
SUMMARY:Bauernmarkt
DESCRIPTION:
URL:https://www.rundschau-medien.at/dil/bauernmarkt-9/
LOCATION:Kirchplatz Leoben
CATEGORIES:Markt
END:VEVENT
BEGIN:VEVENT
DTSTART;TZID=Europe/Vienna:20260224T160000
DTEND;TZID=Europe/Vienna:20260224T160000
DTSTAMP:20260425T141238
CREATED:20260127T144743Z
LAST-MODIFIED:20260127T144743Z
UID:10000690-1771948800-1771948800@www.rundschau-medien.at
SUMMARY:"Ein Arbeiterleben im Stahlwerk Mürzzuschlag"
DESCRIPTION:Buchpräsentation von Werner Lang
URL:https://www.rundschau-medien.at/dil/ein-arbeiterleben-im-stahlwerk-muerzzuschlag/
LOCATION:Stadtbücherei Mürzzuschlag
CATEGORIES:Lesung
END:VEVENT
BEGIN:VEVENT
DTSTART;TZID=Europe/Vienna:20260224T160000
DTEND;TZID=Europe/Vienna:20260224T190000
DTSTAMP:20260425T141238
CREATED:20260130T142206Z
LAST-MODIFIED:20260130T142332Z
UID:10000824-1771948800-1771959600@www.rundschau-medien.at
SUMMARY:Blutspenden
DESCRIPTION:
URL:https://www.rundschau-medien.at/dil/blutspenden-10/
LOCATION:Volksheim St. Sebastian\, Mariazell
CATEGORIES:Gesundheit
END:VEVENT
BEGIN:VEVENT
DTSTART;TZID=Europe/Vienna:20260224T190000
DTEND;TZID=Europe/Vienna:20260224T190000
DTSTAMP:20260425T141238
CREATED:20260112T145323Z
LAST-MODIFIED:20260121T110850Z
UID:10000332-1771959600-1771959600@www.rundschau-medien.at
SUMMARY:"Die Entwicklung der bewegten Bilder"
DESCRIPTION:Filmabend mit Günther Agath.
URL:https://www.rundschau-medien.at/dil/die-entwicklung-der-bewegten-bilder/
LOCATION:Filmklublokal Volksschule Redfeld\, Kapfenberg
CATEGORIES:Kultur,Vortrag
END:VEVENT
BEGIN:VEVENT
DTSTART;TZID=Europe/Vienna:20260224T193000
DTEND;TZID=Europe/Vienna:20260224T193000
DTSTAMP:20260425T141238
CREATED:20260122T134805Z
LAST-MODIFIED:20260122T134805Z
UID:10000557-1771961400-1771961400@www.rundschau-medien.at
SUMMARY:"Norwegen – Schweden – Lappland"
DESCRIPTION:Multimediavortrag von Wolfgang Fuchs
URL:https://www.rundschau-medien.at/dil/norwegen-schweden-lappland-5/
LOCATION:Volkshaus Frohnleiten
CATEGORIES:Vortrag
END:VEVENT
BEGIN:VEVENT
DTSTART;TZID=Europe/Vienna:20260225T060000
DTEND;TZID=Europe/Vienna:20260225T120000
DTSTAMP:20260425T141238
CREATED:20260114T143951Z
LAST-MODIFIED:20260121T110934Z
UID:10000277-1771999200-1772020800@www.rundschau-medien.at
SUMMARY:Brucker Wochenmarkt
DESCRIPTION:Vielfältige Produkte der regionalen BäuerInnen und ProduzentInnen.
URL:https://www.rundschau-medien.at/dil/brucker-wochenmarkt/2026-02-25/
LOCATION:Hauptplatz Bruck an der Mur
CATEGORIES:Kulinarik,Markt
END:VEVENT
BEGIN:VEVENT
DTSTART;TZID=Europe/Vienna:20260225T083000
DTEND;TZID=Europe/Vienna:20260225T093000
DTSTAMP:20260425T141238
CREATED:20260120T121529Z
LAST-MODIFIED:20260121T110853Z
UID:10000416-1772008200-1772011800@www.rundschau-medien.at
SUMMARY:Aktiv und bewegt älter
DESCRIPTION:Info und Anmeldung unter 0699/14100114
URL:https://www.rundschau-medien.at/dil/aktiv-und-bewegt-aelter/2026-02-25/
LOCATION:Turnsaal Tragöß
CATEGORIES:Gesundheit,Hobby/Freizeit
END:VEVENT
BEGIN:VEVENT
DTSTART;TZID=Europe/Vienna:20260225T103000
DTEND;TZID=Europe/Vienna:20260225T113000
DTSTAMP:20260425T141238
CREATED:20260120T121717Z
LAST-MODIFIED:20260121T110852Z
UID:10000429-1772015400-1772019000@www.rundschau-medien.at
SUMMARY:Aktiv und bewegt älter
DESCRIPTION:Info und Anmeldung unter 0699/14100114
URL:https://www.rundschau-medien.at/dil/aktiv-und-bewegt-aelter-2/2026-02-25/
LOCATION:VAZ St. Katharein/Laming
CATEGORIES:Gesundheit,Hobby/Freizeit
END:VEVENT
BEGIN:VEVENT
DTSTART;TZID=Europe/Vienna:20260225T130000
DTEND;TZID=Europe/Vienna:20260225T180000
DTSTAMP:20260425T141238
CREATED:20260114T142330Z
LAST-MODIFIED:20260121T110934Z
UID:10000193-1772024400-1772042400@www.rundschau-medien.at
SUMMARY:Flohmarkt
DESCRIPTION:Die Behindertenhilfe Krieglach betreibt den größten ständigen Flohmarkt im Mürztal. Mit dem Erlös werden behinderte\, kranke und arme Menschen unterstützt.
URL:https://www.rundschau-medien.at/dil/flohmarkt/2026-02-25/
LOCATION:Behindertenhilfe Krieglach\, Grazer Straße 79\, Krieglach\, 8670
CATEGORIES:Hobby/Freizeit,Markt
END:VEVENT
END:VCALENDAR