BEGIN:VCALENDAR
VERSION:2.0
PRODID:-//Obersteirische Rundschau - ECPv6.15.20//NONSGML v1.0//EN
CALSCALE:GREGORIAN
METHOD:PUBLISH
X-ORIGINAL-URL:https://www.rundschau-medien.at
X-WR-CALDESC:Veranstaltungen für Obersteirische Rundschau
REFRESH-INTERVAL;VALUE=DURATION:PT1H
X-Robots-Tag:noindex
X-PUBLISHED-TTL:PT1H
BEGIN:VTIMEZONE
TZID:Europe/Vienna
BEGIN:DAYLIGHT
TZOFFSETFROM:+0100
TZOFFSETTO:+0200
TZNAME:CEST
DTSTART:20250330T010000
END:DAYLIGHT
BEGIN:STANDARD
TZOFFSETFROM:+0200
TZOFFSETTO:+0100
TZNAME:CET
DTSTART:20251026T010000
END:STANDARD
BEGIN:DAYLIGHT
TZOFFSETFROM:+0100
TZOFFSETTO:+0200
TZNAME:CEST
DTSTART:20260329T010000
END:DAYLIGHT
BEGIN:STANDARD
TZOFFSETFROM:+0200
TZOFFSETTO:+0100
TZNAME:CET
DTSTART:20261025T010000
END:STANDARD
BEGIN:DAYLIGHT
TZOFFSETFROM:+0100
TZOFFSETTO:+0200
TZNAME:CEST
DTSTART:20270328T010000
END:DAYLIGHT
BEGIN:STANDARD
TZOFFSETFROM:+0200
TZOFFSETTO:+0100
TZNAME:CET
DTSTART:20271031T010000
END:STANDARD
END:VTIMEZONE
BEGIN:VEVENT
DTSTART;TZID=Europe/Vienna:20260215T100000
DTEND;TZID=Europe/Vienna:20260215T100000
DTSTAMP:20260425T223727
CREATED:20260122T130932Z
LAST-MODIFIED:20260122T130932Z
UID:10000534-1771149600-1771149600@www.rundschau-medien.at
SUMMARY:Faschingsumzug
DESCRIPTION:
URL:https://www.rundschau-medien.at/dil/faschingsumzug/
LOCATION:Hauptplatz Mariazell
CATEGORIES:Gesellschaft
END:VEVENT
BEGIN:VEVENT
DTSTART;TZID=Europe/Vienna:20260215T140000
DTEND;TZID=Europe/Vienna:20260215T140000
DTSTAMP:20260425T223727
CREATED:20260112T144838Z
LAST-MODIFIED:20260121T110854Z
UID:10000061-1771164000-1771164000@www.rundschau-medien.at
SUMMARY:Kinderball
DESCRIPTION:Eine Veranstaltung der Pfadfinder.
URL:https://www.rundschau-medien.at/dil/kinderball/
LOCATION:Volkshaus Langenwang
CATEGORIES:Kinder/Jugend
END:VEVENT
BEGIN:VEVENT
DTSTART;TZID=Europe/Vienna:20260215T140000
DTEND;TZID=Europe/Vienna:20260215T140000
DTSTAMP:20260425T223727
CREATED:20260122T130716Z
LAST-MODIFIED:20260122T130716Z
UID:10000532-1771164000-1771164000@www.rundschau-medien.at
SUMMARY:Kinderfasching
DESCRIPTION:
URL:https://www.rundschau-medien.at/dil/kinderfasching-7/
LOCATION:Innerberger Gewerkschaftshaus Eisenerz
CATEGORIES:Kinder/Jugend
END:VEVENT
BEGIN:VEVENT
DTSTART;TZID=Europe/Vienna:20260215T140000
DTEND;TZID=Europe/Vienna:20260215T140000
DTSTAMP:20260425T223727
CREATED:20260122T130821Z
LAST-MODIFIED:20260202T141802Z
UID:10000533-1771164000-1771164000@www.rundschau-medien.at
SUMMARY:Großer Ball der Kleinen in Kammern
DESCRIPTION:Die Kinderfreunde Kammern laden am Faschingssonntag\, dem 15. Februar\, zum Kindermaskenball in den Festsaal der Volksschule. Der „Große Ball der Kleinen“ beginnt um 14 Uhr\, selbstverständlich sind neben den Kindern auch Eltern\, Großeltern und sonstige Angehörige herzlich zu der Veranstaltung eingeladen.
URL:https://www.rundschau-medien.at/dil/kindermaskenball-2/
LOCATION:Volksschule Kammern
CATEGORIES:Kinder/Jugend
END:VEVENT
BEGIN:VEVENT
DTSTART;TZID=Europe/Vienna:20260215T140000
DTEND;TZID=Europe/Vienna:20260215T140000
DTSTAMP:20260425T223727
CREATED:20260127T141454Z
LAST-MODIFIED:20260127T141454Z
UID:10000670-1771164000-1771164000@www.rundschau-medien.at
SUMMARY:Kindermaskenball
DESCRIPTION:
URL:https://www.rundschau-medien.at/dil/kindermaskenball-4/
LOCATION:Volkshaus Kindberg
CATEGORIES:Kinder/Jugend
END:VEVENT
BEGIN:VEVENT
DTSTART;TZID=Europe/Vienna:20260215T140000
DTEND;TZID=Europe/Vienna:20260215T140000
DTSTAMP:20260425T223727
CREATED:20260127T141547Z
LAST-MODIFIED:20260127T141547Z
UID:10000671-1771164000-1771164000@www.rundschau-medien.at
SUMMARY:Kindermaskenball
DESCRIPTION:
URL:https://www.rundschau-medien.at/dil/kindermaskenball-5/
LOCATION:Veranstaltungszentrum Krieglach
CATEGORIES:Kinder/Jugend
END:VEVENT
BEGIN:VEVENT
DTSTART;TZID=Europe/Vienna:20260215T140000
DTEND;TZID=Europe/Vienna:20260215T140000
DTSTAMP:20260425T223727
CREATED:20260127T141707Z
LAST-MODIFIED:20260127T141707Z
UID:10000672-1771164000-1771164000@www.rundschau-medien.at
SUMMARY:"Santissima"
DESCRIPTION:Finissage der Ausstellung von Christy Astuy
URL:https://www.rundschau-medien.at/dil/santissima/
LOCATION:Kunsthaus Mürzzuschlag
CATEGORIES:Kultur
END:VEVENT
BEGIN:VEVENT
DTSTART;TZID=Europe/Vienna:20260215T140000
DTEND;TZID=Europe/Vienna:20260215T170000
DTSTAMP:20260425T223727
CREATED:20260203T121904Z
LAST-MODIFIED:20260203T121904Z
UID:10000834-1771164000-1771174800@www.rundschau-medien.at
SUMMARY:Kinderfasching
DESCRIPTION:mit Clown Kasimir
URL:https://www.rundschau-medien.at/dil/kinderfasching-9/
LOCATION:Dorfsaal Kraubath
CATEGORIES:Kinder/Jugend
END:VEVENT
BEGIN:VEVENT
DTSTART;TZID=Europe/Vienna:20260215T140000
DTEND;TZID=Europe/Vienna:20260215T180000
DTSTAMP:20260425T223727
CREATED:20260122T130530Z
LAST-MODIFIED:20260122T130530Z
UID:10000531-1771164000-1771178400@www.rundschau-medien.at
SUMMARY:Kinderfasching
DESCRIPTION:
URL:https://www.rundschau-medien.at/dil/kinderfasching-6/
LOCATION:Cafe Segrafredo Bruck an der Mur
CATEGORIES:Kinder/Jugend
END:VEVENT
BEGIN:VEVENT
DTSTART;TZID=Europe/Vienna:20260215T143000
DTEND;TZID=Europe/Vienna:20260215T143000
DTSTAMP:20260425T223727
CREATED:20260122T131025Z
LAST-MODIFIED:20260122T131025Z
UID:10000535-1771165800-1771165800@www.rundschau-medien.at
SUMMARY:Kindermaskenrummel
DESCRIPTION:
URL:https://www.rundschau-medien.at/dil/kindermaskenrummel/
LOCATION:Mehrzweckhalle Trofaiach
CATEGORIES:Kinder/Jugend
END:VEVENT
BEGIN:VEVENT
DTSTART;TZID=Europe/Vienna:20260215T150000
DTEND;TZID=Europe/Vienna:20260215T150000
DTSTAMP:20260425T223727
CREATED:20260122T141849Z
LAST-MODIFIED:20260122T141849Z
UID:10000560-1771167600-1771167600@www.rundschau-medien.at
SUMMARY:Kindermaskenball
DESCRIPTION:
URL:https://www.rundschau-medien.at/dil/kindermaskenball-3/
LOCATION:Turnsaal Volksschule Pernegg
CATEGORIES:Kinder/Jugend
END:VEVENT
BEGIN:VEVENT
DTSTART;TZID=Europe/Vienna:20260215T150000
DTEND;TZID=Europe/Vienna:20260215T150000
DTSTAMP:20260425T223727
CREATED:20260127T141836Z
LAST-MODIFIED:20260127T141836Z
UID:10000673-1771167600-1771167600@www.rundschau-medien.at
SUMMARY:"Der Hang zur Geometrie"
DESCRIPTION:Finissage der Architekturausstellung
URL:https://www.rundschau-medien.at/dil/der-hang-zur-geometrie-2/
LOCATION:Kunsthaus Mürzzuschlag
CATEGORIES:Kultur
END:VEVENT
BEGIN:VEVENT
DTSTART;TZID=Europe/Vienna:20260215T150000
DTEND;TZID=Europe/Vienna:20260215T150000
DTSTAMP:20260425T223727
CREATED:20260127T141957Z
LAST-MODIFIED:20260127T141957Z
UID:10000674-1771167600-1771167600@www.rundschau-medien.at
SUMMARY:Kinderfaschingsfest
DESCRIPTION:
URL:https://www.rundschau-medien.at/dil/kinderfaschingsfest/
LOCATION:Stadtsaal Mürzzuschlag
CATEGORIES:Kinder/Jugend
END:VEVENT
BEGIN:VEVENT
DTSTART;TZID=Europe/Vienna:20260215T160000
DTEND;TZID=Europe/Vienna:20260215T160000
DTSTAMP:20260425T223727
CREATED:20260127T141401Z
LAST-MODIFIED:20260127T141401Z
UID:10000669-1771171200-1771171200@www.rundschau-medien.at
SUMMARY:Faschingssitzung
DESCRIPTION:
URL:https://www.rundschau-medien.at/dil/faschingssitzung-3/
LOCATION:Volkshaus Frohnleiten
CATEGORIES:Kabarett
END:VEVENT
BEGIN:VEVENT
DTSTART;TZID=Europe/Vienna:20260216T130000
DTEND;TZID=Europe/Vienna:20260216T180000
DTSTAMP:20260425T223727
CREATED:20260114T142330Z
LAST-MODIFIED:20260121T110934Z
UID:10000189-1771246800-1771264800@www.rundschau-medien.at
SUMMARY:Flohmarkt
DESCRIPTION:Die Behindertenhilfe Krieglach betreibt den größten ständigen Flohmarkt im Mürztal. Mit dem Erlös werden behinderte\, kranke und arme Menschen unterstützt.
URL:https://www.rundschau-medien.at/dil/flohmarkt/2026-02-16/
LOCATION:Behindertenhilfe Krieglach\, Grazer Straße 79\, Krieglach\, 8670
CATEGORIES:Hobby/Freizeit,Markt
END:VEVENT
BEGIN:VEVENT
DTSTART;TZID=Europe/Vienna:20260216T140000
DTEND;TZID=Europe/Vienna:20260216T140000
DTSTAMP:20260425T223727
CREATED:20260122T141953Z
LAST-MODIFIED:20260122T141953Z
UID:10000561-1771250400-1771250400@www.rundschau-medien.at
SUMMARY:Faschingsfest der Pensionisten
DESCRIPTION:
URL:https://www.rundschau-medien.at/dil/faschingsfest-der-pensionisten/
LOCATION:Clubheim Pensionistenverband Pernegg
CATEGORIES:Gesellschaft
END:VEVENT
BEGIN:VEVENT
DTSTART;TZID=Europe/Vienna:20260216T160000
DTEND;TZID=Europe/Vienna:20260216T190000
DTSTAMP:20260425T223727
CREATED:20260130T141846Z
LAST-MODIFIED:20260130T142333Z
UID:10000821-1771257600-1771268400@www.rundschau-medien.at
SUMMARY:Blutspenden
DESCRIPTION:
URL:https://www.rundschau-medien.at/dil/blutspenden-6/
LOCATION:Volksschule St. Peter-Freienstein
CATEGORIES:Gesundheit
END:VEVENT
BEGIN:VEVENT
DTSTART;TZID=Europe/Vienna:20260216T170000
DTEND;TZID=Europe/Vienna:20260216T170000
DTSTAMP:20260425T223727
CREATED:20260122T131201Z
LAST-MODIFIED:20260122T131201Z
UID:10000536-1771261200-1771261200@www.rundschau-medien.at
SUMMARY:Rosenmontagsparty
DESCRIPTION:
URL:https://www.rundschau-medien.at/dil/rosenmontagsparty/
LOCATION:Schrimpf Stubn Turnau
CATEGORIES:Gesellschaft
END:VEVENT
BEGIN:VEVENT
DTSTART;TZID=Europe/Vienna:20260216T180000
DTEND;TZID=Europe/Vienna:20260216T180000
DTSTAMP:20260425T223727
CREATED:20260127T142105Z
LAST-MODIFIED:20260127T142105Z
UID:10000675-1771264800-1771264800@www.rundschau-medien.at
SUMMARY:Faschingsball
DESCRIPTION:
URL:https://www.rundschau-medien.at/dil/faschingsball-2/
LOCATION:Schweizerhof Frohnleiten
CATEGORIES:Gesellschaft
END:VEVENT
BEGIN:VEVENT
DTSTART;TZID=Europe/Vienna:20260216T180000
DTEND;TZID=Europe/Vienna:20260216T193000
DTSTAMP:20260425T223727
CREATED:20260120T115558Z
LAST-MODIFIED:20260121T110857Z
UID:10000338-1771264800-1771270200@www.rundschau-medien.at
SUMMARY:Seniorentanz
DESCRIPTION:„Tanz einfach mit“\, Info und Anmeldung unter 0699/14100114
URL:https://www.rundschau-medien.at/dil/seniorentanz/2026-02-16/
LOCATION:Aidora-Eventcenter Oberaich\, Bruck an der Mur
CATEGORIES:Hobby/Freizeit
END:VEVENT
BEGIN:VEVENT
DTSTART;TZID=Europe/Vienna:20260216T190000
DTEND;TZID=Europe/Vienna:20260216T190000
DTSTAMP:20260425T223727
CREATED:20260128T130914Z
LAST-MODIFIED:20260128T130914Z
UID:10000791-1771268400-1771268400@www.rundschau-medien.at
SUMMARY:Hallalli-Party
DESCRIPTION:
URL:https://www.rundschau-medien.at/dil/hallalli-party/
LOCATION:Volksheim Gußwerk\, Mariazell
CATEGORIES:Gesellschaft
END:VEVENT
BEGIN:VEVENT
DTSTART;TZID=Europe/Vienna:20260216T190000
DTEND;TZID=Europe/Vienna:20260216T190000
DTSTAMP:20260425T223727
CREATED:20260203T093037Z
LAST-MODIFIED:20260203T093037Z
UID:10000830-1771268400-1771268400@www.rundschau-medien.at
SUMMARY:"Halli Galli am Rosenmontag"
DESCRIPTION:mit Livemusik von den Mürzer Spitzbuam und den Hafendorfern
URL:https://www.rundschau-medien.at/dil/halli-galli-am-rosenmontag/
LOCATION:Stadtplatz Mürzzuschlag
CATEGORIES:Gesellschaft
END:VEVENT
BEGIN:VEVENT
DTSTART;TZID=Europe/Vienna:20260217T070000
DTEND;TZID=Europe/Vienna:20260217T120000
DTSTAMP:20260425T223727
CREATED:20260122T131844Z
LAST-MODIFIED:20260122T131844Z
UID:10000541-1771311600-1771329600@www.rundschau-medien.at
SUMMARY:Bauernmarkt
DESCRIPTION:
URL:https://www.rundschau-medien.at/dil/bauernmarkt-7/
LOCATION:Kirchplatz Leoben
CATEGORIES:Markt
END:VEVENT
BEGIN:VEVENT
DTSTART;TZID=Europe/Vienna:20260217T100000
DTEND;TZID=Europe/Vienna:20260217T100000
DTSTAMP:20260425T223727
CREATED:20260122T132130Z
LAST-MODIFIED:20260216T091842Z
UID:10000544-1771322400-1771322400@www.rundschau-medien.at
SUMMARY:Faschingsumzug
DESCRIPTION:
URL:https://www.rundschau-medien.at/dil/faschingsumzug-4/
LOCATION:Hauptplatz Trofaiach
CATEGORIES:Gesellschaft
END:VEVENT
BEGIN:VEVENT
DTSTART;TZID=Europe/Vienna:20260217T100000
DTEND;TZID=Europe/Vienna:20260217T100000
DTSTAMP:20260425T223727
CREATED:20260127T142421Z
LAST-MODIFIED:20260127T142421Z
UID:10000678-1771322400-1771322400@www.rundschau-medien.at
SUMMARY:Faschingsparty
DESCRIPTION:
URL:https://www.rundschau-medien.at/dil/faschingsparty-6/
LOCATION:Veranstaltungszentrum Krieglach
CATEGORIES:Gesellschaft
END:VEVENT
BEGIN:VEVENT
DTSTART;TZID=Europe/Vienna:20260217T100000
DTEND;TZID=Europe/Vienna:20260217T100000
DTSTAMP:20260425T223727
CREATED:20260128T103635Z
LAST-MODIFIED:20260128T103635Z
UID:10000716-1771322400-1771322400@www.rundschau-medien.at
SUMMARY:Faschingsparty
DESCRIPTION:
URL:https://www.rundschau-medien.at/dil/faschingsparty-7/
LOCATION:Dorfwirtshaus Petry\, Langenwang
CATEGORIES:Gesellschaft
END:VEVENT
BEGIN:VEVENT
DTSTART;TZID=Europe/Vienna:20260217T103000
DTEND;TZID=Europe/Vienna:20260217T103000
DTSTAMP:20260425T223727
CREATED:20260203T093227Z
LAST-MODIFIED:20260203T093227Z
UID:10000831-1771324200-1771324200@www.rundschau-medien.at
SUMMARY:"Halli Galli am Faschingsdienstag"
DESCRIPTION:mit Livemusik von den Mürzer Spitzbuam und „Mölltal Sound“
URL:https://www.rundschau-medien.at/dil/halli-galli-am-faschingsdienstag/
LOCATION:Stadtplatz Mürzzuschlag
CATEGORIES:Gesellschaft
END:VEVENT
BEGIN:VEVENT
DTSTART;TZID=Europe/Vienna:20260217T110000
DTEND;TZID=Europe/Vienna:20260217T110000
DTSTAMP:20260425T223727
CREATED:20260122T131434Z
LAST-MODIFIED:20260122T131434Z
UID:10000538-1771326000-1771326000@www.rundschau-medien.at
SUMMARY:Faschingstreiben
DESCRIPTION:
URL:https://www.rundschau-medien.at/dil/faschingstreiben/
LOCATION:Bergmannplatz Eisenerz
CATEGORIES:Gesellschaft
END:VEVENT
BEGIN:VEVENT
DTSTART;TZID=Europe/Vienna:20260217T110000
DTEND;TZID=Europe/Vienna:20260217T110000
DTSTAMP:20260425T223727
CREATED:20260127T142227Z
LAST-MODIFIED:20260127T142227Z
UID:10000676-1771326000-1771326000@www.rundschau-medien.at
SUMMARY:"Froh-lei in the City"
DESCRIPTION:Faschingstreiben
URL:https://www.rundschau-medien.at/dil/froh-lei-in-the-city/
LOCATION:Hauptplatz Frohnleiten
CATEGORIES:Gesellschaft
END:VEVENT
BEGIN:VEVENT
DTSTART;TZID=Europe/Vienna:20260217T110000
DTEND;TZID=Europe/Vienna:20260217T110000
DTSTAMP:20260425T223727
CREATED:20260203T093336Z
LAST-MODIFIED:20260203T093336Z
UID:10000832-1771326000-1771326000@www.rundschau-medien.at
SUMMARY:Faschingsumzug
DESCRIPTION:
URL:https://www.rundschau-medien.at/dil/faschingsumzug-7/
LOCATION:Innenstadt Mürzzuschlag
CATEGORIES:Hobby/Freizeit
END:VEVENT
END:VCALENDAR