BEGIN:VCALENDAR
VERSION:2.0
PRODID:-//Obersteirische Rundschau - ECPv6.15.20//NONSGML v1.0//EN
CALSCALE:GREGORIAN
METHOD:PUBLISH
X-ORIGINAL-URL:https://www.rundschau-medien.at
X-WR-CALDESC:Veranstaltungen für Obersteirische Rundschau
REFRESH-INTERVAL;VALUE=DURATION:PT1H
X-Robots-Tag:noindex
X-PUBLISHED-TTL:PT1H
BEGIN:VTIMEZONE
TZID:Europe/Vienna
BEGIN:DAYLIGHT
TZOFFSETFROM:+0100
TZOFFSETTO:+0200
TZNAME:CEST
DTSTART:20250330T010000
END:DAYLIGHT
BEGIN:STANDARD
TZOFFSETFROM:+0200
TZOFFSETTO:+0100
TZNAME:CET
DTSTART:20251026T010000
END:STANDARD
BEGIN:DAYLIGHT
TZOFFSETFROM:+0100
TZOFFSETTO:+0200
TZNAME:CEST
DTSTART:20260329T010000
END:DAYLIGHT
BEGIN:STANDARD
TZOFFSETFROM:+0200
TZOFFSETTO:+0100
TZNAME:CET
DTSTART:20261025T010000
END:STANDARD
BEGIN:DAYLIGHT
TZOFFSETFROM:+0100
TZOFFSETTO:+0200
TZNAME:CEST
DTSTART:20270328T010000
END:DAYLIGHT
BEGIN:STANDARD
TZOFFSETFROM:+0200
TZOFFSETTO:+0100
TZNAME:CET
DTSTART:20271031T010000
END:STANDARD
END:VTIMEZONE
BEGIN:VEVENT
DTSTART;TZID=Europe/Vienna:20260214T060000
DTEND;TZID=Europe/Vienna:20260214T120000
DTSTAMP:20260426T000041
CREATED:20260114T143951Z
LAST-MODIFIED:20260121T110934Z
UID:10000274-1771048800-1771070400@www.rundschau-medien.at
SUMMARY:Brucker Wochenmarkt
DESCRIPTION:Vielfältige Produkte der regionalen BäuerInnen und ProduzentInnen.
URL:https://www.rundschau-medien.at/dil/brucker-wochenmarkt/2026-02-14/
LOCATION:Hauptplatz Bruck an der Mur
CATEGORIES:Kulinarik,Markt
END:VEVENT
BEGIN:VEVENT
DTSTART;TZID=Europe/Vienna:20260214T090000
DTEND;TZID=Europe/Vienna:20260214T090000
DTSTAMP:20260426T000041
CREATED:20260122T124342Z
LAST-MODIFIED:20260122T124342Z
UID:10000525-1771059600-1771059600@www.rundschau-medien.at
SUMMARY:Schneeschuhwanderung
DESCRIPTION:Mit den Naturfreunden Mürzhofen\, Info unter 0664/6482180
URL:https://www.rundschau-medien.at/dil/schneeschuhwanderung-2/
LOCATION:Dorfplatz Mürzhofen\, Kindberg
CATEGORIES:Hobby/Freizeit
END:VEVENT
BEGIN:VEVENT
DTSTART;TZID=Europe/Vienna:20260214T090000
DTEND;TZID=Europe/Vienna:20260214T120000
DTSTAMP:20260426T000041
CREATED:20260122T124049Z
LAST-MODIFIED:20260122T124049Z
UID:10000523-1771059600-1771070400@www.rundschau-medien.at
SUMMARY:Trachtenflohmarkt
DESCRIPTION:
URL:https://www.rundschau-medien.at/dil/trachtenflohmarkt-4/
LOCATION:Hauptplatz 8 Mariazell
CATEGORIES:Markt
END:VEVENT
BEGIN:VEVENT
DTSTART;TZID=Europe/Vienna:20260214T100000
DTEND;TZID=Europe/Vienna:20260214T100000
DTSTAMP:20260426T000041
CREATED:20260122T123953Z
LAST-MODIFIED:20260122T123953Z
UID:10000522-1771063200-1771063200@www.rundschau-medien.at
SUMMARY:Faschingslauf
DESCRIPTION:
URL:https://www.rundschau-medien.at/dil/faschingslauf/
LOCATION:Zwiegrabenhütte Eisenerz
CATEGORIES:Sport
END:VEVENT
BEGIN:VEVENT
DTSTART;TZID=Europe/Vienna:20260214T100000
DTEND;TZID=Europe/Vienna:20260214T100000
DTSTAMP:20260426T000041
CREATED:20260127T141100Z
LAST-MODIFIED:20260127T141100Z
UID:10000666-1771063200-1771063200@www.rundschau-medien.at
SUMMARY:Valentinswanderung
DESCRIPTION:
URL:https://www.rundschau-medien.at/dil/valentinswanderung/
LOCATION:Bründlweg Kindberg
CATEGORIES:Hobby/Freizeit
END:VEVENT
BEGIN:VEVENT
DTSTART;TZID=Europe/Vienna:20260214T133000
DTEND;TZID=Europe/Vienna:20260214T133000
DTSTAMP:20260426T000041
CREATED:20260130T133723Z
LAST-MODIFIED:20260130T133723Z
UID:10000818-1771075800-1771075800@www.rundschau-medien.at
SUMMARY:Narrengipfel  und Faschingsparty
DESCRIPTION:Das Kulturreferat der Marktgemeinde Kammern lädt am Samstag\, dem 14. Februar\, zum 21. Liesingtaler Narrengipfel in die Hauptstraße und die Kirchgasse. Beginn der Veranstaltung ist um 13.30 Uhr. Anschließend steht im Heimatsaal eine Faschingsparty mit Livemusik von „Steirerpower“ auf dem Programm\, als Eintritt gilt eine freie Spende. \nFoto: Echtzeit
URL:https://www.rundschau-medien.at/dil/narrengipfel-und-faschingsparty/
LOCATION:Hauptstraße Kammern
CATEGORIES:Hobby/Freizeit
ATTACH;FMTTYPE=image/webp:https://www.rundschau-medien.at/wp-content/uploads/2026/01/Kammern-Narrengipfel-Echtzeit.webp
END:VEVENT
BEGIN:VEVENT
DTSTART;TZID=Europe/Vienna:20260214T140000
DTEND;TZID=Europe/Vienna:20260214T140000
DTSTAMP:20260426T000041
CREATED:20251226T114457Z
LAST-MODIFIED:20260121T110921Z
UID:10000161-1771077600-1771077600@www.rundschau-medien.at
SUMMARY:Jugendstunden
DESCRIPTION:Heimstunden der Pfadfinder Langenwang.
URL:https://www.rundschau-medien.at/dil/jugendstunden-3/2026-02-14/
LOCATION:Pfadfinderheim Langenwang
CATEGORIES:Hobby/Freizeit,Kinder/Jugend
END:VEVENT
BEGIN:VEVENT
DTSTART;TZID=Europe/Vienna:20260214T140000
DTEND;TZID=Europe/Vienna:20260214T140000
DTSTAMP:20260426T000041
CREATED:20260112T144507Z
LAST-MODIFIED:20260121T110855Z
UID:10000137-1771077600-1771077600@www.rundschau-medien.at
SUMMARY:Kinderfest auf dem Eis
DESCRIPTION:
URL:https://www.rundschau-medien.at/dil/kinderfest-auf-dem-eis/
LOCATION:Kunsteisanlage Langenwang
CATEGORIES:Kinder/Jugend
END:VEVENT
BEGIN:VEVENT
DTSTART;TZID=Europe/Vienna:20260214T140000
DTEND;TZID=Europe/Vienna:20260214T140000
DTSTAMP:20260426T000041
CREATED:20260127T140911Z
LAST-MODIFIED:20260127T140911Z
UID:10000664-1771077600-1771077600@www.rundschau-medien.at
SUMMARY:Faschingsumzug
DESCRIPTION:
URL:https://www.rundschau-medien.at/dil/faschingsumzug-5/
LOCATION:Feuerwehr Röthelstein\, Frohnleiten
CATEGORIES:Gesellschaft
END:VEVENT
BEGIN:VEVENT
DTSTART;TZID=Europe/Vienna:20260214T140000
DTEND;TZID=Europe/Vienna:20260214T140000
DTSTAMP:20260426T000041
CREATED:20260128T141352Z
LAST-MODIFIED:20260128T141352Z
UID:10000796-1771077600-1771077600@www.rundschau-medien.at
SUMMARY:Eislaufen mit Krapfen und Tee
DESCRIPTION:
URL:https://www.rundschau-medien.at/dil/eislaufen-mit-krapfen-und-tee/
LOCATION:Funcourt Spital am Semmering
CATEGORIES:Hobby/Freizeit
END:VEVENT
BEGIN:VEVENT
DTSTART;TZID=Europe/Vienna:20260214T140000
DTEND;TZID=Europe/Vienna:20260214T140000
DTSTAMP:20260426T000041
CREATED:20260129T115325Z
LAST-MODIFIED:20260129T115325Z
UID:10000806-1771077600-1771077600@www.rundschau-medien.at
SUMMARY:Närrisches Treiben in Schrems
DESCRIPTION:Der Fassdaubenclub (FDC) Schrems bei Frohnleiten lädt am Samstag\, dem 14. Februar\, auch in diesem Jahr wieder zum traditionellen Faschingstreiben. Alle interessierten TeilnehmerInnen sind herzlich willkommen\, egal ob als Gruppe oder als Einzelperson. Treffpunkt ist um 14 Uhr beim Anwesen Karl Harrer in Gschwendt. Gesammelt geht es anschließend entlang des Radweges zum Landhaus Rois\, wo ein großer Maskenrummel geplant ist. \nFoto: FDC
URL:https://www.rundschau-medien.at/dil/naerrisches-treiben-in-schrems/
LOCATION:Anwesen Karl Harrer\, Schrems\, Frohnleiten
CATEGORIES:Gesellschaft
ATTACH;FMTTYPE=image/webp:https://www.rundschau-medien.at/wp-content/uploads/2026/01/Frohnleiten-Fasching-Schrems.webp
END:VEVENT
BEGIN:VEVENT
DTSTART;TZID=Europe/Vienna:20260214T143000
DTEND;TZID=Europe/Vienna:20260214T143000
DTSTAMP:20260426T000041
CREATED:20260210T102626Z
LAST-MODIFIED:20260210T102626Z
UID:10000855-1771079400-1771079400@www.rundschau-medien.at
SUMMARY:Faschingsumzug
DESCRIPTION:
URL:https://www.rundschau-medien.at/dil/faschingsumzug-8/
LOCATION:Adeg Sattler\, Traboch
CATEGORIES:Gesellschaft,Hobby/Freizeit
END:VEVENT
BEGIN:VEVENT
DTSTART;TZID=Europe/Vienna:20260214T150000
DTEND;TZID=Europe/Vienna:20260214T150000
DTSTAMP:20260426T000041
CREATED:20260122T124533Z
LAST-MODIFIED:20260204T105039Z
UID:10000527-1771081200-1771081200@www.rundschau-medien.at
SUMMARY:Maskeneisschießen
DESCRIPTION:
URL:https://www.rundschau-medien.at/dil/faschingsparty-2/
LOCATION:Gasthaus Leitner\, Mariazell
CATEGORIES:Gesellschaft
END:VEVENT
BEGIN:VEVENT
DTSTART;TZID=Europe/Vienna:20260214T150000
DTEND;TZID=Europe/Vienna:20260214T150000
DTSTAMP:20260426T000041
CREATED:20260130T085001Z
LAST-MODIFIED:20260130T085001Z
UID:10000813-1771081200-1771081200@www.rundschau-medien.at
SUMMARY:Faschingsumzug
DESCRIPTION:anschließend Gschnas im Freizeitheim
URL:https://www.rundschau-medien.at/dil/faschingsumzug-6/
LOCATION:Rüsthaus Feuerwehr Thörl
CATEGORIES:Gesellschaft
END:VEVENT
BEGIN:VEVENT
DTSTART;TZID=Europe/Vienna:20260214T170000
DTEND;TZID=Europe/Vienna:20260214T170000
DTSTAMP:20260426T000041
CREATED:20260122T112104Z
LAST-MODIFIED:20260122T112104Z
UID:10000520-1771088400-1771088400@www.rundschau-medien.at
SUMMARY:Spieleabend
DESCRIPTION:Mit den Spielefreunden Österreich
URL:https://www.rundschau-medien.at/dil/spieleabend/
LOCATION:Ludothek Stadtbücherei Bruck an der Mur
CATEGORIES:Hobby/Freizeit
END:VEVENT
BEGIN:VEVENT
DTSTART;TZID=Europe/Vienna:20260214T180000
DTEND;TZID=Europe/Vienna:20260214T180000
DTSTAMP:20260426T000041
CREATED:20260112T144701Z
LAST-MODIFIED:20260121T110855Z
UID:10000330-1771092000-1771092000@www.rundschau-medien.at
SUMMARY:Valentinstags-Gala
DESCRIPTION:Mit Oliver Haidt\, Allessa und Gemo.
URL:https://www.rundschau-medien.at/dil/valentinstags-gala/
LOCATION:Live Congress Leoben
CATEGORIES:Gesellschaft,Konzert,Kulinarik
END:VEVENT
BEGIN:VEVENT
DTSTART;TZID=Europe/Vienna:20260214T180000
DTEND;TZID=Europe/Vienna:20260214T180000
DTSTAMP:20260426T000041
CREATED:20260122T124433Z
LAST-MODIFIED:20260122T124433Z
UID:10000526-1771092000-1771092000@www.rundschau-medien.at
SUMMARY:Faschingsgschnas
DESCRIPTION:
URL:https://www.rundschau-medien.at/dil/faschingsgschnas-3/
LOCATION:Gösserbräu Leoben
CATEGORIES:Gesellschaft
END:VEVENT
BEGIN:VEVENT
DTSTART;TZID=Europe/Vienna:20260214T190000
DTEND;TZID=Europe/Vienna:20260214T190000
DTSTAMP:20260426T000041
CREATED:20260122T122643Z
LAST-MODIFIED:20260122T122643Z
UID:10000521-1771095600-1771095600@www.rundschau-medien.at
SUMMARY:Steirischer Herzlball
DESCRIPTION:
URL:https://www.rundschau-medien.at/dil/steirischer-herzlball/
LOCATION:Kulturhaus Bruck an der Mur
CATEGORIES:Gesellschaft
END:VEVENT
BEGIN:VEVENT
DTSTART;TZID=Europe/Vienna:20260214T190000
DTEND;TZID=Europe/Vienna:20260214T190000
DTSTAMP:20260426T000041
CREATED:20260122T124943Z
LAST-MODIFIED:20260122T124943Z
UID:10000530-1771095600-1771095600@www.rundschau-medien.at
SUMMARY:Pyjamaparty
DESCRIPTION:
URL:https://www.rundschau-medien.at/dil/pyjamaparty/
LOCATION:Cafe „Die Chillerei“ Trofaiach
CATEGORIES:Gesellschaft
END:VEVENT
BEGIN:VEVENT
DTSTART;TZID=Europe/Vienna:20260214T190000
DTEND;TZID=Europe/Vienna:20260214T190000
DTSTAMP:20260426T000041
CREATED:20260127T141002Z
LAST-MODIFIED:20260127T141002Z
UID:10000665-1771095600-1771095600@www.rundschau-medien.at
SUMMARY:Faschingssitzung
DESCRIPTION:
URL:https://www.rundschau-medien.at/dil/faschingssitzung-2/
LOCATION:Volkshaus Frohnleiten
CATEGORIES:Kabarett
END:VEVENT
BEGIN:VEVENT
DTSTART;TZID=Europe/Vienna:20260214T190000
DTEND;TZID=Europe/Vienna:20260214T190000
DTSTAMP:20260426T000041
CREATED:20260127T141304Z
LAST-MODIFIED:20260127T141304Z
UID:10000668-1771095600-1771095600@www.rundschau-medien.at
SUMMARY:Faschingsshow
DESCRIPTION:
URL:https://www.rundschau-medien.at/dil/faschingsshow-2/
LOCATION:Stadtsaal Mürzzuschlag
CATEGORIES:Kabarett
END:VEVENT
BEGIN:VEVENT
DTSTART;TZID=Europe/Vienna:20260214T190000
DTEND;TZID=Europe/Vienna:20260214T190000
DTSTAMP:20260426T000041
CREATED:20260128T103529Z
LAST-MODIFIED:20260128T103529Z
UID:10000715-1771095600-1771095600@www.rundschau-medien.at
SUMMARY:Faschingshausball
DESCRIPTION:
URL:https://www.rundschau-medien.at/dil/faschingshausball/
LOCATION:Gasthaus Sowieso\, Langenwang
CATEGORIES:Gesellschaft
END:VEVENT
BEGIN:VEVENT
DTSTART;TZID=Europe/Vienna:20260214T190000
DTEND;TZID=Europe/Vienna:20260214T190000
DTSTAMP:20260426T000041
CREATED:20260204T105433Z
LAST-MODIFIED:20260204T105433Z
UID:10000838-1771095600-1771095600@www.rundschau-medien.at
SUMMARY:Faschingsparty
DESCRIPTION:
URL:https://www.rundschau-medien.at/dil/faschingsparty-8/
LOCATION:Bartelbauerhütte Mariazell
CATEGORIES:Gesellschaft
END:VEVENT
BEGIN:VEVENT
DTSTART;TZID=Europe/Vienna:20260214T193000
DTEND;TZID=Europe/Vienna:20260214T193000
DTSTAMP:20260426T000041
CREATED:20260122T141751Z
LAST-MODIFIED:20260122T141751Z
UID:10000559-1771097400-1771097400@www.rundschau-medien.at
SUMMARY:Maskengschnas
DESCRIPTION:
URL:https://www.rundschau-medien.at/dil/maskengschnas/
LOCATION:Sportplatz Pernegg
CATEGORIES:Gesellschaft
END:VEVENT
BEGIN:VEVENT
DTSTART;TZID=Europe/Vienna:20260214T200000
DTEND;TZID=Europe/Vienna:20260214T200000
DTSTAMP:20260426T000041
CREATED:20260122T124648Z
LAST-MODIFIED:20260122T124648Z
UID:10000528-1771099200-1771099200@www.rundschau-medien.at
SUMMARY:Hausball
DESCRIPTION:
URL:https://www.rundschau-medien.at/dil/hausball/
LOCATION:Hotel Drei Hasen\, Mariazell
CATEGORIES:Gesellschaft
END:VEVENT
BEGIN:VEVENT
DTSTART;TZID=Europe/Vienna:20260214T200000
DTEND;TZID=Europe/Vienna:20260214T200000
DTSTAMP:20260426T000041
CREATED:20260122T124839Z
LAST-MODIFIED:20260122T124839Z
UID:10000529-1771099200-1771099200@www.rundschau-medien.at
SUMMARY:Sportlergschnas
DESCRIPTION:
URL:https://www.rundschau-medien.at/dil/sportlergschnas/
LOCATION:Volksheim St. Sebastian\, Mariazell
CATEGORIES:Gesellschaft
END:VEVENT
BEGIN:VEVENT
DTSTART;TZID=Europe/Vienna:20260214T203000
DTEND;TZID=Europe/Vienna:20260214T203000
DTSTAMP:20260426T000041
CREATED:20260127T141204Z
LAST-MODIFIED:20260127T141204Z
UID:10000667-1771101000-1771101000@www.rundschau-medien.at
SUMMARY:Bauernball
DESCRIPTION:
URL:https://www.rundschau-medien.at/dil/bauernball-2/
LOCATION:Veranstaltungszentrum Krieglach
CATEGORIES:Gesellschaft
END:VEVENT
BEGIN:VEVENT
DTSTART;TZID=Europe/Vienna:20260214T210000
DTEND;TZID=Europe/Vienna:20260214T210000
DTSTAMP:20260426T000041
CREATED:20260129T100143Z
LAST-MODIFIED:20260129T100143Z
UID:10000802-1771102800-1771102800@www.rundschau-medien.at
SUMMARY:Maskenball
DESCRIPTION:
URL:https://www.rundschau-medien.at/dil/maskenball-2/
LOCATION:Gamserl Turnau
CATEGORIES:Gesellschaft
END:VEVENT
BEGIN:VEVENT
DTSTART;TZID=Europe/Vienna:20260214T210000
DTEND;TZID=Europe/Vienna:20260214T210000
DTSTAMP:20260426T000041
CREATED:20260129T100448Z
LAST-MODIFIED:20260129T100448Z
UID:10000804-1771102800-1771102800@www.rundschau-medien.at
SUMMARY:Faschingsausklang
DESCRIPTION:
URL:https://www.rundschau-medien.at/dil/faschingsausklang/
LOCATION:Gasthaus Pesl St. Lorenzen
CATEGORIES:Gesellschaft
END:VEVENT
BEGIN:VEVENT
DTSTART;TZID=Europe/Vienna:20260215T100000
DTEND;TZID=Europe/Vienna:20260215T100000
DTSTAMP:20260426T000041
CREATED:20260122T130932Z
LAST-MODIFIED:20260122T130932Z
UID:10000534-1771149600-1771149600@www.rundschau-medien.at
SUMMARY:Faschingsumzug
DESCRIPTION:
URL:https://www.rundschau-medien.at/dil/faschingsumzug/
LOCATION:Hauptplatz Mariazell
CATEGORIES:Gesellschaft
END:VEVENT
END:VCALENDAR