BEGIN:VCALENDAR
VERSION:2.0
PRODID:-//Obersteirische Rundschau - ECPv6.15.20//NONSGML v1.0//EN
CALSCALE:GREGORIAN
METHOD:PUBLISH
X-ORIGINAL-URL:https://www.rundschau-medien.at
X-WR-CALDESC:Veranstaltungen für Obersteirische Rundschau
REFRESH-INTERVAL;VALUE=DURATION:PT1H
X-Robots-Tag:noindex
X-PUBLISHED-TTL:PT1H
BEGIN:VTIMEZONE
TZID:Europe/Vienna
BEGIN:DAYLIGHT
TZOFFSETFROM:+0100
TZOFFSETTO:+0200
TZNAME:CEST
DTSTART:20250330T010000
END:DAYLIGHT
BEGIN:STANDARD
TZOFFSETFROM:+0200
TZOFFSETTO:+0100
TZNAME:CET
DTSTART:20251026T010000
END:STANDARD
BEGIN:DAYLIGHT
TZOFFSETFROM:+0100
TZOFFSETTO:+0200
TZNAME:CEST
DTSTART:20260329T010000
END:DAYLIGHT
BEGIN:STANDARD
TZOFFSETFROM:+0200
TZOFFSETTO:+0100
TZNAME:CET
DTSTART:20261025T010000
END:STANDARD
BEGIN:DAYLIGHT
TZOFFSETFROM:+0100
TZOFFSETTO:+0200
TZNAME:CEST
DTSTART:20270328T010000
END:DAYLIGHT
BEGIN:STANDARD
TZOFFSETFROM:+0200
TZOFFSETTO:+0100
TZNAME:CET
DTSTART:20271031T010000
END:STANDARD
END:VTIMEZONE
BEGIN:VEVENT
DTSTART;TZID=Europe/Vienna:20260211T060000
DTEND;TZID=Europe/Vienna:20260211T120000
DTSTAMP:20260425T190641
CREATED:20260114T143951Z
LAST-MODIFIED:20260121T110934Z
UID:10000273-1770789600-1770811200@www.rundschau-medien.at
SUMMARY:Brucker Wochenmarkt
DESCRIPTION:Vielfältige Produkte der regionalen BäuerInnen und ProduzentInnen.
URL:https://www.rundschau-medien.at/dil/brucker-wochenmarkt/2026-02-11/
LOCATION:Hauptplatz Bruck an der Mur
CATEGORIES:Kulinarik,Markt
END:VEVENT
BEGIN:VEVENT
DTSTART;TZID=Europe/Vienna:20260211T130000
DTEND;TZID=Europe/Vienna:20260211T180000
DTSTAMP:20260425T190641
CREATED:20260114T142330Z
LAST-MODIFIED:20260121T110934Z
UID:10000187-1770814800-1770832800@www.rundschau-medien.at
SUMMARY:Flohmarkt
DESCRIPTION:Die Behindertenhilfe Krieglach betreibt den größten ständigen Flohmarkt im Mürztal. Mit dem Erlös werden behinderte\, kranke und arme Menschen unterstützt.
URL:https://www.rundschau-medien.at/dil/flohmarkt/2026-02-11/
LOCATION:Behindertenhilfe Krieglach\, Grazer Straße 79\, Krieglach\, 8670
CATEGORIES:Hobby/Freizeit,Markt
END:VEVENT
BEGIN:VEVENT
DTSTART;TZID=Europe/Vienna:20260211T143000
DTEND;TZID=Europe/Vienna:20260211T163000
DTSTAMP:20260425T190642
CREATED:20260203T092609Z
LAST-MODIFIED:20260203T092609Z
UID:10000828-1770820200-1770827400@www.rundschau-medien.at
SUMMARY:"Galopp\, Glitzer & Konfetti"
DESCRIPTION:Hufe klappern\, Kinder lachen\, wir wollen richtig Fasching machen!
URL:https://www.rundschau-medien.at/dil/galopp-glitzer-konfetti/
LOCATION:Reitanlage Putzgruber\, Mürzzuschlag
CATEGORIES:Hobby/Freizeit
END:VEVENT
BEGIN:VEVENT
DTSTART;TZID=Europe/Vienna:20260211T150000
DTEND;TZID=Europe/Vienna:20260211T150000
DTSTAMP:20260425T190642
CREATED:20260114T141405Z
LAST-MODIFIED:20260121T110933Z
UID:10000140-1770822000-1770822000@www.rundschau-medien.at
SUMMARY:Handarbeitsrunde
DESCRIPTION:Gemütliche Winternachmittage mit Stricken\, Sticken und Häkeln\, veranstaltet von den steirischen VP-Frauen.
URL:https://www.rundschau-medien.at/dil/handarbeitsrunde-3/2026-02-11/
LOCATION:Pfadfinderheim Langenwang
CATEGORIES:Hobby/Freizeit
END:VEVENT
BEGIN:VEVENT
DTSTART;TZID=Europe/Vienna:20260211T150000
DTEND;TZID=Europe/Vienna:20260211T150000
DTSTAMP:20260425T190642
CREATED:20260122T110318Z
LAST-MODIFIED:20260122T110318Z
UID:10000507-1770822000-1770822000@www.rundschau-medien.at
SUMMARY:Gemeindeball
DESCRIPTION:
URL:https://www.rundschau-medien.at/dil/gemeindeball/
LOCATION:Volkshaus Kindberg
CATEGORIES:Gesellschaft
END:VEVENT
BEGIN:VEVENT
DTSTART;TZID=Europe/Vienna:20260211T180000
DTEND;TZID=Europe/Vienna:20260211T180000
DTSTAMP:20260425T190642
CREATED:20260112T144236Z
LAST-MODIFIED:20260121T110856Z
UID:10000329-1770832800-1770832800@www.rundschau-medien.at
SUMMARY:Faschingskonzert
DESCRIPTION:Eine Veranstaltung der Musikschule.
URL:https://www.rundschau-medien.at/dil/faschingskonzert/
LOCATION:Veranstaltungszentrum Krieglach
CATEGORIES:Gesellschaft,Konzert
END:VEVENT
BEGIN:VEVENT
DTSTART;TZID=Europe/Vienna:20260211T180000
DTEND;TZID=Europe/Vienna:20260211T180000
DTSTAMP:20260425T190642
CREATED:20260122T110409Z
LAST-MODIFIED:20260122T110409Z
UID:10000508-1770832800-1770832800@www.rundschau-medien.at
SUMMARY:Quiznight
DESCRIPTION:
URL:https://www.rundschau-medien.at/dil/quiznight/
LOCATION:Stadtkultursaal Trofaiach
CATEGORIES:Hobby/Freizeit
END:VEVENT
BEGIN:VEVENT
DTSTART;TZID=Europe/Vienna:20260211T180000
DTEND;TZID=Europe/Vienna:20260211T180000
DTSTAMP:20260425T190642
CREATED:20260130T125612Z
LAST-MODIFIED:20260130T125612Z
UID:10000815-1770832800-1770832800@www.rundschau-medien.at
SUMMARY:"Arbeitnehmerveranlagung"
DESCRIPTION:Vortrag
URL:https://www.rundschau-medien.at/dil/arbeitnehmerveranlagung/
LOCATION:BHAK Eisenerz
CATEGORIES:Service/Info
END:VEVENT
BEGIN:VEVENT
DTSTART;TZID=Europe/Vienna:20260211T190000
DTEND;TZID=Europe/Vienna:20260211T190000
DTSTAMP:20260425T190642
CREATED:20260122T110641Z
LAST-MODIFIED:20260122T110641Z
UID:10000510-1770836400-1770836400@www.rundschau-medien.at
SUMMARY:BORG-Concert
DESCRIPTION:
URL:https://www.rundschau-medien.at/dil/borg-concert/
LOCATION:BORG Kindberg
CATEGORIES:Konzert
END:VEVENT
BEGIN:VEVENT
DTSTART;TZID=Europe/Vienna:20260211T200000
DTEND;TZID=Europe/Vienna:20260211T200000
DTSTAMP:20260425T190642
CREATED:20260127T134450Z
LAST-MODIFIED:20260127T134450Z
UID:10000652-1770840000-1770840000@www.rundschau-medien.at
SUMMARY:"The Good\, the Bad and the Piefke"
DESCRIPTION:Kabarett mit  Charly Blaha\, Peter Svaricek und Dieter Baumann
URL:https://www.rundschau-medien.at/dil/the-good-the-bad-and-the-piefke/
LOCATION:Dachbodentheater Bruck
CATEGORIES:Kabarett
END:VEVENT
BEGIN:VEVENT
DTSTART;TZID=Europe/Vienna:20260212T100000
DTEND;TZID=Europe/Vienna:20260212T100000
DTSTAMP:20260425T190642
CREATED:20260127T134620Z
LAST-MODIFIED:20260127T134620Z
UID:10000653-1770890400-1770890400@www.rundschau-medien.at
SUMMARY:"Die Schatztaucherin – eine Reise zum Regenbogenstein"
DESCRIPTION:Musical für Kinder ab 3 Jahren
URL:https://www.rundschau-medien.at/dil/die-schatztaucherin-eine-reise-zum-regenbogenstein/
LOCATION:Stadtsaal Bruck an der Mur
CATEGORIES:Kinder/Jugend
END:VEVENT
BEGIN:VEVENT
DTSTART;TZID=Europe/Vienna:20260212T140000
DTEND;TZID=Europe/Vienna:20260212T140000
DTSTAMP:20260425T190642
CREATED:20260122T110545Z
LAST-MODIFIED:20260122T110545Z
UID:10000509-1770904800-1770904800@www.rundschau-medien.at
SUMMARY:Kaffeeplauscherl
DESCRIPTION:Mit dem Pensionistenverband
URL:https://www.rundschau-medien.at/dil/kaffeeplauscherl/
LOCATION:Kinderfreundeheim Kammern
CATEGORIES:Gesellschaft
END:VEVENT
BEGIN:VEVENT
DTSTART;TZID=Europe/Vienna:20260212T143000
DTEND;TZID=Europe/Vienna:20260212T163000
DTSTAMP:20260425T190642
CREATED:20260203T092719Z
LAST-MODIFIED:20260203T092719Z
UID:10000829-1770906600-1770913800@www.rundschau-medien.at
SUMMARY:"Galopp\, Glitzer & Konfetti"
DESCRIPTION:Hufe klappern\, Kinder lachen\, wir wollen richtig Fasching machen!
URL:https://www.rundschau-medien.at/dil/galopp-glitzer-konfetti-2/
LOCATION:Reitanlage Putzgruber\, Mürzzuschlag
CATEGORIES:Hobby/Freizeit
END:VEVENT
BEGIN:VEVENT
DTSTART;TZID=Europe/Vienna:20260212T150000
DTEND;TZID=Europe/Vienna:20260212T150000
DTSTAMP:20260425T190642
CREATED:20260122T110821Z
LAST-MODIFIED:20260122T110821Z
UID:10000511-1770908400-1770908400@www.rundschau-medien.at
SUMMARY:Literaturwerkstatt
DESCRIPTION:Workshop für 8- bis 14-Jährige\, Info und Anmeldung unter 0664/4949018
URL:https://www.rundschau-medien.at/dil/literaturwerkstatt/
LOCATION:Kulturquartier Leoben
CATEGORIES:Kinder/Jugend
END:VEVENT
BEGIN:VEVENT
DTSTART;TZID=Europe/Vienna:20260212T150000
DTEND;TZID=Europe/Vienna:20260212T150000
DTSTAMP:20260425T190642
CREATED:20260122T111203Z
LAST-MODIFIED:20260122T111203Z
UID:10000514-1770908400-1770908400@www.rundschau-medien.at
SUMMARY:Jongliershow
DESCRIPTION:
URL:https://www.rundschau-medien.at/dil/jongliershow/
LOCATION:Raiffeisensaal Mariazell
CATEGORIES:Hobby/Freizeit
END:VEVENT
BEGIN:VEVENT
DTSTART;TZID=Europe/Vienna:20260212T180000
DTEND;TZID=Europe/Vienna:20260212T180000
DTSTAMP:20260425T190642
CREATED:20260114T143354Z
LAST-MODIFIED:20260121T110931Z
UID:10000249-1770919200-1770919200@www.rundschau-medien.at
SUMMARY:Nordic-Walking-Runde
DESCRIPTION:Info und Anmeldung unter 0681/10300608.
URL:https://www.rundschau-medien.at/dil/nordic-walking-runde/2026-02-12/
LOCATION:Funcourt Spital am Semmering
CATEGORIES:Gesundheit,Hobby/Freizeit
END:VEVENT
BEGIN:VEVENT
DTSTART;TZID=Europe/Vienna:20260212T180000
DTEND;TZID=Europe/Vienna:20260212T180000
DTSTAMP:20260425T190642
CREATED:20260127T134739Z
LAST-MODIFIED:20260127T134739Z
UID:10000654-1770919200-1770919200@www.rundschau-medien.at
SUMMARY:"Demokratie in Gefahr? Die Lehren aus dem Februar 1934"
DESCRIPTION:Vortrag von Martin Polaschek
URL:https://www.rundschau-medien.at/dil/demokratie-in-gefahr-die-lehren-aus-dem-februar-1934/
LOCATION:Stadtmuseum Bruck an der Mur
CATEGORIES:Vortrag
END:VEVENT
BEGIN:VEVENT
DTSTART;TZID=Europe/Vienna:20260212T180000
DTEND;TZID=Europe/Vienna:20260212T180000
DTSTAMP:20260425T190642
CREATED:20260127T135017Z
LAST-MODIFIED:20260127T135017Z
UID:10000656-1770919200-1770919200@www.rundschau-medien.at
SUMMARY:"Hans – der Luftlehrer"
DESCRIPTION:Buchpräsentation von Johannes Hindler
URL:https://www.rundschau-medien.at/dil/hans-der-luftlehrer/
LOCATION:Rathaussaal Bruck an der Mur
CATEGORIES:Lesung
END:VEVENT
BEGIN:VEVENT
DTSTART;TZID=Europe/Vienna:20260212T190000
DTEND;TZID=Europe/Vienna:20260212T190000
DTSTAMP:20260425T190642
CREATED:20260122T111314Z
LAST-MODIFIED:20260122T111314Z
UID:10000515-1770922800-1770922800@www.rundschau-medien.at
SUMMARY:"Johann Strauss und seine Zeitgenossinnen"
DESCRIPTION:Konzert mit dem „Ensemble F“
URL:https://www.rundschau-medien.at/dil/johann-strauss-und-seine-zeitgenossinnen/
LOCATION:Kunsthaus Mürzzuschlag
CATEGORIES:Konzert
END:VEVENT
BEGIN:VEVENT
DTSTART;TZID=Europe/Vienna:20260212T190000
DTEND;TZID=Europe/Vienna:20260212T190000
DTSTAMP:20260425T190642
CREATED:20260205T104829Z
LAST-MODIFIED:20260205T104829Z
UID:10000845-1770922800-1770922800@www.rundschau-medien.at
SUMMARY:Haiku-Abend
DESCRIPTION:mit dem Europa-Literaturkreis Kapfenberg
URL:https://www.rundschau-medien.at/dil/haiku-abend/
LOCATION:Kulturzentrum Kapfenberg
CATEGORIES:Lesung
END:VEVENT
BEGIN:VEVENT
DTSTART;TZID=Europe/Vienna:20260212T193000
DTEND;TZID=Europe/Vienna:20260212T193000
DTSTAMP:20260425T190642
CREATED:20260122T110944Z
LAST-MODIFIED:20260122T110944Z
UID:10000512-1770924600-1770924600@www.rundschau-medien.at
SUMMARY:"Norwegen – Schweden – Lappland"
DESCRIPTION:Multimediavortrag von Wolfgang Fuchs
URL:https://www.rundschau-medien.at/dil/norwegen-schweden-lappland-3/
LOCATION:Kulturquartier Leoben
CATEGORIES:Vortrag
END:VEVENT
BEGIN:VEVENT
DTSTART;TZID=Europe/Vienna:20260212T193000
DTEND;TZID=Europe/Vienna:20260212T193000
DTSTAMP:20260425T190642
CREATED:20260122T111049Z
LAST-MODIFIED:20260122T111049Z
UID:10000513-1770924600-1770924600@www.rundschau-medien.at
SUMMARY:"Best of"
DESCRIPTION:Kabarett mit Gery Seidl
URL:https://www.rundschau-medien.at/dil/best-of/
LOCATION:Live Congress Leoben
CATEGORIES:Kabarett
END:VEVENT
BEGIN:VEVENT
DTSTART;TZID=Europe/Vienna:20260212T200000
DTEND;TZID=Europe/Vienna:20260212T200000
DTSTAMP:20260425T190642
CREATED:20260127T134858Z
LAST-MODIFIED:20260127T134858Z
UID:10000655-1770926400-1770926400@www.rundschau-medien.at
SUMMARY:Opernballparty
DESCRIPTION:
URL:https://www.rundschau-medien.at/dil/opernballparty/
LOCATION:„Da Maurizio“ Bruck an der Mur
CATEGORIES:Gesellschaft
END:VEVENT
BEGIN:VEVENT
DTSTART;TZID=Europe/Vienna:20260213T070000
DTEND;TZID=Europe/Vienna:20260213T120000
DTSTAMP:20260425T190642
CREATED:20260122T111757Z
LAST-MODIFIED:20260122T111757Z
UID:10000518-1770966000-1770984000@www.rundschau-medien.at
SUMMARY:Bauernmarkt
DESCRIPTION:
URL:https://www.rundschau-medien.at/dil/bauernmarkt-6/
LOCATION:Kirchplatz Leoben
CATEGORIES:Markt
END:VEVENT
BEGIN:VEVENT
DTSTART;TZID=Europe/Vienna:20260213T090000
DTEND;TZID=Europe/Vienna:20260213T120000
DTSTAMP:20260425T190642
CREATED:20260122T111709Z
LAST-MODIFIED:20260122T111709Z
UID:10000517-1770973200-1770984000@www.rundschau-medien.at
SUMMARY:Trachtenflohmarkt
DESCRIPTION:
URL:https://www.rundschau-medien.at/dil/trachtenflohmarkt-3/
LOCATION:Hauptplatz 8 Mariazell
CATEGORIES:Markt
END:VEVENT
BEGIN:VEVENT
DTSTART;TZID=Europe/Vienna:20260213T130000
DTEND;TZID=Europe/Vienna:20260213T130000
DTSTAMP:20260425T190642
CREATED:20260122T111927Z
LAST-MODIFIED:20260122T111927Z
UID:10000519-1770987600-1770987600@www.rundschau-medien.at
SUMMARY:Faschingsgschnas
DESCRIPTION:2. Mariazeller Dartgschnas
URL:https://www.rundschau-medien.at/dil/faschingsgschnas-2/
LOCATION:Gasthaus zum Goldenen Stiefel\, Mariazell
CATEGORIES:Gesellschaft
END:VEVENT
BEGIN:VEVENT
DTSTART;TZID=Europe/Vienna:20260213T130000
DTEND;TZID=Europe/Vienna:20260213T180000
DTSTAMP:20260425T190642
CREATED:20260114T142330Z
LAST-MODIFIED:20260121T110934Z
UID:10000188-1770987600-1771005600@www.rundschau-medien.at
SUMMARY:Flohmarkt
DESCRIPTION:Die Behindertenhilfe Krieglach betreibt den größten ständigen Flohmarkt im Mürztal. Mit dem Erlös werden behinderte\, kranke und arme Menschen unterstützt.
URL:https://www.rundschau-medien.at/dil/flohmarkt/2026-02-13/
LOCATION:Behindertenhilfe Krieglach\, Grazer Straße 79\, Krieglach\, 8670
CATEGORIES:Hobby/Freizeit,Markt
END:VEVENT
BEGIN:VEVENT
DTSTART;TZID=Europe/Vienna:20260213T140000
DTEND;TZID=Europe/Vienna:20260213T170000
DTSTAMP:20260425T190642
CREATED:20260127T135724Z
LAST-MODIFIED:20260127T135724Z
UID:10000660-1770991200-1771002000@www.rundschau-medien.at
SUMMARY:Kinderfaschingsparty
DESCRIPTION:
URL:https://www.rundschau-medien.at/dil/kinderfaschingsparty/
LOCATION:ECE Kapfenberg
CATEGORIES:Kinder/Jugend
END:VEVENT
BEGIN:VEVENT
DTSTART;TZID=Europe/Vienna:20260213T150000
DTEND;TZID=Europe/Vienna:20260213T150000
DTSTAMP:20260425T190642
CREATED:20260122T111613Z
LAST-MODIFIED:20260122T111613Z
UID:10000516-1770994800-1770994800@www.rundschau-medien.at
SUMMARY:Faschingsparty
DESCRIPTION:
URL:https://www.rundschau-medien.at/dil/faschingsparty/
LOCATION:Musikschule Bruck an der Mur
CATEGORIES:Gesellschaft
END:VEVENT
BEGIN:VEVENT
DTSTART;TZID=Europe/Vienna:20260213T170000
DTEND;TZID=Europe/Vienna:20260213T170000
DTSTAMP:20260425T190642
CREATED:20260128T142017Z
LAST-MODIFIED:20260128T142017Z
UID:10000798-1771002000-1771002000@www.rundschau-medien.at
SUMMARY:"Fit und gesund durchs Jahr"
DESCRIPTION:Vortrag von Michaela Schweiger
URL:https://www.rundschau-medien.at/dil/fit-und-gesund-durchs-jahr/
LOCATION:Seminarraum Spital am Semmering
CATEGORIES:Gesundheit,Vortrag
END:VEVENT
END:VCALENDAR