BEGIN:VCALENDAR
VERSION:2.0
PRODID:-//Obersteirische Rundschau - ECPv6.15.20//NONSGML v1.0//EN
CALSCALE:GREGORIAN
METHOD:PUBLISH
X-ORIGINAL-URL:https://www.rundschau-medien.at
X-WR-CALDESC:Veranstaltungen für Obersteirische Rundschau
REFRESH-INTERVAL;VALUE=DURATION:PT1H
X-Robots-Tag:noindex
X-PUBLISHED-TTL:PT1H
BEGIN:VTIMEZONE
TZID:Europe/Vienna
BEGIN:DAYLIGHT
TZOFFSETFROM:+0100
TZOFFSETTO:+0200
TZNAME:CEST
DTSTART:20250330T010000
END:DAYLIGHT
BEGIN:STANDARD
TZOFFSETFROM:+0200
TZOFFSETTO:+0100
TZNAME:CET
DTSTART:20251026T010000
END:STANDARD
BEGIN:DAYLIGHT
TZOFFSETFROM:+0100
TZOFFSETTO:+0200
TZNAME:CEST
DTSTART:20260329T010000
END:DAYLIGHT
BEGIN:STANDARD
TZOFFSETFROM:+0200
TZOFFSETTO:+0100
TZNAME:CET
DTSTART:20261025T010000
END:STANDARD
BEGIN:DAYLIGHT
TZOFFSETFROM:+0100
TZOFFSETTO:+0200
TZNAME:CEST
DTSTART:20270328T010000
END:DAYLIGHT
BEGIN:STANDARD
TZOFFSETFROM:+0200
TZOFFSETTO:+0100
TZNAME:CET
DTSTART:20271031T010000
END:STANDARD
END:VTIMEZONE
BEGIN:VEVENT
DTSTART;TZID=Europe/Vienna:20260131T060000
DTEND;TZID=Europe/Vienna:20260131T120000
DTSTAMP:20260419T235255
CREATED:20260114T143951Z
LAST-MODIFIED:20260121T110934Z
UID:10000270-1769839200-1769860800@www.rundschau-medien.at
SUMMARY:Brucker Wochenmarkt
DESCRIPTION:Vielfältige Produkte der regionalen BäuerInnen und ProduzentInnen.
URL:https://www.rundschau-medien.at/dil/brucker-wochenmarkt/2026-01-31/
LOCATION:Hauptplatz Bruck an der Mur
CATEGORIES:Kulinarik,Markt
END:VEVENT
BEGIN:VEVENT
DTSTART;TZID=Europe/Vienna:20260131T080000
DTEND;TZID=Europe/Vienna:20260131T080000
DTSTAMP:20260419T235255
CREATED:20251226T114417Z
LAST-MODIFIED:20260121T110922Z
UID:10000322-1769846400-1769846400@www.rundschau-medien.at
SUMMARY:Schneeschuhwanderung
DESCRIPTION:Mit den Naturfreunden\, Treffpunkt Dorfplatz Mürzhofen\, Info und Anmeldung unter Tel. 0677/61937748.
URL:https://www.rundschau-medien.at/dil/schneeschuhwanderung/
LOCATION:Dorfplatz Mürzhofen\, Kindberg
CATEGORIES:Sport
END:VEVENT
BEGIN:VEVENT
DTSTART;TZID=Europe/Vienna:20260131T130000
DTEND;TZID=Europe/Vienna:20260131T130000
DTSTAMP:20260419T235255
CREATED:20260120T145552Z
LAST-MODIFIED:20260121T110922Z
UID:10000450-1769864400-1769864400@www.rundschau-medien.at
SUMMARY:Taferlschießen
DESCRIPTION:
URL:https://www.rundschau-medien.at/dil/taferlschiessen-2/
LOCATION:Gasthaus zur Weinperle Mariazell
CATEGORIES:Hobby/Freizeit
END:VEVENT
BEGIN:VEVENT
DTSTART;TZID=Europe/Vienna:20260131T140000
DTEND;TZID=Europe/Vienna:20260131T140000
DTSTAMP:20260419T235255
CREATED:20251226T114457Z
LAST-MODIFIED:20260121T110921Z
UID:10000136-1769868000-1769868000@www.rundschau-medien.at
SUMMARY:Jugendstunden
DESCRIPTION:Heimstunden der Pfadfinder Langenwang.
URL:https://www.rundschau-medien.at/dil/jugendstunden-3/2026-01-31/
LOCATION:Pfadfinderheim Langenwang
CATEGORIES:Hobby/Freizeit,Kinder/Jugend
END:VEVENT
BEGIN:VEVENT
DTSTART;TZID=Europe/Vienna:20260131T140000
DTEND;TZID=Europe/Vienna:20260131T140000
DTSTAMP:20260419T235255
CREATED:20260120T145456Z
LAST-MODIFIED:20260121T110919Z
UID:10000449-1769868000-1769868000@www.rundschau-medien.at
SUMMARY:Preisschnapsen
DESCRIPTION:
URL:https://www.rundschau-medien.at/dil/preisschnapsen/
LOCATION:Gasthaus Stocker Krieglach
CATEGORIES:Hobby/Freizeit
END:VEVENT
BEGIN:VEVENT
DTSTART;TZID=Europe/Vienna:20260131T150000
DTEND;TZID=Europe/Vienna:20260131T150000
DTSTAMP:20260419T235255
CREATED:20260112T132359Z
LAST-MODIFIED:20260121T110917Z
UID:10000323-1769871600-1769871600@www.rundschau-medien.at
SUMMARY:"Der Hang zur Geometrie" – Führung
DESCRIPTION:KuratorInnenführung durch die Ausstellung.
URL:https://www.rundschau-medien.at/dil/der-hang-zur-geometrie-fuehrung/
LOCATION:Kunsthaus Mürzzuschlag
CATEGORIES:Kultur
END:VEVENT
BEGIN:VEVENT
DTSTART;TZID=Europe/Vienna:20260131T170000
DTEND;TZID=Europe/Vienna:20260131T170000
DTSTAMP:20260419T235255
CREATED:20251226T114125Z
LAST-MODIFIED:20260121T110916Z
UID:10000324-1769878800-1769878800@www.rundschau-medien.at
SUMMARY:Spieleabend
DESCRIPTION:
URL:https://www.rundschau-medien.at/dil/spieleabend-2/
LOCATION:Ludothek Stadtbücherei Bruck an der Mur
CATEGORIES:Hobby/Freizeit
END:VEVENT
BEGIN:VEVENT
DTSTART;TZID=Europe/Vienna:20260131T170000
DTEND;TZID=Europe/Vienna:20260131T170000
DTSTAMP:20260419T235255
CREATED:20260112T131921Z
LAST-MODIFIED:20260121T110916Z
UID:10000325-1769878800-1769878800@www.rundschau-medien.at
SUMMARY:"Böhmischer Auftakt"
DESCRIPTION:Konzert mit der Mürztaler Böhmischen.
URL:https://www.rundschau-medien.at/dil/boehmischer-auftakt/
LOCATION:Volkshaus Langenwang
CATEGORIES:Konzert
END:VEVENT
BEGIN:VEVENT
DTSTART;TZID=Europe/Vienna:20260131T180000
DTEND;TZID=Europe/Vienna:20260131T180000
DTSTAMP:20260419T235255
CREATED:20251226T114227Z
LAST-MODIFIED:20260121T110915Z
UID:10000326-1769882400-1769882400@www.rundschau-medien.at
SUMMARY:Narrenkabarett
DESCRIPTION:
URL:https://www.rundschau-medien.at/dil/narrenkabarett-2/
LOCATION:Innerberger Gewerkschaftshaus Eisenerz
CATEGORIES:Gesellschaft,Kabarett
END:VEVENT
BEGIN:VEVENT
DTSTART;TZID=Europe/Vienna:20260131T200000
DTEND;TZID=Europe/Vienna:20260131T200000
DTSTAMP:20260419T235255
CREATED:20260112T131801Z
LAST-MODIFIED:20260121T110915Z
UID:10000048-1769889600-1769889600@www.rundschau-medien.at
SUMMARY:Ball der Bauern und Jäger
DESCRIPTION:
URL:https://www.rundschau-medien.at/dil/ball-der-bauern-und-jaeger/
LOCATION:Aidora-Eventcenter Oberaich\, Bruck an der Mur
CATEGORIES:Gesellschaft
END:VEVENT
BEGIN:VEVENT
DTSTART;TZID=Europe/Vienna:20260131T200000
DTEND;TZID=Europe/Vienna:20260131T200000
DTSTAMP:20260419T235255
CREATED:20260112T132018Z
LAST-MODIFIED:20260121T110915Z
UID:10000047-1769889600-1769889600@www.rundschau-medien.at
SUMMARY:Jagaball
DESCRIPTION:
URL:https://www.rundschau-medien.at/dil/jagaball/
LOCATION:Volksheim Gußwerk\, Mariazell
CATEGORIES:Gesellschaft
END:VEVENT
BEGIN:VEVENT
DTSTART;TZID=Europe/Vienna:20260131T200000
DTEND;TZID=Europe/Vienna:20260131T200000
DTSTAMP:20260419T235255
CREATED:20260112T132512Z
LAST-MODIFIED:20260121T110913Z
UID:10000049-1769889600-1769889600@www.rundschau-medien.at
SUMMARY:Feuerwehrball
DESCRIPTION:
URL:https://www.rundschau-medien.at/dil/feuerwehrball/
LOCATION:Mehrzweckhalle Trofaiach
CATEGORIES:Gesellschaft
END:VEVENT
BEGIN:VEVENT
DTSTART;TZID=Europe/Vienna:20260131T200000
DTEND;TZID=Europe/Vienna:20260131T200000
DTSTAMP:20260419T235255
CREATED:20260115T133753Z
LAST-MODIFIED:20260121T110913Z
UID:10000333-1769889600-1769889600@www.rundschau-medien.at
SUMMARY:61. Auflage des Bauernballs
DESCRIPTION:Zum 61. Mal findet am Samstag\, dem 31. Jänner\, in der Festhalle Parschlug in Kapfenberg der Bauernball statt. Die festliche Eröffnung erfolgt um 20 Uhr mit einer Polonaise der Landjugend\, anschließend sorgen die Stoariegler für Tanzmusik und Stimmung. Eine Disco im Keller und ein Glückshafen mit bäuerlichen Spezialitäten ergänzen das Programm. Als Eintritt gilt eine freie Spende\, Tischreservierungen sind unter Tel. 0676/5601986 möglich. \nFoto: Ballkomitee
URL:https://www.rundschau-medien.at/dil/61-auflage-des-bauernballs/
LOCATION:Festhalle Parschlug Kapfenberg
CATEGORIES:Gesellschaft
ATTACH;FMTTYPE=image/webp:https://www.rundschau-medien.at/wp-content/uploads/2026/01/Kapfenberg-Bauernball.webp
END:VEVENT
BEGIN:VEVENT
DTSTART;TZID=Europe/Vienna:20260131T200000
DTEND;TZID=Europe/Vienna:20260131T200000
DTSTAMP:20260419T235255
CREATED:20260120T145143Z
LAST-MODIFIED:20260121T110912Z
UID:10000447-1769889600-1769889600@www.rundschau-medien.at
SUMMARY:Bauernball
DESCRIPTION:
URL:https://www.rundschau-medien.at/dil/bauernball/
LOCATION:Volkshaus Kindberg
CATEGORIES:Gesellschaft
END:VEVENT
BEGIN:VEVENT
DTSTART;TZID=Europe/Vienna:20260131T200000
DTEND;TZID=Europe/Vienna:20260131T200000
DTSTAMP:20260419T235255
CREATED:20260120T145320Z
LAST-MODIFIED:20260121T110912Z
UID:10000448-1769889600-1769889600@www.rundschau-medien.at
SUMMARY:Countryabend
DESCRIPTION:Mit Livemusik von Nancy Su und Bablo Picasso
URL:https://www.rundschau-medien.at/dil/countryabend/
LOCATION:Eventstadl Mürzhofen Kindberg
CATEGORIES:Konzert
END:VEVENT
BEGIN:VEVENT
DTSTART;TZID=Europe/Vienna:20260131T200000
DTEND;TZID=Europe/Vienna:20260131T200000
DTSTAMP:20260419T235255
CREATED:20260120T145745Z
LAST-MODIFIED:20260121T110911Z
UID:10000451-1769889600-1769889600@www.rundschau-medien.at
SUMMARY:Konzert
DESCRIPTION:Mit „Jasmin.Louis“
URL:https://www.rundschau-medien.at/dil/konzert/
LOCATION:Gasthaus Pesl St. Lorenzen
CATEGORIES:Konzert
END:VEVENT
BEGIN:VEVENT
DTSTART;TZID=Europe/Vienna:20260201T100000
DTEND;TZID=Europe/Vienna:20260201T100000
DTSTAMP:20260419T235255
CREATED:20260120T150153Z
LAST-MODIFIED:20260121T110911Z
UID:10000452-1769940000-1769940000@www.rundschau-medien.at
SUMMARY:Taferlschießen
DESCRIPTION:
URL:https://www.rundschau-medien.at/dil/taferlschiessen-3/
LOCATION:Gasthaus zur Weinperle Mariazell
CATEGORIES:Hobby/Freizeit
END:VEVENT
BEGIN:VEVENT
DTSTART;TZID=Europe/Vienna:20260201T160000
DTEND;TZID=Europe/Vienna:20260201T160000
DTSTAMP:20260419T235255
CREATED:20260129T135320Z
LAST-MODIFIED:20260129T135320Z
UID:10000808-1769961600-1769961600@www.rundschau-medien.at
SUMMARY:"Das kleine Ich-bin-ich"
DESCRIPTION:Theater für Kinder ab 4 Jahren
URL:https://www.rundschau-medien.at/dil/das-kleine-ich-bin-ich/
LOCATION:Dachbodentheater Bruck an der Mur
CATEGORIES:Kinder/Jugend
END:VEVENT
BEGIN:VEVENT
DTSTART;TZID=Europe/Vienna:20260201T170000
DTEND;TZID=Europe/Vienna:20260201T170000
DTSTAMP:20260419T235255
CREATED:20260104T074501Z
LAST-MODIFIED:20260121T110910Z
UID:10000327-1769965200-1769965200@www.rundschau-medien.at
SUMMARY:BT Füchse – Krems-Langenlois
DESCRIPTION:Handball\, WHA Meisterliga
URL:https://www.rundschau-medien.at/dil/bt-fuechse-krems-langenlois/
LOCATION:Sporthalle Bruck an der Mur
CATEGORIES:Sport
END:VEVENT
BEGIN:VEVENT
DTSTART;TZID=Europe/Vienna:20260202T130000
DTEND;TZID=Europe/Vienna:20260202T180000
DTSTAMP:20260419T235255
CREATED:20260114T142330Z
LAST-MODIFIED:20260121T110934Z
UID:10000183-1770037200-1770055200@www.rundschau-medien.at
SUMMARY:Flohmarkt
DESCRIPTION:Die Behindertenhilfe Krieglach betreibt den größten ständigen Flohmarkt im Mürztal. Mit dem Erlös werden behinderte\, kranke und arme Menschen unterstützt.
URL:https://www.rundschau-medien.at/dil/flohmarkt/2026-02-02/
LOCATION:Behindertenhilfe Krieglach\, Grazer Straße 79\, Krieglach\, 8670
CATEGORIES:Hobby/Freizeit,Markt
END:VEVENT
BEGIN:VEVENT
DTSTART;TZID=Europe/Vienna:20260202T180000
DTEND;TZID=Europe/Vienna:20260202T180000
DTSTAMP:20260419T235255
CREATED:20260122T101219Z
LAST-MODIFIED:20260122T101219Z
UID:10000474-1770055200-1770055200@www.rundschau-medien.at
SUMMARY:Vorspielstunde
DESCRIPTION:Mit der Schlagzeugklasse Klaus Fürstner
URL:https://www.rundschau-medien.at/dil/vorspielstunde/
LOCATION:Musikschule Mariazell
CATEGORIES:Konzert
END:VEVENT
BEGIN:VEVENT
DTSTART;TZID=Europe/Vienna:20260203T070000
DTEND;TZID=Europe/Vienna:20260203T120000
DTSTAMP:20260419T235255
CREATED:20260120T150607Z
LAST-MODIFIED:20260121T110910Z
UID:10000453-1770102000-1770120000@www.rundschau-medien.at
SUMMARY:Bauernmarkt
DESCRIPTION:
URL:https://www.rundschau-medien.at/dil/bauernmarkt-3/
LOCATION:Kirchplatz Leoben
CATEGORIES:Markt
END:VEVENT
BEGIN:VEVENT
DTSTART;TZID=Europe/Vienna:20260203T103000
DTEND;TZID=Europe/Vienna:20260203T103000
DTSTAMP:20260419T235255
CREATED:20260122T101424Z
LAST-MODIFIED:20260122T101424Z
UID:10000475-1770114600-1770114600@www.rundschau-medien.at
SUMMARY:Führung durch das Heimathaus
DESCRIPTION:
URL:https://www.rundschau-medien.at/dil/fuehrung-durch-das-heimathaus/
LOCATION:Heimathaus Mariazell
CATEGORIES:Kultur
END:VEVENT
BEGIN:VEVENT
DTSTART;TZID=Europe/Vienna:20260203T140000
DTEND;TZID=Europe/Vienna:20260203T140000
DTSTAMP:20260419T235255
CREATED:20260112T132819Z
LAST-MODIFIED:20260121T110909Z
UID:10000315-1770127200-1770127200@www.rundschau-medien.at
SUMMARY:Faschingsball
DESCRIPTION:Eine Veranstaltung des Seniorenreferats Krieglach.
URL:https://www.rundschau-medien.at/dil/faschingsball/
LOCATION:Veranstaltungszentrum Krieglach
CATEGORIES:Gesellschaft
END:VEVENT
BEGIN:VEVENT
DTSTART;TZID=Europe/Vienna:20260203T160000
DTEND;TZID=Europe/Vienna:20260203T173000
DTSTAMP:20260419T235256
CREATED:20260120T150729Z
LAST-MODIFIED:20260121T110909Z
UID:10000454-1770134400-1770139800@www.rundschau-medien.at
SUMMARY:Literaturtee
DESCRIPTION:
URL:https://www.rundschau-medien.at/dil/literaturtee/
LOCATION:Stadtbücherei Mürzzuschlag
CATEGORIES:Lesung
END:VEVENT
BEGIN:VEVENT
DTSTART;TZID=Europe/Vienna:20260203T160000
DTEND;TZID=Europe/Vienna:20260203T190000
DTSTAMP:20260419T235256
CREATED:20260122T072302Z
LAST-MODIFIED:20260122T073036Z
UID:10000469-1770134400-1770145200@www.rundschau-medien.at
SUMMARY:Blutspenden
DESCRIPTION:
URL:https://www.rundschau-medien.at/dil/blutspenden/
LOCATION:Mittelschule Strallegg
CATEGORIES:Gesundheit
END:VEVENT
BEGIN:VEVENT
DTSTART;TZID=Europe/Vienna:20260203T180000
DTEND;TZID=Europe/Vienna:20260203T180000
DTSTAMP:20260419T235256
CREATED:20260120T150850Z
LAST-MODIFIED:20260121T110908Z
UID:10000455-1770141600-1770141600@www.rundschau-medien.at
SUMMARY:Chinesisches Neujahrskonzert
DESCRIPTION:
URL:https://www.rundschau-medien.at/dil/chinesisches-neujahrskonzert/
LOCATION:Stadtsaal Mürzzuschlag
CATEGORIES:Konzert
END:VEVENT
BEGIN:VEVENT
DTSTART;TZID=Europe/Vienna:20260203T180000
DTEND;TZID=Europe/Vienna:20260203T180000
DTSTAMP:20260419T235256
CREATED:20260122T101539Z
LAST-MODIFIED:20260122T101539Z
UID:10000476-1770141600-1770141600@www.rundschau-medien.at
SUMMARY:Vorspielstunde
DESCRIPTION:Mit den Blechbläserklassen Hannes Haider und Peter Vami
URL:https://www.rundschau-medien.at/dil/vorspielstunde-2/
LOCATION:Musikschule Mariazell
CATEGORIES:Konzert
END:VEVENT
BEGIN:VEVENT
DTSTART;TZID=Europe/Vienna:20260203T190000
DTEND;TZID=Europe/Vienna:20260203T190000
DTSTAMP:20260419T235256
CREATED:20260112T132701Z
LAST-MODIFIED:20260121T110908Z
UID:10000328-1770145200-1770145200@www.rundschau-medien.at
SUMMARY:"Erlebnis Kino"
DESCRIPTION:Spezial-Filmabend.
URL:https://www.rundschau-medien.at/dil/erlebnis-kino/
LOCATION:Filmklublokal Volksschule Redfeld\, Kapfenberg
CATEGORIES:Gesellschaft,Kultur
END:VEVENT
BEGIN:VEVENT
DTSTART;TZID=Europe/Vienna:20260204T060000
DTEND;TZID=Europe/Vienna:20260204T120000
DTSTAMP:20260419T235256
CREATED:20260114T143951Z
LAST-MODIFIED:20260121T110934Z
UID:10000271-1770184800-1770206400@www.rundschau-medien.at
SUMMARY:Brucker Wochenmarkt
DESCRIPTION:Vielfältige Produkte der regionalen BäuerInnen und ProduzentInnen.
URL:https://www.rundschau-medien.at/dil/brucker-wochenmarkt/2026-02-04/
LOCATION:Hauptplatz Bruck an der Mur
CATEGORIES:Kulinarik,Markt
END:VEVENT
END:VCALENDAR