BEGIN:VCALENDAR
VERSION:2.0
PRODID:-//Obersteirische Rundschau - ECPv6.15.20//NONSGML v1.0//EN
CALSCALE:GREGORIAN
METHOD:PUBLISH
X-ORIGINAL-URL:https://www.rundschau-medien.at
X-WR-CALDESC:Veranstaltungen für Obersteirische Rundschau
REFRESH-INTERVAL;VALUE=DURATION:PT1H
X-Robots-Tag:noindex
X-PUBLISHED-TTL:PT1H
BEGIN:VTIMEZONE
TZID:Europe/Vienna
BEGIN:DAYLIGHT
TZOFFSETFROM:+0100
TZOFFSETTO:+0200
TZNAME:CEST
DTSTART:20250330T010000
END:DAYLIGHT
BEGIN:STANDARD
TZOFFSETFROM:+0200
TZOFFSETTO:+0100
TZNAME:CET
DTSTART:20251026T010000
END:STANDARD
BEGIN:DAYLIGHT
TZOFFSETFROM:+0100
TZOFFSETTO:+0200
TZNAME:CEST
DTSTART:20260329T010000
END:DAYLIGHT
BEGIN:STANDARD
TZOFFSETFROM:+0200
TZOFFSETTO:+0100
TZNAME:CET
DTSTART:20261025T010000
END:STANDARD
BEGIN:DAYLIGHT
TZOFFSETFROM:+0100
TZOFFSETTO:+0200
TZNAME:CEST
DTSTART:20270328T010000
END:DAYLIGHT
BEGIN:STANDARD
TZOFFSETFROM:+0200
TZOFFSETTO:+0100
TZNAME:CET
DTSTART:20271031T010000
END:STANDARD
END:VTIMEZONE
BEGIN:VEVENT
DTSTART;TZID=Europe/Vienna:20260129T180000
DTEND;TZID=Europe/Vienna:20260129T180000
DTSTAMP:20260421T164916
CREATED:20251226T113357Z
LAST-MODIFIED:20260121T110932Z
UID:10000131-1769709600-1769709600@www.rundschau-medien.at
SUMMARY:Liegekonzert
DESCRIPTION:Eine betont entspannte Veranstaltung der Musikschule Eisenerz.
URL:https://www.rundschau-medien.at/dil/liegekonzert/
LOCATION:Musikschule Eisenerz
CATEGORIES:Konzert,Kultur
END:VEVENT
BEGIN:VEVENT
DTSTART;TZID=Europe/Vienna:20260129T180000
DTEND;TZID=Europe/Vienna:20260129T180000
DTSTAMP:20260421T164916
CREATED:20260114T143354Z
LAST-MODIFIED:20260121T110931Z
UID:10000247-1769709600-1769709600@www.rundschau-medien.at
SUMMARY:Nordic-Walking-Runde
DESCRIPTION:Info und Anmeldung unter 0681/10300608.
URL:https://www.rundschau-medien.at/dil/nordic-walking-runde/2026-01-29/
LOCATION:Funcourt Spital am Semmering
CATEGORIES:Gesundheit,Hobby/Freizeit
END:VEVENT
BEGIN:VEVENT
DTSTART;TZID=Europe/Vienna:20260129T190000
DTEND;TZID=Europe/Vienna:20260129T190000
DTSTAMP:20260421T164916
CREATED:20260120T141845Z
LAST-MODIFIED:20260121T112039Z
UID:10000442-1769713200-1769713200@www.rundschau-medien.at
SUMMARY:Lesung mit Dirk Stermann
DESCRIPTION:Am Donnerstag\, dem 29. Jänner\, ist Dirk Stermann für eine Lesung im Kunsthaus Mürzzuschlag zu Gast. Der Kabarettist und TV-Moderator präsentiert dabei sein neues im Rowohlt Verlag erschienenes Buch „Die Republik der Irren“. Beginn der Veranstaltung ist um 19 Uhr. \nFoto: Foris
URL:https://www.rundschau-medien.at/dil/lesung-mit-dirk-stermann/
LOCATION:Kunsthaus Mürzzuschlag
CATEGORIES:Lesung
ATTACH;FMTTYPE=image/webp:https://www.rundschau-medien.at/wp-content/uploads/2026/01/Muerzzuschlag-Lesung-Sterman-Foris.webp
END:VEVENT
BEGIN:VEVENT
DTSTART;TZID=Europe/Vienna:20260129T190000
DTEND;TZID=Europe/Vienna:20260129T190000
DTSTAMP:20260421T164916
CREATED:20260120T144045Z
LAST-MODIFIED:20260121T110930Z
UID:10000444-1769713200-1769713200@www.rundschau-medien.at
SUMMARY:Workshop "Tango Argentino"
DESCRIPTION:Praktika für Tangotänzer\, Info unter 0664/1681189
URL:https://www.rundschau-medien.at/dil/workshop-tango-argentino/
LOCATION:Gute-Geschichte-Raum\, ECE Kapfenberg
CATEGORIES:Hobby/Freizeit
END:VEVENT
BEGIN:VEVENT
DTSTART;TZID=Europe/Vienna:20260129T193000
DTEND;TZID=Europe/Vienna:20260129T193000
DTSTAMP:20260421T164916
CREATED:20260112T130608Z
LAST-MODIFIED:20260121T110930Z
UID:10000134-1769715000-1769715000@www.rundschau-medien.at
SUMMARY:"Höhepunkte"
DESCRIPTION:Kabarett mit Barbara Balldini.
URL:https://www.rundschau-medien.at/dil/hoehepunkte/
LOCATION:Live Congress Leoben
CATEGORIES:Kabarett,Kultur
END:VEVENT
BEGIN:VEVENT
DTSTART;TZID=Europe/Vienna:20260129T193000
DTEND;TZID=Europe/Vienna:20260129T193000
DTSTAMP:20260421T164916
CREATED:20260112T130715Z
LAST-MODIFIED:20260121T110929Z
UID:10000135-1769715000-1769715000@www.rundschau-medien.at
SUMMARY:"Und wenn wir alle zusammenziehen?"
DESCRIPTION:Theater.
URL:https://www.rundschau-medien.at/dil/und-wenn-wir-alle-zusammenziehen/
LOCATION:Stadttheater Leoben
CATEGORIES:Kultur,Theater
END:VEVENT
BEGIN:VEVENT
DTSTART;TZID=Europe/Vienna:20260130T070000
DTEND;TZID=Europe/Vienna:20260130T120000
DTSTAMP:20260421T164916
CREATED:20260120T144401Z
LAST-MODIFIED:20260121T110929Z
UID:10000445-1769756400-1769774400@www.rundschau-medien.at
SUMMARY:Bauernmarkt
DESCRIPTION:
URL:https://www.rundschau-medien.at/dil/bauernmarkt-2/
LOCATION:Kirchplatz Leoben
CATEGORIES:Markt
END:VEVENT
BEGIN:VEVENT
DTSTART;TZID=Europe/Vienna:20260130T130000
DTEND;TZID=Europe/Vienna:20260130T130000
DTSTAMP:20260421T164916
CREATED:20260120T144519Z
LAST-MODIFIED:20260121T110928Z
UID:10000446-1769778000-1769778000@www.rundschau-medien.at
SUMMARY:Taferlschießen
DESCRIPTION:
URL:https://www.rundschau-medien.at/dil/taferlschiessen/
LOCATION:Gasthaus zur Weinperle Mariazell
CATEGORIES:Hobby/Freizeit
END:VEVENT
BEGIN:VEVENT
DTSTART;TZID=Europe/Vienna:20260130T130000
DTEND;TZID=Europe/Vienna:20260130T180000
DTSTAMP:20260421T164916
CREATED:20260114T142330Z
LAST-MODIFIED:20260121T110934Z
UID:10000182-1769778000-1769796000@www.rundschau-medien.at
SUMMARY:Flohmarkt
DESCRIPTION:Die Behindertenhilfe Krieglach betreibt den größten ständigen Flohmarkt im Mürztal. Mit dem Erlös werden behinderte\, kranke und arme Menschen unterstützt.
URL:https://www.rundschau-medien.at/dil/flohmarkt/2026-01-30/
LOCATION:Behindertenhilfe Krieglach\, Grazer Straße 79\, Krieglach\, 8670
CATEGORIES:Hobby/Freizeit,Markt
END:VEVENT
BEGIN:VEVENT
DTSTART;TZID=Europe/Vienna:20260130T150000
DTEND;TZID=Europe/Vienna:20260130T150000
DTSTAMP:20260421T164916
CREATED:20260112T131308Z
LAST-MODIFIED:20260121T110927Z
UID:10000046-1769785200-1769785200@www.rundschau-medien.at
SUMMARY:"Oma\, Opa & Co lesen vor"
DESCRIPTION:Kinderlesung.
URL:https://www.rundschau-medien.at/dil/oma-opa-co-lesen-vor/
LOCATION:Gemeindebücherei Krieglach
CATEGORIES:Lesung
END:VEVENT
BEGIN:VEVENT
DTSTART;TZID=Europe/Vienna:20260130T160000
DTEND;TZID=Europe/Vienna:20260130T160000
DTSTAMP:20260421T164916
CREATED:20260112T131121Z
LAST-MODIFIED:20260121T110927Z
UID:10000045-1769788800-1769788800@www.rundschau-medien.at
SUMMARY:Party für Menschen mit Handicap
DESCRIPTION:
URL:https://www.rundschau-medien.at/dil/party-fuer-menschen-mit-handicap/
LOCATION:Gute-Geschichte-Raum\, ECE Kapfenberg
CATEGORIES:Gesellschaft
END:VEVENT
BEGIN:VEVENT
DTSTART;TZID=Europe/Vienna:20260130T163000
DTEND;TZID=Europe/Vienna:20260130T163000
DTSTAMP:20260421T164916
CREATED:20251226T113947Z
LAST-MODIFIED:20260121T110926Z
UID:10000318-1769790600-1769790600@www.rundschau-medien.at
SUMMARY:Die Kleine Meerjungfrau
DESCRIPTION:Kindermusical.
URL:https://www.rundschau-medien.at/dil/die-kleine-meerjungfrau/
LOCATION:Live Congress Leoben
CATEGORIES:Kultur
END:VEVENT
BEGIN:VEVENT
DTSTART;TZID=Europe/Vienna:20260130T180000
DTEND;TZID=Europe/Vienna:20260130T180000
DTSTAMP:20260421T164916
CREATED:20251226T113659Z
LAST-MODIFIED:20260121T110926Z
UID:10000319-1769796000-1769796000@www.rundschau-medien.at
SUMMARY:Narrenkabarett
DESCRIPTION:
URL:https://www.rundschau-medien.at/dil/narrenkabarett/
LOCATION:Innerberger Gewerkschaftshaus Eisenerz
CATEGORIES:Gesellschaft,Kultur
END:VEVENT
BEGIN:VEVENT
DTSTART;TZID=Europe/Vienna:20260130T180000
DTEND;TZID=Europe/Vienna:20260130T180000
DTSTAMP:20260421T164916
CREATED:20260112T130954Z
LAST-MODIFIED:20260121T110925Z
UID:10000320-1769796000-1769796000@www.rundschau-medien.at
SUMMARY:"Soundscapes"
DESCRIPTION:Konzert mit dem Pop-Orchester der Musikschule.
URL:https://www.rundschau-medien.at/dil/soundscapes/
LOCATION:Stadtsaal Bruck an der Mur
CATEGORIES:Konzert
END:VEVENT
BEGIN:VEVENT
DTSTART;TZID=Europe/Vienna:20260130T180000
DTEND;TZID=Europe/Vienna:20260130T180000
DTSTAMP:20260421T164916
CREATED:20260119T132626Z
LAST-MODIFIED:20260121T112604Z
UID:10000334-1769796000-1769796000@www.rundschau-medien.at
SUMMARY:Christian Wehrschütz zu Gast
DESCRIPTION:Am Freitag\, dem 30. Jänner\, ist Christian Wehrschütz für eine Lesung im Kultursaal der Volksschule St. Peter-Freienstein zu Gast. Der renommierte Journalist und langjährige Auslandskorrespondent präsentiert dabei sein neues Buch „Frontlinien – 25 Jahre zwischen Krise\, Krieg und Hoffnung“. Neben seinen persönlichen Erfahrungen beleuchtet Wehrschütz darin auch politische Hintergründe sowie menschliche Schicksale. Beginn der Veranstaltung ist um 18 Uhr\, im Anschluss an die Lesung besteht die Möglichkeit zum Gespräch mit dem Autor. Als Eintritt gilt eine freie Spende. \nFoto: C. Stadler/Bwag
URL:https://www.rundschau-medien.at/dil/christian-wehrschuetz-zu-gast/
LOCATION:Volksschule St. Peter-Freienstein
CATEGORIES:Lesung
ATTACH;FMTTYPE=image/webp:https://www.rundschau-medien.at/wp-content/uploads/2026/01/Christian-Wehrschuetz-C-StadlerBwag.webp
END:VEVENT
BEGIN:VEVENT
DTSTART;TZID=Europe/Vienna:20260130T190000
DTEND;TZID=Europe/Vienna:20260130T190000
DTSTAMP:20260421T164916
CREATED:20260112T131612Z
LAST-MODIFIED:20260121T110923Z
UID:10000321-1769799600-1769799600@www.rundschau-medien.at
SUMMARY:"Neues Bahnzeitalter im Süden"
DESCRIPTION:„Akademisches Wirtshaus“ zu Koralmbahn und Semmeringbasistunnel. Mit Klaus Schneider\, Gerhard Gobiet\, Siegfried Stumpf und Oliver Pokorny.
URL:https://www.rundschau-medien.at/dil/neues-bahnzeitalter-im-sueden/
LOCATION:Kunsthaus Mürzzuschlag
CATEGORIES:Gesellschaft,Service/Info
END:VEVENT
BEGIN:VEVENT
DTSTART;TZID=Europe/Vienna:20260131T060000
DTEND;TZID=Europe/Vienna:20260131T120000
DTSTAMP:20260421T164916
CREATED:20260114T143951Z
LAST-MODIFIED:20260121T110934Z
UID:10000270-1769839200-1769860800@www.rundschau-medien.at
SUMMARY:Brucker Wochenmarkt
DESCRIPTION:Vielfältige Produkte der regionalen BäuerInnen und ProduzentInnen.
URL:https://www.rundschau-medien.at/dil/brucker-wochenmarkt/2026-01-31/
LOCATION:Hauptplatz Bruck an der Mur
CATEGORIES:Kulinarik,Markt
END:VEVENT
BEGIN:VEVENT
DTSTART;TZID=Europe/Vienna:20260131T080000
DTEND;TZID=Europe/Vienna:20260131T080000
DTSTAMP:20260421T164916
CREATED:20251226T114417Z
LAST-MODIFIED:20260121T110922Z
UID:10000322-1769846400-1769846400@www.rundschau-medien.at
SUMMARY:Schneeschuhwanderung
DESCRIPTION:Mit den Naturfreunden\, Treffpunkt Dorfplatz Mürzhofen\, Info und Anmeldung unter Tel. 0677/61937748.
URL:https://www.rundschau-medien.at/dil/schneeschuhwanderung/
LOCATION:Dorfplatz Mürzhofen\, Kindberg
CATEGORIES:Sport
END:VEVENT
BEGIN:VEVENT
DTSTART;TZID=Europe/Vienna:20260131T130000
DTEND;TZID=Europe/Vienna:20260131T130000
DTSTAMP:20260421T164916
CREATED:20260120T145552Z
LAST-MODIFIED:20260121T110922Z
UID:10000450-1769864400-1769864400@www.rundschau-medien.at
SUMMARY:Taferlschießen
DESCRIPTION:
URL:https://www.rundschau-medien.at/dil/taferlschiessen-2/
LOCATION:Gasthaus zur Weinperle Mariazell
CATEGORIES:Hobby/Freizeit
END:VEVENT
BEGIN:VEVENT
DTSTART;TZID=Europe/Vienna:20260131T140000
DTEND;TZID=Europe/Vienna:20260131T140000
DTSTAMP:20260421T164916
CREATED:20251226T114457Z
LAST-MODIFIED:20260121T110921Z
UID:10000136-1769868000-1769868000@www.rundschau-medien.at
SUMMARY:Jugendstunden
DESCRIPTION:Heimstunden der Pfadfinder Langenwang.
URL:https://www.rundschau-medien.at/dil/jugendstunden-3/2026-01-31/
LOCATION:Pfadfinderheim Langenwang
CATEGORIES:Hobby/Freizeit,Kinder/Jugend
END:VEVENT
BEGIN:VEVENT
DTSTART;TZID=Europe/Vienna:20260131T140000
DTEND;TZID=Europe/Vienna:20260131T140000
DTSTAMP:20260421T164916
CREATED:20260120T145456Z
LAST-MODIFIED:20260121T110919Z
UID:10000449-1769868000-1769868000@www.rundschau-medien.at
SUMMARY:Preisschnapsen
DESCRIPTION:
URL:https://www.rundschau-medien.at/dil/preisschnapsen/
LOCATION:Gasthaus Stocker Krieglach
CATEGORIES:Hobby/Freizeit
END:VEVENT
BEGIN:VEVENT
DTSTART;TZID=Europe/Vienna:20260131T150000
DTEND;TZID=Europe/Vienna:20260131T150000
DTSTAMP:20260421T164916
CREATED:20260112T132359Z
LAST-MODIFIED:20260121T110917Z
UID:10000323-1769871600-1769871600@www.rundschau-medien.at
SUMMARY:"Der Hang zur Geometrie" – Führung
DESCRIPTION:KuratorInnenführung durch die Ausstellung.
URL:https://www.rundschau-medien.at/dil/der-hang-zur-geometrie-fuehrung/
LOCATION:Kunsthaus Mürzzuschlag
CATEGORIES:Kultur
END:VEVENT
BEGIN:VEVENT
DTSTART;TZID=Europe/Vienna:20260131T170000
DTEND;TZID=Europe/Vienna:20260131T170000
DTSTAMP:20260421T164916
CREATED:20251226T114125Z
LAST-MODIFIED:20260121T110916Z
UID:10000324-1769878800-1769878800@www.rundschau-medien.at
SUMMARY:Spieleabend
DESCRIPTION:
URL:https://www.rundschau-medien.at/dil/spieleabend-2/
LOCATION:Ludothek Stadtbücherei Bruck an der Mur
CATEGORIES:Hobby/Freizeit
END:VEVENT
BEGIN:VEVENT
DTSTART;TZID=Europe/Vienna:20260131T170000
DTEND;TZID=Europe/Vienna:20260131T170000
DTSTAMP:20260421T164916
CREATED:20260112T131921Z
LAST-MODIFIED:20260121T110916Z
UID:10000325-1769878800-1769878800@www.rundschau-medien.at
SUMMARY:"Böhmischer Auftakt"
DESCRIPTION:Konzert mit der Mürztaler Böhmischen.
URL:https://www.rundschau-medien.at/dil/boehmischer-auftakt/
LOCATION:Volkshaus Langenwang
CATEGORIES:Konzert
END:VEVENT
BEGIN:VEVENT
DTSTART;TZID=Europe/Vienna:20260131T180000
DTEND;TZID=Europe/Vienna:20260131T180000
DTSTAMP:20260421T164916
CREATED:20251226T114227Z
LAST-MODIFIED:20260121T110915Z
UID:10000326-1769882400-1769882400@www.rundschau-medien.at
SUMMARY:Narrenkabarett
DESCRIPTION:
URL:https://www.rundschau-medien.at/dil/narrenkabarett-2/
LOCATION:Innerberger Gewerkschaftshaus Eisenerz
CATEGORIES:Gesellschaft,Kabarett
END:VEVENT
BEGIN:VEVENT
DTSTART;TZID=Europe/Vienna:20260131T200000
DTEND;TZID=Europe/Vienna:20260131T200000
DTSTAMP:20260421T164916
CREATED:20260112T131801Z
LAST-MODIFIED:20260121T110915Z
UID:10000048-1769889600-1769889600@www.rundschau-medien.at
SUMMARY:Ball der Bauern und Jäger
DESCRIPTION:
URL:https://www.rundschau-medien.at/dil/ball-der-bauern-und-jaeger/
LOCATION:Aidora-Eventcenter Oberaich\, Bruck an der Mur
CATEGORIES:Gesellschaft
END:VEVENT
BEGIN:VEVENT
DTSTART;TZID=Europe/Vienna:20260131T200000
DTEND;TZID=Europe/Vienna:20260131T200000
DTSTAMP:20260421T164916
CREATED:20260112T132018Z
LAST-MODIFIED:20260121T110915Z
UID:10000047-1769889600-1769889600@www.rundschau-medien.at
SUMMARY:Jagaball
DESCRIPTION:
URL:https://www.rundschau-medien.at/dil/jagaball/
LOCATION:Volksheim Gußwerk\, Mariazell
CATEGORIES:Gesellschaft
END:VEVENT
BEGIN:VEVENT
DTSTART;TZID=Europe/Vienna:20260131T200000
DTEND;TZID=Europe/Vienna:20260131T200000
DTSTAMP:20260421T164916
CREATED:20260112T132512Z
LAST-MODIFIED:20260121T110913Z
UID:10000049-1769889600-1769889600@www.rundschau-medien.at
SUMMARY:Feuerwehrball
DESCRIPTION:
URL:https://www.rundschau-medien.at/dil/feuerwehrball/
LOCATION:Mehrzweckhalle Trofaiach
CATEGORIES:Gesellschaft
END:VEVENT
BEGIN:VEVENT
DTSTART;TZID=Europe/Vienna:20260131T200000
DTEND;TZID=Europe/Vienna:20260131T200000
DTSTAMP:20260421T164916
CREATED:20260115T133753Z
LAST-MODIFIED:20260121T110913Z
UID:10000333-1769889600-1769889600@www.rundschau-medien.at
SUMMARY:61. Auflage des Bauernballs
DESCRIPTION:Zum 61. Mal findet am Samstag\, dem 31. Jänner\, in der Festhalle Parschlug in Kapfenberg der Bauernball statt. Die festliche Eröffnung erfolgt um 20 Uhr mit einer Polonaise der Landjugend\, anschließend sorgen die Stoariegler für Tanzmusik und Stimmung. Eine Disco im Keller und ein Glückshafen mit bäuerlichen Spezialitäten ergänzen das Programm. Als Eintritt gilt eine freie Spende\, Tischreservierungen sind unter Tel. 0676/5601986 möglich. \nFoto: Ballkomitee
URL:https://www.rundschau-medien.at/dil/61-auflage-des-bauernballs/
LOCATION:Festhalle Parschlug Kapfenberg
CATEGORIES:Gesellschaft
ATTACH;FMTTYPE=image/webp:https://www.rundschau-medien.at/wp-content/uploads/2026/01/Kapfenberg-Bauernball.webp
END:VEVENT
BEGIN:VEVENT
DTSTART;TZID=Europe/Vienna:20260131T200000
DTEND;TZID=Europe/Vienna:20260131T200000
DTSTAMP:20260421T164916
CREATED:20260120T145143Z
LAST-MODIFIED:20260121T110912Z
UID:10000447-1769889600-1769889600@www.rundschau-medien.at
SUMMARY:Bauernball
DESCRIPTION:
URL:https://www.rundschau-medien.at/dil/bauernball/
LOCATION:Volkshaus Kindberg
CATEGORIES:Gesellschaft
END:VEVENT
END:VCALENDAR