BEGIN:VCALENDAR
VERSION:2.0
PRODID:-//Obersteirische Rundschau - ECPv6.15.20//NONSGML v1.0//EN
CALSCALE:GREGORIAN
METHOD:PUBLISH
X-ORIGINAL-URL:https://www.rundschau-medien.at
X-WR-CALDESC:Veranstaltungen für Obersteirische Rundschau
REFRESH-INTERVAL;VALUE=DURATION:PT1H
X-Robots-Tag:noindex
X-PUBLISHED-TTL:PT1H
BEGIN:VTIMEZONE
TZID:Europe/Vienna
BEGIN:DAYLIGHT
TZOFFSETFROM:+0100
TZOFFSETTO:+0200
TZNAME:CEST
DTSTART:20250330T010000
END:DAYLIGHT
BEGIN:STANDARD
TZOFFSETFROM:+0200
TZOFFSETTO:+0100
TZNAME:CET
DTSTART:20251026T010000
END:STANDARD
BEGIN:DAYLIGHT
TZOFFSETFROM:+0100
TZOFFSETTO:+0200
TZNAME:CEST
DTSTART:20260329T010000
END:DAYLIGHT
BEGIN:STANDARD
TZOFFSETFROM:+0200
TZOFFSETTO:+0100
TZNAME:CET
DTSTART:20261025T010000
END:STANDARD
BEGIN:DAYLIGHT
TZOFFSETFROM:+0100
TZOFFSETTO:+0200
TZNAME:CEST
DTSTART:20270328T010000
END:DAYLIGHT
BEGIN:STANDARD
TZOFFSETFROM:+0200
TZOFFSETTO:+0100
TZNAME:CET
DTSTART:20271031T010000
END:STANDARD
END:VTIMEZONE
BEGIN:VEVENT
DTSTART;TZID=Europe/Vienna:20260529T140000
DTEND;TZID=Europe/Vienna:20260529T140000
DTSTAMP:20260421T193735
CREATED:20260421T120005Z
LAST-MODIFIED:20260421T120005Z
UID:10002017-1780063200-1780063200@www.rundschau-medien.at
SUMMARY:Bergstadtfest
DESCRIPTION:
URL:https://www.rundschau-medien.at/dil/bergstadtfest/2026-05-29/
LOCATION:Hauptplatz Leoben
CATEGORIES:Gesellschaft
END:VEVENT
BEGIN:VEVENT
DTSTART;TZID=Europe/Vienna:20260530T090000
DTEND;TZID=Europe/Vienna:20260530T090000
DTSTAMP:20260421T193735
CREATED:20260421T120005Z
LAST-MODIFIED:20260421T120005Z
UID:10002018-1780131600-1780131600@www.rundschau-medien.at
SUMMARY:Bergstadtfest
DESCRIPTION:
URL:https://www.rundschau-medien.at/dil/bergstadtfest/2026-05-30/
LOCATION:Hauptplatz Leoben
CATEGORIES:Gesellschaft
END:VEVENT
BEGIN:VEVENT
DTSTART;TZID=Europe/Vienna:20260531T100000
DTEND;TZID=Europe/Vienna:20260531T100000
DTSTAMP:20260421T193735
CREATED:20260421T120005Z
LAST-MODIFIED:20260421T120005Z
UID:10002019-1780221600-1780221600@www.rundschau-medien.at
SUMMARY:Bergstadtfest
DESCRIPTION:
URL:https://www.rundschau-medien.at/dil/bergstadtfest/2026-05-31/
LOCATION:Hauptplatz Leoben
CATEGORIES:Gesellschaft
END:VEVENT
END:VCALENDAR